Workbook
Name Industry: Validations!$B$3:$B$22
Name Level: Validations!$C$3:$C$6
Name Type: Notes!$B$12:$B$24

Sheet BVEM Scorecard
A1: BVEM | B1: Company Name | C1: Project | D1: Public Bid Number | E1: Commercial Structure | H1: Training Programs | M1: Wages and Benefits | R1: Career Opportunities | W1: Labor Source
F2: Type of Project (Wind, Solar, Hydrogen, Hydro, Battery, Transmission, Coal, Natural Gas) | G2: Total Value | H2: General Responses | I2: General Completeness | J2: Craft Responses | K2: Craft Completeness | L2: TOTAL | M2: General Responses | N2: General Completeness | O2: Craft Responses | P2: Craft Completeness | Q2: TOTAL | R2: General Responses | S2: General Completeness | T2: Craft Responses | U2: Craft Completeness | V2: TOTAL | W2: General Responses | X2: General Completeness | Y2: Craft Responses | Z2: Craft Completeness | AA2: TOTAL
A3: Record | G3: =SUM(L3,Q3,V3,AA3) -> 1 | H3: 0.2 | I3: 0.2 | J3: 0.3 | K3: 0.3 | L3: 0.25 | M3: 0.2 | N3: 0.2 | O3: 0.3 | P3: 0.3 | Q3: 0.25 | R3: 0.2 | S3: 0.2 | T3: 0.3 | U3: 0.3 | V3: 0.25 | W3: 0.2 | X3: 0.2 | Y3: 0.3 | Z3: 0.3 | AA3: 0.25
A4: 1 | B4: Example
A5: 2 | D5: 11 | E5: Own | F5: ='Bid List'!G7 -> Gas | G5: =$L$3*L5+$Q$3*Q5+$V$3*V5+$AA$3*AA5 -> 0 | H5: ='Training Programs'!F6 -> 0 | I5: ='Training Programs'!G6 -> 0 | J5: ='Training Programs'!H6 -> 0 | K5: ='Training Programs'!I6 -> 0 | L5: =((H$3/1*H5)+(I$3/1*I5)+(J$3/1*J5)+(K$3/1*K5)) -> 0 | M5: ='Wages and Benefits'!F6 -> 0 | N5: ='Wages and Benefits'!G6 -> 0 | O5: ='Wages and Benefits'!H6 -> 0 | P5: ='Wages and Benefits'!I6 -> 0 | Q5: =((M$3/1*M5)+(N$3/1*N5)+(O$3/1*O5)+(P$3/1*P5)) -> 0 | R5: ='Career Opportunities'!F6 -> 0 | S5: ='Career Opportunities'!G6 -> 0 | T5: ='Career Opportunities'!H6 -> 0 | U5: ='Career Opportunities'!I6 -> 0 | V5: =((R$3/1*R5)+(S$3/1*S5)+(T$3/1*T5)+(U$3/1*U5)) -> 0 | W5: ='Local Workforce'!F6 -> 0 | X5: ='Local Workforce'!G6 -> 0 | Y5: ='Local Workforce'!H6 -> 0 | Z5: ='Local Workforce'!I6 -> 0 | AA5: =((W$3/1*W5)+(X$3/1*X5)+(Y$3/1*Y5)+(Z$3/1*Z5)) -> 0
A6: 3 | D6: 12 | E6: PPA | F6: ='Bid List'!G8 -> Wind | G6: =$L$3*L6+$Q$3*Q6+$V$3*V6+$AA$3*AA6 -> 0.86775008 | H6: ='Training Programs'!F7 -> 1 | I6: ='Training Programs'!G7 -> 1 | J6: ='Training Programs'!H7 -> 1 | K6: ='Training Programs'!I7 -> 1 | L6: =((H$3/1*H6)+(I$3/1*I6)+(J$3/1*J6)+(K$3/1*K6)) -> 1 | M6: ='Wages and Benefits'!F7 -> 0.8 | N6: ='Wages and Benefits'!G7 -> 0.92 | O6: ='Wages and Benefits'!H7 -> 1 | P6: ='Wages and Benefits'!I7 -> 1 | Q6: =((M$3/1*M6)+(N$3/1*N6)+(O$3/1*O6)+(P$3/1*P6)) -> 0.944 | R6: ='Career Opportunities'!F7 -> 1 | S6: ='Career Opportunities'!G7 -> 1 | T6: ='Career Opportunities'!H7 -> 1 | U6: ='Career Opportunities'!I7 -> 1 | V6: =((R$3/1*R6)+(S$3/1*S6)+(T$3/1*T6)+(U$3/1*U6)) -> 1 | W6: ='Local Workforce'!F7 -> 0.060001514 | X6: ='Local Workforce'!G7 -> 1 | Y6: ='Local Workforce'!H7 -> 0.05 | Z6: ='Local Workforce'!I7 -> 1 | AA6: =((W$3/1*W6)+(X$3/1*X6)+(Y$3/1*Y6)+(Z$3/1*Z6)) -> 0.5270003
A7: 4 | D7: 240 | E7: PPA | F7: ='Bid List'!G9 -> Wind | G7: =$L$3*L7+$Q$3*Q7+$V$3*V7+$AA$3*AA7 -> 0 | H7: ='Training Programs'!F8 -> 0 | I7: ='Training Programs'!G8 -> 0 | J7: ='Training Programs'!H8 -> 0 | K7: ='Training Programs'!I8 -> 0 | L7: =((H$3/1*H7)+(I$3/1*I7)+(J$3/1*J7)+(K$3/1*K7)) -> 0 | M7: ='Wages and Benefits'!F8 -> 0 | N7: ='Wages and Benefits'!G8 -> 0 | O7: ='Wages and Benefits'!H8 -> 0 | P7: ='Wages and Benefits'!I8 -> 0 | Q7: =((M$3/1*M7)+(N$3/1*N7)+(O$3/1*O7)+(P$3/1*P7)) -> 0 | R7: ='Career Opportunities'!F8 -> 0 | S7: ='Career Opportunities'!G8 -> 0 | T7: ='Career Opportunities'!H8 -> 0 | U7: ='Career Opportunities'!I8 -> 0 | V7: =((R$3/1*R7)+(S$3/1*S7)+(T$3/1*T7)+(U$3/1*U7)) -> 0 | W7: ='Local Workforce'!F8 -> 0 | X7: ='Local Workforce'!G8 -> 0 | Y7: ='Local Workforce'!H8 -> 0 | Z7: ='Local Workforce'!I8 -> 0 | AA7: =((W$3/1*W7)+(X$3/1*X7)+(Y$3/1*Y7)+(Z$3/1*Z7)) -> 0
A8: 5 | D8: 13 | E8: PPA | F8: ='Bid List'!G10 -> Wind | G8: =$L$3*L8+$Q$3*Q8+$V$3*V8+$AA$3*AA8 -> 0.86775008 | H8: ='Training Programs'!F9 -> 1 | I8: ='Training Programs'!G9 -> 1 | J8: ='Training Programs'!H9 -> 1 | K8: ='Training Programs'!I9 -> 1 | L8: =((H$3/1*H8)+(I$3/1*I8)+(J$3/1*J8)+(K$3/1*K8)) -> 1 | M8: ='Wages and Benefits'!F9 -> 0.8 | N8: ='Wages and Benefits'!G9 -> 0.92 | O8: ='Wages and Benefits'!H9 -> 1 | P8: ='Wages and Benefits'!I9 -> 1 | Q8: =((M$3/1*M8)+(N$3/1*N8)+(O$3/1*O8)+(P$3/1*P8)) -> 0.944 | R8: ='Career Opportunities'!F9 -> 1 | S8: ='Career Opportunities'!G9 -> 1 | T8: ='Career Opportunities'!H9 -> 1 | U8: ='Career Opportunities'!I9 -> 1 | V8: =((R$3/1*R8)+(S$3/1*S8)+(T$3/1*T8)+(U$3/1*U8)) -> 1 | W8: ='Local Workforce'!F9 -> 0.060001514 | X8: ='Local Workforce'!G9 -> 1 | Y8: ='Local Workforce'!H9 -> 0.05 | Z8: ='Local Workforce'!I9 -> 1 | AA8: =((W$3/1*W8)+(X$3/1*X8)+(Y$3/1*Y8)+(Z$3/1*Z8)) -> 0.5270003
A9: 6 | D9: 72 | E9: PPA | F9: ='Bid List'!G11 -> Wind | G9: =$L$3*L9+$Q$3*Q9+$V$3*V9+$AA$3*AA9 -> 0 | H9: ='Training Programs'!F10 -> 0 | I9: ='Training Programs'!G10 -> 0 | J9: ='Training Programs'!H10 -> 0 | K9: ='Training Programs'!I10 -> 0 | L9: =((H$3/1*H9)+(I$3/1*I9)+(J$3/1*J9)+(K$3/1*K9)) -> 0 | M9: ='Wages and Benefits'!F10 -> 0 | N9: ='Wages and Benefits'!G10 -> 0 | O9: ='Wages and Benefits'!H10 -> 0 | P9: ='Wages and Benefits'!I10 -> 0 | Q9: =((M$3/1*M9)+(N$3/1*N9)+(O$3/1*O9)+(P$3/1*P9)) -> 0 | R9: ='Career Opportunities'!F10 -> 0 | S9: ='Career Opportunities'!G10 -> 0 | T9: ='Career Opportunities'!H10 -> 0 | U9: ='Career Opportunities'!I10 -> 0 | V9: =((R$3/1*R9)+(S$3/1*S9)+(T$3/1*T9)+(U$3/1*U9)) -> 0 | W9: ='Local Workforce'!F10 -> 0 | X9: ='Local Workforce'!G10 -> 0 | Y9: ='Local Workforce'!H10 -> 0 | Z9: ='Local Workforce'!I10 -> 0 | AA9: =((W$3/1*W9)+(X$3/1*X9)+(Y$3/1*Y9)+(Z$3/1*Z9)) -> 0
A10: 7 | D10: 51 | E10: PPA | F10: ='Bid List'!G12 -> Wind | G10: =$L$3*L10+$Q$3*Q10+$V$3*V10+$AA$3*AA10 -> 0 | H10: ='Training Programs'!F11 -> 0 | I10: ='Training Programs'!G11 -> 0 | J10: ='Training Programs'!H11 -> 0 | K10: ='Training Programs'!I11 -> 0 | L10: =((H$3/1*H10)+(I$3/1*I10)+(J$3/1*J10)+(K$3/1*K10)) -> 0 | M10: ='Wages and Benefits'!F11 -> 0 | N10: ='Wages and Benefits'!G11 -> 0 | O10: ='Wages and Benefits'!H11 -> 0 | P10: ='Wages and Benefits'!I11 -> 0 | Q10: =((M$3/1*M10)+(N$3/1*N10)+(O$3/1*O10)+(P$3/1*P10)) -> 0 | R10: ='Career Opportunities'!F11 -> 0 | S10: ='Career Opportunities'!G11 -> 0 | T10: ='Career Opportunities'!H11 -> 0 | U10: ='Career Opportunities'!I11 -> 0 | V10: =((R$3/1*R10)+(S$3/1*S10)+(T$3/1*T10)+(U$3/1*U10)) -> 0 | W10: ='Local Workforce'!F11 -> 0 | X10: ='Local Workforce'!G11 -> 0 | Y10: ='Local Workforce'!H11 -> 0 | Z10: ='Local Workforce'!I11 -> 0 | AA10: =((W$3/1*W10)+(X$3/1*X10)+(Y$3/1*Y10)+(Z$3/1*Z10)) -> 0
A11: 8 | D11: 66 | E11: PPA | F11: ='Bid List'!G13 -> Wind | G11: =$L$3*L11+$Q$3*Q11+$V$3*V11+$AA$3*AA11 -> 0 | H11: ='Training Programs'!F12 -> 0 | I11: ='Training Programs'!G12 -> 0 | J11: ='Training Programs'!H12 -> 0 | K11: ='Training Programs'!I12 -> 0 | L11: =((H$3/1*H11)+(I$3/1*I11)+(J$3/1*J11)+(K$3/1*K11)) -> 0 | M11: ='Wages and Benefits'!F12 -> 0 | N11: ='Wages and Benefits'!G12 -> 0 | O11: ='Wages and Benefits'!H12 -> 0 | P11: ='Wages and Benefits'!I12 -> 0 | Q11: =((M$3/1*M11)+(N$3/1*N11)+(O$3/1*O11)+(P$3/1*P11)) -> 0 | R11: ='Career Opportunities'!F12 -> 0 | S11: ='Career Opportunities'!G12 -> 0 | T11: ='Career Opportunities'!H12 -> 0 | U11: ='Career Opportunities'!I12 -> 0 | V11: =((R$3/1*R11)+(S$3/1*S11)+(T$3/1*T11)+(U$3/1*U11)) -> 0 | W11: ='Local Workforce'!F12 -> 0 | X11: ='Local Workforce'!G12 -> 0 | Y11: ='Local Workforce'!H12 -> 0 | Z11: ='Local Workforce'!I12 -> 0 | AA11: =((W$3/1*W11)+(X$3/1*X11)+(Y$3/1*Y11)+(Z$3/1*Z11)) -> 0
A12: 9 | D12: 15 | E12: PPA | F12: ='Bid List'!G14 -> Wind + Solar + Storage | G12: =$L$3*L12+$Q$3*Q12+$V$3*V12+$AA$3*AA12 -> 0.86775008 | H12: ='Training Programs'!F13 -> 1 | I12: ='Training Programs'!G13 -> 1 | J12: ='Training Programs'!H13 -> 1 | K12: ='Training Programs'!I13 -> 1 | L12: =((H$3/1*H12)+(I$3/1*I12)+(J$3/1*J12)+(K$3/1*K12)) -> 1 | M12: ='Wages and Benefits'!F13 -> 0.8 | N12: ='Wages and Benefits'!G13 -> 0.92 | O12: ='Wages and Benefits'!H13 -> 1 | P12: ='Wages and Benefits'!I13 -> 1 | Q12: =((M$3/1*M12)+(N$3/1*N12)+(O$3/1*O12)+(P$3/1*P12)) -> 0.944 | R12: ='Career Opportunities'!F13 -> 1 | S12: ='Career Opportunities'!G13 -> 1 | T12: ='Career Opportunities'!H13 -> 1 | U12: ='Career Opportunities'!I13 -> 1 | V12: =((R$3/1*R12)+(S$3/1*S12)+(T$3/1*T12)+(U$3/1*U12)) -> 1 | W12: ='Local Workforce'!F13 -> 0.060001514 | X12: ='Local Workforce'!G13 -> 1 | Y12: ='Local Workforce'!H13 -> 0.05 | Z12: ='Local Workforce'!I13 -> 1 | AA12: =((W$3/1*W12)+(X$3/1*X12)+(Y$3/1*Y12)+(Z$3/1*Z12)) -> 0.5270003
A13: 10 | D13: 17 | E13: PPA | F13: ='Bid List'!G15 -> Wind + Solar + Storage | G13: =$L$3*L13+$Q$3*Q13+$V$3*V13+$AA$3*AA13 -> 0.86775008 | H13: ='Training Programs'!F14 -> 1 | I13: ='Training Programs'!G14 -> 1 | J13: ='Training Programs'!H14 -> 1 | K13: ='Training Programs'!I14 -> 1 | L13: =((H$3/1*H13)+(I$3/1*I13)+(J$3/1*J13)+(K$3/1*K13)) -> 1 | M13: ='Wages and Benefits'!F14 -> 0.8 | N13: ='Wages and Benefits'!G14 -> 0.92 | O13: ='Wages and Benefits'!H14 -> 1 | P13: ='Wages and Benefits'!I14 -> 1 | Q13: =((M$3/1*M13)+(N$3/1*N13)+(O$3/1*O13)+(P$3/1*P13)) -> 0.944 | R13: ='Career Opportunities'!F14 -> 1 | S13: ='Career Opportunities'!G14 -> 1 | T13: ='Career Opportunities'!H14 -> 1 | U13: ='Career Opportunities'!I14 -> 1 | V13: =((R$3/1*R13)+(S$3/1*S13)+(T$3/1*T13)+(U$3/1*U13)) -> 1 | W13: ='Local Workforce'!F14 -> 0.060001514 | X13: ='Local Workforce'!G14 -> 1 | Y13: ='Local Workforce'!H14 -> 0.05 | Z13: ='Local Workforce'!I14 -> 1 | AA13: =((W$3/1*W13)+(X$3/1*X13)+(Y$3/1*Y13)+(Z$3/1*Z13)) -> 0.5270003
A14: 11 | D14: 20 | E14: PPA | F14: ='Bid List'!G16 -> Wind + Solar + Storage | G14: =$L$3*L14+$Q$3*Q14+$V$3*V14+$AA$3*AA14 -> 0.86775008 | H14: ='Training Programs'!F15 -> 1 | I14: ='Training Programs'!G15 -> 1 | J14: ='Training Programs'!H15 -> 1 | K14: ='Training Programs'!I15 -> 1 | L14: =((H$3/1*H14)+(I$3/1*I14)+(J$3/1*J14)+(K$3/1*K14)) -> 1 | M14: ='Wages and Benefits'!F15 -> 0.8 | N14: ='Wages and Benefits'!G15 -> 0.92 | O14: ='Wages and Benefits'!H15 -> 1 | P14: ='Wages and Benefits'!I15 -> 1 | Q14: =((M$3/1*M14)+(N$3/1*N14)+(O$3/1*O14)+(P$3/1*P14)) -> 0.944 | R14: ='Career Opportunities'!F15 -> 1 | S14: ='Career Opportunities'!G15 -> 1 | T14: ='Career Opportunities'!H15 -> 1 | U14: ='Career Opportunities'!I15 -> 1 | V14: =((R$3/1*R14)+(S$3/1*S14)+(T$3/1*T14)+(U$3/1*U14)) -> 1 | W14: ='Local Workforce'!F15 -> 0.060001514 | X14: ='Local Workforce'!G15 -> 1 | Y14: ='Local Workforce'!H15 -> 0.05 | Z14: ='Local Workforce'!I15 -> 1 | AA14: =((W$3/1*W14)+(X$3/1*X14)+(Y$3/1*Y14)+(Z$3/1*Z14)) -> 0.5270003
A15: 12 | D15: 23 | E15: PPA | F15: ='Bid List'!G17 -> Wind + Solar + Storage | G15: =$L$3*L15+$Q$3*Q15+$V$3*V15+$AA$3*AA15 -> 0.86775008 | H15: ='Training Programs'!F16 -> 1 | I15: ='Training Programs'!G16 -> 1 | J15: ='Training Programs'!H16 -> 1 | K15: ='Training Programs'!I16 -> 1 | L15: =((H$3/1*H15)+(I$3/1*I15)+(J$3/1*J15)+(K$3/1*K15)) -> 1 | M15: ='Wages and Benefits'!F16 -> 0.8 | N15: ='Wages and Benefits'!G16 -> 0.92 | O15: ='Wages and Benefits'!H16 -> 1 | P15: ='Wages and Benefits'!I16 -> 1 | Q15: =((M$3/1*M15)+(N$3/1*N15)+(O$3/1*O15)+(P$3/1*P15)) -> 0.944 | R15: ='Career Opportunities'!F16 -> 1 | S15: ='Career Opportunities'!G16 -> 1 | T15: ='Career Opportunities'!H16 -> 1 | U15: ='Career Opportunities'!I16 -> 1 | V15: =((R$3/1*R15)+(S$3/1*S15)+(T$3/1*T15)+(U$3/1*U15)) -> 1 | W15: ='Local Workforce'!F16 -> 0.060001514 | X15: ='Local Workforce'!G16 -> 1 | Y15: ='Local Workforce'!H16 -> 0.05 | Z15: ='Local Workforce'!I16 -> 1 | AA15: =((W$3/1*W15)+(X$3/1*X15)+(Y$3/1*Y15)+(Z$3/1*Z15)) -> 0.5270003
A16: 13 | D16: 24 | E16: PPA | F16: ='Bid List'!G18 -> Wind + Solar + Storage | G16: =$L$3*L16+$Q$3*Q16+$V$3*V16+$AA$3*AA16 -> 0.86775008 | H16: ='Training Programs'!F17 -> 1 | I16: ='Training Programs'!G17 -> 1 | J16: ='Training Programs'!H17 -> 1 | K16: ='Training Programs'!I17 -> 1 | L16: =((H$3/1*H16)+(I$3/1*I16)+(J$3/1*J16)+(K$3/1*K16)) -> 1 | M16: ='Wages and Benefits'!F17 -> 0.8 | N16: ='Wages and Benefits'!G17 -> 0.92 | O16: ='Wages and Benefits'!H17 -> 1 | P16: ='Wages and Benefits'!I17 -> 1 | Q16: =((M$3/1*M16)+(N$3/1*N16)+(O$3/1*O16)+(P$3/1*P16)) -> 0.944 | R16: ='Career Opportunities'!F17 -> 1 | S16: ='Career Opportunities'!G17 -> 1 | T16: ='Career Opportunities'!H17 -> 1 | U16: ='Career Opportunities'!I17 -> 1 | V16: =((R$3/1*R16)+(S$3/1*S16)+(T$3/1*T16)+(U$3/1*U16)) -> 1 | W16: ='Local Workforce'!F17 -> 0.060001514 | X16: ='Local Workforce'!G17 -> 1 | Y16: ='Local Workforce'!H17 -> 0.05 | Z16: ='Local Workforce'!I17 -> 1 | AA16: =((W$3/1*W16)+(X$3/1*X16)+(Y$3/1*Y16)+(Z$3/1*Z16)) -> 0.5270003
... A243: 240 | D243: 514 | E243: PPA | F243: ='Bid List'!G245 -> Gas | G243: =$L$3*L243+$Q$3*Q243+$V$3*V243+$AA$3*AA243 -> 0.08 | H243: ='Training Programs'!F244 -> 0.8 | I243: ='Training Programs'!G244 -> 0.8 | J243: ='Training Programs'!H244 -> 0 | K243: ='Training Programs'!I244 -> 0 | L243: =((H$3/1*H243)+(I$3/1*I243)+(J$3/1*J243)+(K$3/1*K243)) -> 0.32 | M243: ='Wages and Benefits'!F244 -> 0 | N243: ='Wages and Benefits'!G244 -> 0 | O243: ='Wages and Benefits'!H244 -> 0 | P243: ='Wages and Benefits'!I244 -> 0 | Q243: =((M$3/1*M243)+(N$3/1*N243)+(O$3/1*O243)+(P$3/1*P243)) -> 0 | R243: ='Career Opportunities'!F244 -> 0 | S243: ='Career Opportunities'!G244 -> 0 | T243: ='Career Opportunities'!H244 -> 0 | U243: ='Career Opportunities'!I244 -> 0 | V243: =((R$3/1*R243)+(S$3/1*S243)+(T$3/1*T243)+(U$3/1*U243)) -> 0 | W243: ='Local Workforce'!F244 -> 0 | X243: ='Local Workforce'!G244 -> 0 | Y243: ='Local Workforce'!H244 -> 0 | Z243: ='Local Workforce'!I244 -> 0 | AA243: =((W$3/1*W243)+(X$3/1*X243)+(Y$3/1*Y243)+(Z$3/1*Z243)) -> 0
A244: 241 | D244: 517 | E244: PPA | F244: Gas | G244: =$L$3*L244+$Q$3*Q244+$V$3*V244+$AA$3*AA244 -> 0.08 | H244: 0.8 | I244: 0.8 | J244: ='Training Programs'!H245 -> 0 | K244: ='Training Programs'!I245 -> 0 | L244: =((H$3/1*H244)+(I$3/1*I244)+(J$3/1*J244)+(K$3/1*K244)) -> 0.32 | M244: ='Wages and Benefits'!F245 -> 0 | N244: ='Wages and Benefits'!G245 -> 0 | O244: ='Wages and Benefits'!H245 -> 0 | P244: ='Wages and Benefits'!I245 -> 0 | Q244: =((M$3/1*M244)+(N$3/1*N244)+(O$3/1*O244)+(P$3/1*P244)) -> 0 | R244: ='Career Opportunities'!F245 -> 0 | S244: ='Career Opportunities'!G245 -> 0 | T244: ='Career Opportunities'!H245 -> 0 | U244: ='Career Opportunities'!I245 -> 0 | V244: =((R$3/1*R244)+(S$3/1*S244)+(T$3/1*T244)+(U$3/1*U244)) -> 0 | W244: ='Local Workforce'!F245 -> 0 | X244: ='Local Workforce'!G245 -> 0 | Y244: ='Local Workforce'!H245 -> 0 | Z244: ='Local Workforce'!I245 -> 0 | AA244: =((W$3/1*W244)+(X$3/1*X244)+(Y$3/1*Y244)+(Z$3/1*Z244)) -> 0
A245: 242 | D245: 538 | E245: PPA | F245: Gas | G245: =$L$3*L245+$Q$3*Q245+$V$3*V245+$AA$3*AA245 -> 0.08 | H245: 0.8 | I245: 0.8 | J245: ='Training Programs'!H246 -> 0 | K245: ='Training Programs'!I246 -> 0 | L245: =((H$3/1*H245)+(I$3/1*I245)+(J$3/1*J245)+(K$3/1*K245)) -> 0.32 | M245: ='Wages and Benefits'!F246 -> 0 | N245: ='Wages and Benefits'!G246 -> 0 | O245: ='Wages and Benefits'!H246 -> 0 | P245: ='Wages and Benefits'!I246 -> 0 | Q245: =((M$3/1*M245)+(N$3/1*N245)+(O$3/1*O245)+(P$3/1*P245)) -> 0 | R245: ='Career Opportunities'!F246 -> 0 | S245: ='Career Opportunities'!G246 -> 0 | T245: ='Career Opportunities'!H246 -> 0 | U245: ='Career Opportunities'!I246 -> 0 | V245: =((R$3/1*R245)+(S$3/1*S245)+(T$3/1*T245)+(U$3/1*U245)) -> 0 | W245: ='Local Workforce'!F246 -> 0 | X245: ='Local Workforce'!G246 -> 0 | Y245: ='Local Workforce'!H246 -> 0 | Z245: ='Local Workforce'!I246 -> 0 | AA245: =((W$3/1*W245)+(X$3/1*X245)+(Y$3/1*Y245)+(Z$3/1*Z245)) -> 0
A246: 243 | D246: 552 | E246: PPA | F246: ='Bid List'!G248 -> Geothermal | G246: =$L$3*L246+$Q$3*Q246+$V$3*V246+$AA$3*AA246 -> 0.092666667 | H246: ='Training Programs'!F247 -> 0 | I246: ='Training Programs'!G247 -> 0 | J246: ='Training Programs'!H247 -> 0 | K246: ='Training Programs'!I247 -> 0 | L246: =((H$3/1*H246)+(I$3/1*I246)+(J$3/1*J246)+(K$3/1*K246)) -> 0 | M246: ='Wages and Benefits'!F247 -> 0.5 | N246: ='Wages and Benefits'!G247 -> 0.52 | O246: ='Wages and Benefits'!H247 -> 0 | P246: ='Wages and Benefits'!I247 -> 0 | Q246: =((M$3/1*M246)+(N$3/1*N246)+(O$3/1*O246)+(P$3/1*P246)) -> 0.204 | R246: ='Career Opportunities'!F247 -> 0 | S246: ='Career Opportunities'!G247 -> 0 | T246: ='Career Opportunities'!H247 -> 0 | U246: ='Career Opportunities'!I247 -> 0 | V246: =((R$3/1*R246)+(S$3/1*S246)+(T$3/1*T246)+(U$3/1*U246)) -> 0 | W246: ='Local Workforce'!F247 -> 0.5 | X246: ='Local Workforce'!G247 -> 0.33333333 | Y246: ='Local Workforce'!H247 -> 0 | Z246: ='Local Workforce'!I247 -> 0 | AA246: =((W$3/1*W246)+(X$3/1*X246)+(Y$3/1*Y246)+(Z$3/1*Z246)) -> 0.16666667
A247: 244 | D247: 554 | E247: PPA | F247: ='Bid List'!G249 -> Storage | G247: =$L$3*L247+$Q$3*Q247+$V$3*V247+$AA$3*AA247 -> 0 | H247: ='Training Programs'!F248 -> 0 | I247: ='Training Programs'!G248 -> 0 | J247: ='Training Programs'!H248 -> 0 | K247: ='Training Programs'!I248 -> 0 | L247: =((H$3/1*H247)+(I$3/1*I247)+(J$3/1*J247)+(K$3/1*K247)) -> 0 | M247: ='Wages and Benefits'!F248 -> 0 | N247: ='Wages and Benefits'!G248 -> 0 | O247: ='Wages and Benefits'!H248 -> 0 | P247: ='Wages and Benefits'!I248 -> 0 | Q247: =((M$3/1*M247)+(N$3/1*N247)+(O$3/1*O247)+(P$3/1*P247)) -> 0 | R247: ='Career Opportunities'!F248 -> 0 | S247: ='Career Opportunities'!G248 -> 0 | T247: ='Career Opportunities'!H248 -> 0 | U247: ='Career Opportunities'!I248 -> 0 | V247: =((R$3/1*R247)+(S$3/1*S247)+(T$3/1*T247)+(U$3/1*U247)) -> 0 | W247: ='Local Workforce'!F248 -> 0 | X247: ='Local Workforce'!G248 -> 0 | Y247: ='Local Workforce'!H248 -> 0 | Z247: ='Local Workforce'!I248 -> 0 | AA247: =((W$3/1*W247)+(X$3/1*X247)+(Y$3/1*Y247)+(Z$3/1*Z247)) -> 0
A248: 245 | D248: 555 | E248: PPA | F248: ='Bid List'!G250 -> Storage | G248: =$L$3*L248+$Q$3*Q248+$V$3*V248+$AA$3*AA248 -> 0 | H248: ='Training Programs'!F249 -> 0 | I248: ='Training Programs'!G249 -> 0 | J248: ='Training Programs'!H249 -> 0 | K248: ='Training Programs'!I249 -> 0 | L248: =((H$3/1*H248)+(I$3/1*I248)+(J$3/1*J248)+(K$3/1*K248)) -> 0 | M248: ='Wages and Benefits'!F249 -> 0 | N248: ='Wages and Benefits'!G249 -> 0 | O248: ='Wages and Benefits'!H249 -> 0 | P248: ='Wages and Benefits'!I249 -> 0 | Q248: =((M$3/1*M248)+(N$3/1*N248)+(O$3/1*O248)+(P$3/1*P248)) -> 0 | R248: ='Career Opportunities'!F249 -> 0 | S248: ='Career Opportunities'!G249 -> 0 | T248: ='Career Opportunities'!H249 -> 0 | U248: ='Career Opportunities'!I249 -> 0 | V248: =((R$3/1*R248)+(S$3/1*S248)+(T$3/1*T248)+(U$3/1*U248)) -> 0 | W248: ='Local Workforce'!F249 -> 0 | X248: ='Local Workforce'!G249 -> 0 | Y248: ='Local Workforce'!H249 -> 0 | Z248: ='Local Workforce'!I249 -> 0 | AA248: =((W$3/1*W248)+(X$3/1*X248)+(Y$3/1*Y248)+(Z$3/1*Z248)) -> 0
A249: 246 | D249: 562 | E249: PPA | F249: ='Bid List'!G251 -> Wind | G249: =$L$3*L249+$Q$3*Q249+$V$3*V249+$AA$3*AA249 -> 0 | H249: ='Training Programs'!F250 -> 0 | I249: ='Training Programs'!G250 -> 0 | J249: ='Training Programs'!H250 -> 0 | K249: ='Training Programs'!I250 -> 0 | L249: =((H$3/1*H249)+(I$3/1*I249)+(J$3/1*J249)+(K$3/1*K249)) -> 0 | M249: ='Wages and Benefits'!F250 -> 0 | N249: ='Wages and Benefits'!G250 -> 0 | O249: ='Wages and Benefits'!H250 -> 0 | P249: ='Wages and Benefits'!I250 -> 0 | Q249: =((M$3/1*M249)+(N$3/1*N249)+(O$3/1*O249)+(P$3/1*P249)) -> 0 | R249: ='Career Opportunities'!F250 -> 0 | S249: ='Career Opportunities'!G250 -> 0 | T249: ='Career Opportunities'!H250 -> 0 | U249: ='Career Opportunities'!I250 -> 0 | V249: =((R$3/1*R249)+(S$3/1*S249)+(T$3/1*T249)+(U$3/1*U249)) -> 0 | W249: ='Local Workforce'!F250 -> 0 | X249: ='Local Workforce'!G250 -> 0 | Y249: ='Local Workforce'!H250 -> 0 | Z249: ='Local Workforce'!I250 -> 0 | AA249: =((W$3/1*W249)+(X$3/1*X249)+(Y$3/1*Y249)+(Z$3/1*Z249)) -> 0
A250: 247 | D250: 588 | E250: PPA | F250: ='Bid List'!G252 -> Wind + Storage | G250: =$L$3*L250+$Q$3*Q250+$V$3*V250+$AA$3*AA250 -> 0 | H250: ='Training Programs'!F251 -> 0 | I250: ='Training Programs'!G251 -> 0 | J250: ='Training Programs'!H251 -> 0 | K250: ='Training Programs'!I251 -> 0 | L250: =((H$3/1*H250)+(I$3/1*I250)+(J$3/1*J250)+(K$3/1*K250)) -> 0 | M250: ='Wages and Benefits'!F251 -> 0 | N250: ='Wages and Benefits'!G251 -> 0 | O250: ='Wages and Benefits'!H251 -> 0 | P250: ='Wages and Benefits'!I251 -> 0 | Q250: =((M$3/1*M250)+(N$3/1*N250)+(O$3/1*O250)+(P$3/1*P250)) -> 0 | R250: ='Career Opportunities'!F251 -> 0 | S250: ='Career Opportunities'!G251 -> 0 | T250: ='Career Opportunities'!H251 -> 0 | U250: ='Career Opportunities'!I251 -> 0 | V250: =((R$3/1*R250)+(S$3/1*S250)+(T$3/1*T250)+(U$3/1*U250)) -> 0 | W250: ='Local Workforce'!F251 -> 0 | X250: ='Local Workforce'!G251 -> 0 | Y250: ='Local Workforce'!H251 -> 0 | Z250: ='Local Workforce'!I251 -> 0 | AA250: =((W$3/1*W250)+(X$3/1*X250)+(Y$3/1*Y250)+(Z$3/1*Z250)) -> 0
A251: 248 | D251: 589 | E251: PPA | F251: ='Bid List'!G253 -> Storage | G251: =$L$3*L251+$Q$3*Q251+$V$3*V251+$AA$3*AA251 -> 1 | H251: ='Training Programs'!F252 -> 1 | I251: ='Training Programs'!G252 -> 1 | J251: ='Training Programs'!H252 -> 1 | K251: ='Training Programs'!I252 -> 1 | L251: =((H$3/1*H251)+(I$3/1*I251)+(J$3/1*J251)+(K$3/1*K251)) -> 1 | M251: ='Wages and Benefits'!F252 -> 1 | N251: ='Wages and Benefits'!G252 -> 1 | O251: ='Wages and Benefits'!H252 -> 1 | P251: ='Wages and Benefits'!I252 -> 1 | Q251: =((M$3/1*M251)+(N$3/1*N251)+(O$3/1*O251)+(P$3/1*P251)) -> 1 | R251: ='Career Opportunities'!F252 -> 1 | S251: ='Career Opportunities'!G252 -> 1 | T251: ='Career Opportunities'!H252 -> 1 | U251: ='Career Opportunities'!I252 -> 1 | V251: =((R$3/1*R251)+(S$3/1*S251)+(T$3/1*T251)+(U$3/1*U251)) -> 1 | W251: ='Local Workforce'!F252 -> 1 | X251: ='Local Workforce'!G252 -> 1 | Y251: ='Local Workforce'!H252 -> 1 | Z251: ='Local Workforce'!I252 -> 1 | AA251: =((W$3/1*W251)+(X$3/1*X251)+(Y$3/1*Y251)+(Z$3/1*Z251)) -> 1
A252: 249 | D252: 593 | E252: PPA | F252: ='Bid List'!G254 -> Storage | G252: =$L$3*L252+$Q$3*Q252+$V$3*V252+$AA$3*AA252 -> 1 | H252: ='Training Programs'!F253 -> 1 | I252: ='Training Programs'!G253 -> 1 | J252: ='Training Programs'!H253 -> 1 | K252: ='Training Programs'!I253 -> 1 | L252: =((H$3/1*H252)+(I$3/1*I252)+(J$3/1*J252)+(K$3/1*K252)) -> 1 | M252: ='Wages and Benefits'!F253 -> 1 | N252: ='Wages and Benefits'!G253 -> 1 | O252: ='Wages and Benefits'!H253 -> 1 | P252: ='Wages and Benefits'!I253 -> 1 | Q252: =((M$3/1*M252)+(N$3/1*N252)+(O$3/1*O252)+(P$3/1*P252)) -> 1 | R252: ='Career Opportunities'!F253 -> 1 | S252: ='Career Opportunities'!G253 -> 1 | T252: ='Career Opportunities'!H253 -> 1 | U252: ='Career Opportunities'!I253 -> 1 | V252: =((R$3/1*R252)+(S$3/1*S252)+(T$3/1*T252)+(U$3/1*U252)) -> 1 | W252: ='Local Workforce'!F253 -> 1 | X252: ='Local Workforce'!G253 -> 1 | Y252: ='Local Workforce'!H253 -> 1 | Z252: ='Local Workforce'!I253 -> 1 | AA252: =((W$3/1*W252)+(X$3/1*X252)+(Y$3/1*Y252)+(Z$3/1*Z252)) -> 1
A253: 250 | D253: 594 | E253: PPA | F253: ='Bid List'!G255 -> Solar | G253: =$L$3*L253+$Q$3*Q253+$V$3*V253+$AA$3*AA253 -> 1 | H253: ='Training Programs'!F254 -> 1 | I253: ='Training Programs'!G254 -> 1 | J253: ='Training Programs'!H254 -> 1 | K253: ='Training Programs'!I254 -> 1 | L253: =((H$3/1*H253)+(I$3/1*I253)+(J$3/1*J253)+(K$3/1*K253)) -> 1 | M253: ='Wages and Benefits'!F254 -> 1 | N253: ='Wages and Benefits'!G254 -> 1 | O253: ='Wages and Benefits'!H254 -> 1 | P253: ='Wages and Benefits'!I254 -> 1 | Q253: =((M$3/1*M253)+(N$3/1*N253)+(O$3/1*O253)+(P$3/1*P253)) -> 1 | R253: ='Career Opportunities'!F254 -> 1 | S253: ='Career Opportunities'!G254 -> 1 | T253: ='Career Opportunities'!H254 -> 1 | U253: ='Career Opportunities'!I254 -> 1 | V253: =((R$3/1*R253)+(S$3/1*S253)+(T$3/1*T253)+(U$3/1*U253)) -> 1 | W253: ='Local Workforce'!F254 -> 1 | X253: ='Local Workforce'!G254 -> 1 | Y253: ='Local Workforce'!H254 -> 1 | Z253: ='Local Workforce'!I254 -> 1 | AA253: =((W$3/1*W253)+(X$3/1*X253)+(Y$3/1*Y253)+(Z$3/1*Z253)) -> 1
A254: 251 | D254: 981 | E254: PPA | F254: ='Bid List'!G256 -> Solar + Storage | G254: =$L$3*L254+$Q$3*Q254+$V$3*V254+$AA$3*AA254 -> 1 | H254: ='Training Programs'!F255 -> 1 | I254: ='Training Programs'!G255 -> 1 | J254: ='Training Programs'!H255 -> 1 | K254: ='Training Programs'!I255 -> 1 | L254: =((H$3/1*H254)+(I$3/1*I254)+(J$3/1*J254)+(K$3/1*K254)) -> 1 | M254: ='Wages and Benefits'!F255 -> 1 | N254: ='Wages and Benefits'!G255 -> 1 | O254: ='Wages and Benefits'!H255 -> 1 | P254: ='Wages and Benefits'!I255 -> 1 | Q254: =((M$3/1*M254)+(N$3/1*N254)+(O$3/1*O254)+(P$3/1*P254)) -> 1 | R254: ='Career Opportunities'!F255 -> 1 | S254: ='Career Opportunities'!G255 -> 1 | T254: ='Career Opportunities'!H255 -> 1 | U254: ='Career Opportunities'!I255 -> 1 | V254: =((R$3/1*R254)+(S$3/1*S254)+(T$3/1*T254)+(U$3/1*U254)) -> 1 | W254: ='Local Workforce'!F255 -> 1 | X254: ='Local Workforce'!G255 -> 1 | Y254: ='Local Workforce'!H255 -> 1 | Z254: ='Local Workforce'!I255 -> 1 | AA254: =((W$3/1*W254)+(X$3/1*X254)+(Y$3/1*Y254)+(Z$3/1*Z254)) -> 1
A255: 252 | D255: 1056 | E255: PPA | F255: ='Bid List'!G257 -> Storage | G255: =$L$3*L255+$Q$3*Q255+$V$3*V255+$AA$3*AA255 -> 0 | H255: ='Training Programs'!F256 -> 0 | I255: ='Training Programs'!G256 -> 0 | J255: ='Training Programs'!H256 -> 0 | K255: ='Training Programs'!I256 -> 0 | L255: =((H$3/1*H255)+(I$3/1*I255)+(J$3/1*J255)+(K$3/1*K255)) -> 0 | M255: ='Wages and Benefits'!F256 -> 0 | N255: ='Wages and Benefits'!G256 -> 0 | O255: ='Wages and Benefits'!H256 -> 0 | P255: ='Wages and Benefits'!I256 -> 0 | Q255: =((M$3/1*M255)+(N$3/1*N255)+(O$3/1*O255)+(P$3/1*P255)) -> 0 | R255: ='Career Opportunities'!F256 -> 0 | S255: ='Career Opportunities'!G256 -> 0 | T255: ='Career Opportunities'!H256 -> 0 | U255: ='Career Opportunities'!I256 -> 0 | V255: =((R$3/1*R255)+(S$3/1*S255)+(T$3/1*T255)+(U$3/1*U255)) -> 0 | W255: ='Local Workforce'!F256 -> 0 | X255: ='Local Workforce'!G256 -> 0 | Y255: ='Local Workforce'!H256 -> 0 | Z255: ='Local Workforce'!I256 -> 0 | AA255: =((W$3/1*W255)+(X$3/1*X255)+(Y$3/1*Y255)+(Z$3/1*Z255)) -> 0
A256: 253 | D256: 363 | E256: PPA | F256: ='Bid List'!G258 -> Solar | G256: =$L$3*L256+$Q$3*Q256+$V$3*V256+$AA$3*AA256 -> 0 | H256: ='Training Programs'!F257 -> 0 | I256: ='Training Programs'!G257 -> 0 | J256: ='Training Programs'!H257 -> 0 | K256: ='Training Programs'!I257 -> 0 | L256: =((H$3/1*H256)+(I$3/1*I256)+(J$3/1*J256)+(K$3/1*K256)) -> 0 | M256: ='Wages and Benefits'!F257 -> 0 | N256: ='Wages and Benefits'!G257 -> 0 | O256: ='Wages and Benefits'!H257 -> 0 | P256: ='Wages and Benefits'!I257 -> 0 | Q256: =((M$3/1*M256)+(N$3/1*N256)+(O$3/1*O256)+(P$3/1*P256)) -> 0 | R256: ='Career Opportunities'!F257 -> 0 | S256: ='Career Opportunities'!G257 -> 0 | T256: ='Career Opportunities'!H257 -> 0 | U256: ='Career Opportunities'!I257 -> 0 | V256: =((R$3/1*R256)+(S$3/1*S256)+(T$3/1*T256)+(U$3/1*U256)) -> 0 | W256: ='Local Workforce'!F257 -> 0 | X256: ='Local Workforce'!G257 -> 0 | Y256: ='Local Workforce'!H257 -> 0 | Z256: ='Local Workforce'!I257 -> 0 | AA256: =((W$3/1*W256)+(X$3/1*X256)+(Y$3/1*Y256)+(Z$3/1*Z256)) -> 0
A257: 254 | D257: 317 | E257: Own | F257: ='Bid List'!G259 -> Solar | G257: =$L$3*L257+$Q$3*Q257+$V$3*V257+$AA$3*AA257 -> 0 | H257: ='Training Programs'!F258 -> 0 | I257: ='Training Programs'!G258 -> 0 | J257: ='Training Programs'!H258 -> 0 | K257: ='Training Programs'!I258 -> 0 | L257: =((H$3/1*H257)+(I$3/1*I257)+(J$3/1*J257)+(K$3/1*K257)) -> 0 | M257: ='Wages and Benefits'!F258 -> 0 | N257: ='Wages and Benefits'!G258 -> 0 | O257: ='Wages and Benefits'!H258 -> 0 | P257: ='Wages and Benefits'!I258 -> 0 | Q257: =((M$3/1*M257)+(N$3/1*N257)+(O$3/1*O257)+(P$3/1*P257)) -> 0 | R257: ='Career Opportunities'!F258 -> 0 | S257: ='Career Opportunities'!G258 -> 0 | T257: ='Career Opportunities'!H258 -> 0 | U257: ='Career Opportunities'!I258 -> 0 | V257: =((R$3/1*R257)+(S$3/1*S257)+(T$3/1*T257)+(U$3/1*U257)) -> 0 | W257: ='Local Workforce'!F258 -> 0 | X257: ='Local Workforce'!G258 -> 0 | Y257: ='Local Workforce'!H258 -> 0 | Z257: ='Local Workforce'!I258 -> 0 | AA257: =((W$3/1*W257)+(X$3/1*X257)+(Y$3/1*Y257)+(Z$3/1*Z257)) -> 0
... A385: 382 | D385: 1127 | E385: Own | F385: ='Bid List'!G387 -> Solar + Storage | G385: =$L$3*L385+$Q$3*Q385+$V$3*V385+$AA$3*AA385 -> 0.0935 | H385: ='Training Programs'!F386 -> 0.4 | I385: ='Training Programs'!G386 -> 0.4 | J385: ='Training Programs'!H386 -> 0 | K385: ='Training Programs'!I386 -> 0 | L385: =((H$3/1*H385)+(I$3/1*I385)+(J$3/1*J385)+(K$3/1*K385)) -> 0.16 | M385: ='Wages and Benefits'!F386 -> 0.4 | N385: ='Wages and Benefits'!G386 -> 0.32 | O385: ='Wages and Benefits'!H386 -> 0 | P385: ='Wages and Benefits'!I386 -> 0 | Q385: =((M$3/1*M385)+(N$3/1*N385)+(O$3/1*O385)+(P$3/1*P385)) -> 0.144 | R385: ='Career Opportunities'!F386 -> 0.15 | S385: ='Career Opportunities'!G386 -> 0.2 | T385: ='Career Opportunities'!H386 -> 0 | U385: ='Career Opportunities'!I386 -> 0 | V385: =((R$3/1*R385)+(S$3/1*S385)+(T$3/1*T385)+(U$3/1*U385)) -> 0.07 | W385: ='Local Workforce'!F386 -> 0 | X385: ='Local Workforce'!G386 -> 0 | Y385: ='Local Workforce'!H386 -> 0 | Z385: ='Local Workforce'!I386 -> 0 | AA385: =((W$3/1*W385)+(X$3/1*X385)+(Y$3/1*Y385)+(Z$3/1*Z385)) -> 0

Sheet Training Programs
A1: BVEM | D1: Public Bid Number | J1: General - Overall | Y1: Craft/Job Classifications 1 | AO1: Craft/Job Classifications 2 | BE1: Craft/Job Classifications 3 | BU1: Craft/Job Classifications 4 | CK1: Craft/Job Classifications 5 | DA1: Craft/Job Classifications 6 | DQ1: Craft/Job Classifications 7 | EG1: Craft/Job Classifications 8 | EW1: Craft/Job Classifications 9 | FM1: Craft/Job Classifications 10 | GC1: Craft/Job Classifications 11 | GS1: Craft/Job Classifications 12 | HI1: Craft/Job Classifications 13 | HY1: Craft/Job Classifications 14 | IO1: Craft/Job Classifications 15 | JE1: Craft/Job Classifications 16 | JU1: Craft/Job Classifications 17 | KK1: Craft/Job Classifications 18 | LA1: Craft/Job Classifications 19 | LQ1: Craft/Job Classifications 20
E2: Type of Project (Wind, Solar, Hydrogen, Hydro, Battery, Transmission, Coal, Natural Gas) | F2: General Responses | G2: General Completeness | H2: Craft Responses | I2: Craft Completeness | J2: Provide jobs by craft | K2: Evaluate | L2: Provided Number of Jobs | M2: Demonstrated Availability of Training Programs | N2: Provided names of specific training programs available | O2: Provided the curriculum of the specific training programs | P2: Provided the cost of worker training. | Q2: Described the duration of the training programs. | R2: Provided total number of hours of on-the-job training required | S2: Provided the total number of classroom hours required | T2: Described the licenses and certifications obtained, | U2: Provided a copy of training program standards for each training program. | V2: Provided a statement whether the training programs are United States Department of Labor registered apprenticeship programs and are accredited to award college credits. | W2: Completeness | X2: Scored Responses | Y2: Job craft | Z2: Evaluate | AA2: Number of Jobs | AB2: Availability of Training Programs | AC2: Provided names of specific training programs available | AD2: Provided the curriculum of the specific training programs | AE2: Provided the cost of worker training. | AF2: Described the duration of the training programs. | AG2: Provided total number of hours of on-the-job training required | AH2: Provided the total number of classroom hours required | AI2: Described the licenses and certifications obtained, | AJ2: Provided a copy of training program standards for each training program. | AK2: Provided a statement whether the training programs are United States Department of Labor registered apprenticeship programs and are accredited to award college credits. | AL2: Completeness | AM2: Weighted Jobs | AN2: Scored Responses | AO2: Job craft | AP2: Evaluate | AQ2: Number of Jobs | AR2: Availability of Training Programs | AS2: Provided names of specific training programs available | AT2: Provided the curriculum of the specific training programs | AU2: Provided the cost of worker training. | AV2: Described the duration of the training programs. | AW2: Provided total number of hours of on-the-job training required | AX2: Provided the total number of classroom hours required | AY2: Described the licenses and certifications obtained, | AZ2: Provided a copy of training program standards for each training program. | BA2: Provided a statement whether the training programs are United States Department of Labor registered apprenticeship programs and are accredited to award college credits. | BB2: Completeness | BC2: Weighted Jobs | BD2: Scored Responses | BE2: Job craft | BF2: Evaluate | BG2: Number of Jobs | BH2: Availability of Training Programs | BI2: Provided names of specific training programs available | BJ2: Provided the curriculum of the specific training programs | BK2: Provided the cost of worker training. | BL2: Described the duration of the training programs. | BM2: Provided total number of hours of on-the-job training required | BN2: Provided the total number of classroom hours required | BO2: Described the licenses and certifications obtained, | BP2: Provided a copy of training program standards for each training program. | BQ2: Provided a statement whether the training programs are United States Department of Labor registered apprenticeship programs and are accredited to award college credits. | BR2: Completeness | BS2: Weighted Jobs | BT2: Scored Responses | BU2: Job craft | BV2: Evaluate | BW2: Number of Jobs | BX2: Availability of Training Programs | BY2: Provided names of specific training programs available | BZ2: Provided the curriculum of the specific training programs | CA2: Provided the cost of worker training. | CB2: Described the duration of the training programs. | CC2: Provided total number of hours of on-the-job training required | CD2: Provided the total number of classroom hours required | CE2: Described the licenses and certifications obtained, | CF2: Provided a copy of training program standards for each training program. | CG2: Provided a statement whether the training programs are United States Department of Labor registered apprenticeship programs and are accredited to award college credits. | CH2: Completeness | CI2: Weighted Jobs | CJ2: Scored Responses | CK2: Job craft | CL2: Evaluate | CM2: Number of Jobs | CN2: Availability of Training Programs | CO2: Provided names of specific training programs available | CP2: Provided the curriculum of the specific training programs | CQ2: Provided the cost of worker training. | CR2: Described the duration of the training programs. | CS2: Provided total number of hours of on-the-job training required | CT2: Provided the total number of classroom hours required | CU2: Described the licenses and certifications obtained, | CV2: Provided a copy of training program standards for each training program. | CW2: Provided a statement whether the training programs are United States Department of Labor registered apprenticeship programs and are accredited to award college credits. | CX2: Completeness | CY2: Weighted Jobs | CZ2: Scored Responses | DA2: Job craft | DB2: Evaluate | DC2: Number of Jobs | DD2: Availability of Training Programs | DE2: Provided names of specific training programs available | DF2: Provided the curriculum of the specific training programs | DG2: Provided the cost of worker training. | DH2: Described the duration of the training programs. | DI2: Provided total number of hours of on-the-job training required | DJ2: Provided the total number of classroom hours required | DK2: Described the licenses and certifications obtained, | DL2: Provided a copy of training program standards for each training program. | DM2: Provided a statement whether the training programs are United States Department of Labor registered apprenticeship programs and are accredited to award college credits. | DN2: Completeness | DO2: Weighted Jobs | DP2: Scored Responses | DQ2: Job craft | DR2: Evaluate | DS2: Number of Jobs | DT2: Availability of Training Programs | DU2: Provided names of specific training programs available | DV2: Provided the curriculum of the specific training programs | DW2: Provided the cost of worker training. | DX2: Described the duration of the training programs. | DY2: Provided total number of hours of on-the-job training required | DZ2: Provided the total number of classroom hours required | EA2: Described the licenses and certifications obtained, | EB2: Provided a copy of training program standards for each training program. | EC2: Provided a statement whether the training programs are United States Department of Labor registered apprenticeship programs and are accredited to award college credits. | ED2: Completeness | EE2: Weighted Jobs | EF2: Scored Responses | EG2: Job craft | EH2: Evaluate | EI2: Number of Jobs | EJ2: Availability of Training Programs | EK2: Provided names of specific training programs available | EL2: Provided the curriculum of the specific training programs | EM2: Provided the cost of worker training. | EN2: Described the duration of the training programs. | EO2: Provided total number of hours of on-the-job training required | EP2: Provided the total number of classroom hours required | EQ2: Described the licenses and certifications obtained, | ER2: Provided a copy of training program standards for each training program. | ES2: Provided a statement whether the training programs are United States Department of Labor registered apprenticeship programs and are accredited to award college credits. | ET2: Completeness | EU2: Weighted Jobs | EV2: Scored Responses | EW2: Job craft | EX2: Evaluate | EY2: Number of Jobs | EZ2: Availability of Training Programs | FA2: Provided names of specific training programs available | FB2: Provided the curriculum of the specific training programs | FC2: Provided the cost of worker training. | FD2: Described the duration of the training programs. | FE2: Provided total number of hours of on-the-job training required | FF2: Provided the total number of classroom hours required | FG2: Described the licenses and certifications obtained, | FH2: Provided a copy of training program standards for each training program. | FI2: Provided a statement whether the training programs are United States Department of Labor registered apprenticeship programs and are accredited to award college credits. | FJ2: Completeness | FK2: Weighted Jobs | FL2: Scored Responses | FM2: Job craft | FN2: Evaluate | FO2: Number of Jobs | FP2: Availability of Training Programs | FQ2: Provided names of specific training programs available | FR2: Provided the curriculum of the specific training programs | FS2: Provided the cost of worker training. | FT2: Described the duration of the training programs. | FU2: Provided total number of hours of on-the-job training required | FV2: Provided the total number of classroom hours required | FW2: Described the licenses and certifications obtained, | FX2: Provided a copy of training program standards for each training program. | FY2: Provided a statement whether the training programs are United States Department of Labor registered apprenticeship programs and are accredited to award college credits. | FZ2: Completeness | GA2: Weighted Jobs | GB2: Scored Responses | GC2: Job craft | GD2: Evaluate | GE2: Number of Jobs | GF2: Availability of Training Programs | GG2: Provided names of specific training programs available | GH2: Provided the curriculum of the specific training programs | GI2: Provided the cost of worker training. | GJ2: Described the duration of the training programs. | GK2: Provided total number of hours of on-the-job training required | GL2: Provided the total number of classroom hours required | GM2: Described the licenses and certifications obtained, | GN2: Provided a copy of training program standards for each training program. | GO2: Provided a statement whether the training programs are United States Department of Labor registered apprenticeship programs and are accredited to award college credits. | GP2: Completeness | GQ2: Weighted Jobs | GR2: Scored Responses | GS2: Job craft | GT2: Evaluate | GU2: Number of Jobs | GV2: Availability of Training Programs | GW2: Provided names of specific training programs available | GX2: Provided the curriculum of the specific training programs | GY2: Provided the cost of worker training. | GZ2: Described the duration of the training programs. | HA2: Provided total number of hours of on-the-job training required | HB2: Provided the total number of classroom hours required | HC2: Described the licenses and certifications obtained, | HD2: Provided a copy of training program standards for each training program. | HE2: Provided a statement whether the training programs are United States Department of Labor registered apprenticeship programs and are accredited to award college credits. | HF2: Completeness | HG2: Weighted Jobs | HH2: Scored Responses | HI2: Job craft | HJ2: Evaluate | HK2: Number of Jobs | HL2: Availability of Training Programs | HM2: Provided names of specific training programs available | HN2: Provided the curriculum of the specific training programs | HO2: Provided the cost of worker training. | HP2: Described the duration of the training programs. | HQ2: Provided total number of hours of on-the-job training required | HR2: Provided the total number of classroom hours required | HS2: Described the licenses and certifications obtained, | HT2: Provided a copy of training program standards for each training program. | HU2: Provided a statement whether the training programs are United States Department of Labor registered apprenticeship programs and are accredited to award college credits. | HV2: Completeness | HW2: Weighted Jobs | HX2: Scored Responses | HY2: Job craft | HZ2: Evaluate | IA2: Number of Jobs | IB2: Availability of Training Programs | IC2: Provided names of specific training programs available | ID2: Provided the curriculum of the specific training programs | IE2: Provided the cost of worker training. | IF2: Described the duration of the training programs. | IG2: Provided total number of hours of on-the-job training required | IH2: Provided the total number of classroom hours required | II2: Described the licenses and certifications obtained, | IJ2: Provided a copy of training program standards for each training program. | IK2: Provided a statement whether the training programs are United States Department of Labor registered apprenticeship programs and are accredited to award college credits. | IL2: Completeness | IM2: Weighted Jobs | IN2: Scored Responses | IO2: Job craft | IP2: Evaluate | IQ2: Number of Jobs | IR2: Availability of Training Programs | IS2: Provided names of specific training programs available | IT2: Provided the curriculum of the specific training programs | IU2: Provided the cost of worker training. | IV2: Described the duration of the training programs. | IW2: Provided total number of hours of on-the-job training required | IX2: Provided the total number of classroom hours required | IY2: Described the licenses and certifications obtained, | IZ2: Provided a copy of training program standards for each training program. | JA2: Provided a statement whether the training programs are United States Department of Labor registered apprenticeship programs and are accredited to award college credits. | JB2: Completeness | JC2: Weighted Jobs | JD2: Scored Responses | JE2: Job craft | JF2: Evaluate | JG2: Number of Jobs | JH2: Availability of Training Programs | JI2: Provided names of specific training programs available | JJ2: Provided the curriculum of the specific training programs | JK2: Provided the cost of worker training. | JL2: Described the duration of the training programs. | JM2: Provided total number of hours of on-the-job training required | JN2: Provided the total number of classroom hours required | JO2: Described the licenses and certifications obtained, | JP2: Provided a copy of training program standards for each training program. | JQ2: Provided a statement whether the training programs are United States Department of Labor registered apprenticeship programs and are accredited to award college credits. | JR2: Completeness | JS2: Weighted Jobs | JT2: Scored Responses | JU2: Job craft | JV2: Evaluate | JW2: Number of Jobs | JX2: Availability of Training Programs | JY2: Provided names of specific training programs available | JZ2: Provided the curriculum of the specific training programs | KA2: Provided the cost of worker training. | KB2: Described the duration of the training programs. | KC2: Provided total number of hours of on-the-job training required | KD2: Provided the total number of classroom hours required | KE2: Described the licenses and certifications obtained, | KF2: Provided a copy of training program standards for each training program. | KG2: Provided a statement whether the training programs are United States Department of Labor registered apprenticeship programs and are accredited to award college credits. | KH2: Completeness | KI2: Weighted Jobs | KJ2: Scored Responses | KK2: Job craft | KL2: Evaluate | KM2: Number of Jobs | KN2: Availability of Training Programs | KO2: Provided names of specific training programs available | KP2: Provided the curriculum of the specific training programs | KQ2: Provided the cost of worker training. | KR2: Described the duration of the training programs. | KS2: Provided total number of hours of on-the-job training required | KT2: Provided the total number of classroom hours required | KU2: Described the licenses and certifications obtained, | KV2: Provided a copy of training program standards for each training program. | KW2: Provided a statement whether the training programs are United States Department of Labor registered apprenticeship programs and are accredited to award college credits. | KX2: Completeness | KY2: Weighted Jobs | KZ2: Scored Responses | LA2: Job craft | LB2: Evaluate | LC2: Number of Jobs | LD2: Availability of Training Programs | LE2: Provided names of specific training programs available | LF2: Provided the curriculum of the specific training programs | LG2: Provided the cost of worker training. | LH2: Described the duration of the training programs. | LI2: Provided total number of hours of on-the-job training required | LJ2: Provided the total number of classroom hours required | LK2: Described the licenses and certifications obtained, | LL2: Provided a copy of training program standards for each training program. | LM2: Provided a statement whether the training programs are United States Department of Labor registered apprenticeship programs and are accredited to award college credits. | LN2: Completeness | LO2: Weighted Jobs | LP2: Scored Responses | LQ2: Job craft | LR2: Evaluate | LS2: Number of Jobs | LT2: Availability of Training Programs | LU2: Provided names of specific training programs available | LV2: Provided the curriculum of the specific training programs | LW2: Provided the cost of worker training. | LX2: Described the duration of the training programs. | LY2: Provided total number of hours of on-the-job training required | LZ2: Provided the total number of classroom hours required | MA2: Described the licenses and certifications obtained, | MB2: Provided a copy of training program standards for each training program. | MC2: Provided a statement whether the training programs are United States Department of Labor registered apprenticeship programs and are accredited to award college credits. | MD2: Completeness | ME2: Weighted Jobs | MF2: Scored Responses
A3: Record | B3: ='BVEM Scorecard'!B1 -> Company Name | C3: ='BVEM Scorecard'!C1 -> Project
M4: 0.1 | N4: 0.1 | O4: 0.1 | P4: 0.1 | Q4: 0.1 | R4: 0.1 | S4: 0.1 | T4: 0.1 | U4: 0.1 | V4: 0.1 | AB4: 0.1 | AC4: 0.1 | AD4: 0.1 | AE4: 0.1 | AF4: 0.1 | AG4: 0.1 | AH4: 0.1 | AI4: 0.1 | AJ4: 0.1 | AK4: 0.1 | AR4: 0.1 | AS4: 0.1 | AT4: 0.1 | AU4: 0.1 | AV4: 0.1 | AW4: 0.1 | AX4: 0.1 | AY4: 0.1 | AZ4: 0.1 | BA4: 0.1 | BH4: 0.1 | BI4: 0.1 | BJ4: 0.1 | BK4: 0.1 | BL4: 0.1 | BM4: 0.1 | BN4: 0.1 | BO4: 0.1 | BP4: 0.1 | BQ4: 0.1 | BX4: 0.1 | BY4: 0.1 | BZ4: 0.1 | CA4: 0.1 | CB4: 0.1 | CC4: 0.1 | CD4: 0.1 | CE4: 0.1 | CF4: 0.1 | CG4: 0.1 | CN4: 0.1 | CO4: 0.1 | CP4: 0.1 | CQ4: 0.1 | CR4: 0.1 | CS4: 0.1 | CT4: 0.1 | CU4: 0.1 | CV4: 0.1 | CW4: 0.1 | DD4: 0.1 | DE4: 0.1 | DF4: 0.1 | DG4: 0.1 | DH4: 0.1 | DI4: 0.1 | DJ4: 0.1 | DK4: 0.1 | DL4: 0.1 | DM4: 0.1 | DT4: 0.1 | DU4: 0.1 | DV4: 0.1 | DW4: 0.1 | DX4: 0.1 | DY4: 0.1 | DZ4: 0.1 | EA4: 0.1 | EB4: 0.1 | EC4: 0.1 | EJ4: 0.1 | EK4: 0.1 | EL4: 0.1 | EM4: 0.1 | EN4: 0.1 | EO4: 0.1 | EP4: 0.1 | EQ4: 0.1 | ER4: 0.1 | ES4: 0.1 | EZ4: 0.1 | FA4: 0.1 | FB4: 0.1 | FC4: 0.1 | FD4: 0.1 | FE4: 0.1 | FF4: 0.1 | FG4: 0.1 | FH4: 0.1 | FI4: 0.1 | FP4: 0.1 | FQ4: 0.1 | FR4: 0.1 | FS4: 0.1 | FT4: 0.1 | FU4: 0.1 | FV4: 0.1 | FW4: 0.1 | FX4: 0.1 | FY4: 0.1 | GF4: 0.1 | GG4: 0.1 | GH4: 0.1 | GI4: 0.1 | GJ4: 0.1 | GK4: 0.1 | GL4: 0.1 | GM4: 0.1 | GN4: 0.1 | GO4: 0.1 | GV4: 0.1 | GW4: 0.1 | GX4: 0.1 | GY4: 0.1 | GZ4: 0.1 | HA4: 0.1 | HB4: 0.1 | HC4: 0.1 | HD4: 0.1 | HE4: 0.1 | HL4: 0.1 | HM4: 0.1 | HN4: 0.1 | HO4: 0.1 | HP4: 0.1 | HQ4: 0.1 | HR4: 0.1 | HS4: 0.1 | HT4: 0.1 | HU4: 0.1 | IB4: 0.1 | IC4: 0.1 | ID4: 0.1 | IE4: 0.1 | IF4: 0.1 | IG4: 0.1 | IH4: 0.1 | II4: 0.1 | IJ4: 0.1 | IK4: 0.1 | IR4: 0.1 | IS4: 0.1 | IT4: 0.1 | IU4: 0.1 | IV4: 0.1 | IW4: 0.1 | IX4: 0.1 | IY4: 0.1 | IZ4: 0.1 | JA4: 0.1 | JH4: 0.1 | JI4: 0.1 | JJ4: 0.1 | JK4: 0.1 | JL4: 0.1 | JM4: 0.1 | JN4: 0.1 | JO4: 0.1 | JP4: 0.1 | JQ4: 0.1 | JX4: 0.1 | JY4: 0.1 | JZ4: 0.1 | KA4: 0.1 | KB4: 0.1 | KC4: 0.1 | KD4: 0.1 | KE4: 0.1 | KF4: 0.1 | KG4: 0.1 | KN4: 0.1 | KO4: 0.1 | KP4: 0.1 | KQ4: 0.1 | KR4: 0.1 | KS4: 0.1 | KT4: 0.1 | KU4: 0.1 | KV4: 0.1 | KW4: 0.1 | LD4: 0.1 | LE4: 0.1 | LF4: 0.1 | LG4: 0.1 | LH4: 0.1 | LI4: 0.1 | LJ4: 0.1 | LK4: 0.1 | LL4: 0.1 | LM4: 0.1 | LT4: 0.1 | LU4: 0.1 | LV4: 0.1 | LW4: 0.1 | LX4: 0.1 | LY4: 0.1 | LZ4: 0.1 | MA4: 0.1 | MB4: 0.1 | MC4: 0.1
A5: 1
A6: 2 | D6: 11 | E6: ='BVEM Scorecard'!F5 -> Gas | F6: =X6 -> 0 | G6: =W6 -> 0 | H6: =IFERROR(SUM(AN6,BD6,BT6,CJ6,CZ6,DP6,EF6,EV6,FL6,GB6,GR6,HH6,HX6,IN6,JD6,JT6,KJ6,KZ6,LP6,MF6),0) -> 0 | I6: =IFERROR(SUM(AL6,BB6,BR6,CH6,CX6,DN6,ED6,ET6,FJ6,FZ6,GP6,HF6,HV6,IL6,JB6,JR6,KH6,KX6,LN6,MD6)/SUM(Z6,AP6,BF6,BV6,CL6,DB6,DR6,EH6,EX6,FN6,GD6,GT6,HJ6,HZ6,IP6,JF6,JV6,KL6,LB6,LR6),0) -> 0 | J6: 0 | K6: 0 | L6: 0 | M6: 0 | N6: 0 | O6: 0 | P6: 0 | Q6: 0 | R6: 0 | S6: 0 | T6: 0 | U6: 0 | V6: 0 | W6: =AVERAGE(M6:V6) -> 0 | X6: =M$4*M6+N$4*N6+O$4*O6+P$4*P6+Q$4*Q6+R$4*R6+S$4*S6+T$4*T6+U$4*U6+V$4*V6 -> 0 | AL6: =IFERROR(AVERAGE(AB6:AK6),"") | AM6: =IFERROR(AA6/SUM($AA6,$AQ6,$BG6,$BW6,$CM6,$DC6,$DS6,$EI6,$EY6,$FO6,$GE6,$GU6,$HK6,$IA6,$IQ6,$JG6,$JW6,$KM6,$LC6,$LS6),"") | AN6: =IFERROR((AB$4*AB6+AC$4*AC6+AD$4*AD6+AE$4*AE6+AF$4*AF6+AG$4*AG6+AH$4*AH6+AI$4*AI6+AJ$4*AJ6+AK$4*AK6)*AM6,"") | BC6: =IFERROR(AQ6/SUM($AA6,$AQ6,$BG6,$BW6,$CM6,$DC6,$DS6,$EI6,$EY6,$FO6,$GE6,$GU6,$HK6,$IA6,$IQ6,$JG6,$JW6,$KM6,$LC6,$LS6),"") | BD6: =IFERROR((AR$4*AR6+AS$4*AS6+AT$4*AT6+AU$4*AU6+AV$4*AV6+AW$4*AW6+AX$4*AX6+AY$4*AY6+AZ$4*AZ6+BA$4*BA6)*BC6,"") | BS6: =IFERROR(BG6/SUM($AA6,$AQ6,$BG6,$BW6,$CM6,$DC6,$DS6,$EI6,$EY6,$FO6,$GE6,$GU6,$HK6,$IA6,$IQ6,$JG6,$JW6,$KM6,$LC6,$LS6),"") | BT6: =IFERROR((BH$4*BH6+BI$4*BI6+BJ$4*BJ6+BK$4*BK6+BL$4*BL6+BM$4*BM6+BN$4*BN6+BO$4*BO6+BP$4*BP6+BQ$4*BQ6)*BS6,"") | CI6: =IFERROR(BW6/SUM($AA6,$AQ6,$BG6,$BW6,$CM6,$DC6,$DS6,$EI6,$EY6,$FO6,$GE6,$GU6,$HK6,$IA6,$IQ6,$JG6,$JW6,$KM6,$LC6,$LS6),"") | CJ6: =IFERROR((BX$4*BX6+BY$4*BY6+BZ$4*BZ6+CA$4*CA6+CB$4*CB6+CC$4*CC6+CD$4*CD6+CE$4*CE6+CF$4*CF6+CG$4*CG6)*CI6,"") | CY6: =IFERROR(CM6/SUM($AA6,$AQ6,$BG6,$BW6,$CM6,$DC6,$DS6,$EI6,$EY6,$FO6,$GE6,$GU6,$HK6,$IA6,$IQ6,$JG6,$JW6,$KM6,$LC6,$LS6),"") | CZ6: =IFERROR((CN$4*CN6+CO$4*CO6+CP$4*CP6+CQ$4*CQ6+CR$4*CR6+CS$4*CS6+CT$4*CT6+CU$4*CU6+CV$4*CV6+CW$4*CW6)*CY6,"") | DO6: =IFERROR(DC6/SUM($AA6,$AQ6,$BG6,$BW6,$CM6,$DC6,$DS6,$EI6,$EY6,$FO6,$GE6,$GU6,$HK6,$IA6,$IQ6,$JG6,$JW6,$KM6,$LC6,$LS6),"") | DP6: =IFERROR((DD$4*DD6+DE$4*DE6+DF$4*DF6+DG$4*DG6+DH$4*DH6+DI$4*DI6+DJ$4*DJ6+DK$4*DK6+DL$4*DL6+DM$4*DM6)*DO6,"") | EE6: =IFERROR(DS6/SUM($AA6,$AQ6,$BG6,$BW6,$CM6,$DC6,$DS6,$EI6,$EY6,$FO6,$GE6,$GU6,$HK6,$IA6,$IQ6,$JG6,$JW6,$KM6,$LC6,$LS6),"") | EF6: =IFERROR((DT$4*DT6+DU$4*DU6+DV$4*DV6+DW$4*DW6+DX$4*DX6+DY$4*DY6+DZ$4*DZ6+EA$4*EA6+EB$4*EB6+EC$4*EC6)*EE6,"") | EU6: =IFERROR(EI6/SUM($AA6,$AQ6,$BG6,$BW6,$CM6,$DC6,$DS6,$EI6,$EY6,$FO6,$GE6,$GU6,$HK6,$IA6,$IQ6,$JG6,$JW6,$KM6,$LC6,$LS6),"") | EV6: =IFERROR((EJ$4*EJ6+EK$4*EK6+EL$4*EL6+EM$4*EM6+EN$4*EN6+EO$4*EO6+EP$4*EP6+EQ$4*EQ6+ER$4*ER6+ES$4*ES6)*EU6,"") | FK6: =IFERROR(EY6/SUM($AA6,$AQ6,$BG6,$BW6,$CM6,$DC6,$DS6,$EI6,$EY6,$FO6,$GE6,$GU6,$HK6,$IA6,$IQ6,$JG6,$JW6,$KM6,$LC6,$LS6),"") | FL6: =IFERROR((EZ$4*EZ6+FA$4*FA6+FB$4*FB6+FC$4*FC6+FD$4*FD6+FE$4*FE6+FF$4*FF6+FG$4*FG6+FH$4*FH6+FI$4*FI6)*FK6,"") | GA6: =IFERROR(FO6/SUM($AA6,$AQ6,$BG6,$BW6,$CM6,$DC6,$DS6,$EI6,$EY6,$FO6,$GE6,$GU6,$HK6,$IA6,$IQ6,$JG6,$JW6,$KM6,$LC6,$LS6),"") | GB6: =IFERROR((FP$4*FP6+FQ$4*FQ6+FR$4*FR6+FS$4*FS6+FT$4*FT6+FU$4*FU6+FV$4*FV6+FW$4*FW6+FX$4*FX6+FY$4*FY6)*GA6,"") | GQ6: =IFERROR(GE6/SUM($AA6,$AQ6,$BG6,$BW6,$CM6,$DC6,$DS6,$EI6,$EY6,$FO6,$GE6,$GU6,$HK6,$IA6,$IQ6,$JG6,$JW6,$KM6,$LC6,$LS6),"") | GR6: =IFERROR((GF$4*GF6+GG$4*GG6+GH$4*GH6+GI$4*GI6+GJ$4*GJ6+GK$4*GK6+GL$4*GL6+GM$4*GM6+GN$4*GN6+GO$4*GO6)*GQ6,"") | HG6: =IFERROR(GU6/SUM($AA6,$AQ6,$BG6,$BW6,$CM6,$DC6,$DS6,$EI6,$EY6,$FO6,$GE6,$GU6,$HK6,$IA6,$IQ6,$JG6,$JW6,$KM6,$LC6,$LS6),"") | HH6: =IFERROR((GV$4*GV6+GW$4*GW6+GX$4*GX6+GY$4*GY6+GZ$4*GZ6+HA$4*HA6+HB$4*HB6+HC$4*HC6+HD$4*HD6+HE$4*HE6)*HG6,"") | HW6: =IFERROR(HK6/SUM($AA6,$AQ6,$BG6,$BW6,$CM6,$DC6,$DS6,$EI6,$EY6,$FO6,$GE6,$GU6,$HK6,$IA6,$IQ6,$JG6,$JW6,$KM6,$LC6,$LS6),"") | HX6: =IFERROR((HL$4*HL6+HM$4*HM6+HN$4*HN6+HO$4*HO6+HP$4*HP6+HQ$4*HQ6+HR$4*HR6+HS$4*HS6+HT$4*HT6+HU$4*HU6)*HW6,"") | IM6: =IFERROR(IA6/SUM($AA6,$AQ6,$BG6,$BW6,$CM6,$DC6,$DS6,$EI6,$EY6,$FO6,$GE6,$GU6,$HK6,$IA6,$IQ6,$JG6,$JW6,$KM6,$LC6,$LS6),"") | IN6: =IFERROR((IB$4*IB6+IC$4*IC6+ID$4*ID6+IE$4*IE6+IF$4*IF6+IG$4*IG6+IH$4*IH6+II$4*II6+IJ$4*IJ6+IK$4*IK6)*IM6,"") | JC6: =IFERROR(IQ6/SUM($AA6,$AQ6,$BG6,$BW6,$CM6,$DC6,$DS6,$EI6,$EY6,$FO6,$GE6,$GU6,$HK6,$IA6,$IQ6,$JG6,$JW6,$KM6,$LC6,$LS6),"") | JD6: =IFERROR((IR$4*IR6+IS$4*IS6+IT$4*IT6+IU$4*IU6+IV$4*IV6+IW$4*IW6+IX$4*IX6+IY$4*IY6+IZ$4*IZ6+JA$4*JA6)*JC6,"") | JS6: =IFERROR(JG6/SUM($AA6,$AQ6,$BG6,$BW6,$CM6,$DC6,$DS6,$EI6,$EY6,$FO6,$GE6,$GU6,$HK6,$IA6,$IQ6,$JG6,$JW6,$KM6,$LC6,$LS6),"") | JT6: =IFERROR((JH$4*JH6+JI$4*JI6+JJ$4*JJ6+JK$4*JK6+JL$4*JL6+JM$4*JM6+JN$4*JN6+JO$4*JO6+JP$4*JP6+JQ$4*JQ6)*JS6,"") | KI6: =IFERROR(JW6/SUM($AA6,$AQ6,$BG6,$BW6,$CM6,$DC6,$DS6,$EI6,$EY6,$FO6,$GE6,$GU6,$HK6,$IA6,$IQ6,$JG6,$JW6,$KM6,$LC6,$LS6),"") | KJ6: =IFERROR((JX$4*JX6+JY$4*JY6+JZ$4*JZ6+KA$4*KA6+KB$4*KB6+KC$4*KC6+KD$4*KD6+KE$4*KE6+KF$4*KF6+KG$4*KG6)*KI6,"") | KY6: =IFERROR(KM6/SUM($AA6,$AQ6,$BG6,$BW6,$CM6,$DC6,$DS6,$EI6,$EY6,$FO6,$GE6,$GU6,$HK6,$IA6,$IQ6,$JG6,$JW6,$KM6,$LC6,$LS6),"") | KZ6: =IFERROR((KN$4*KN6+KO$4*KO6+KP$4*KP6+KQ$4*KQ6+KR$4*KR6+KS$4*KS6+KT$4*KT6+KU$4*KU6+KV$4*KV6+KW$4*KW6)*KY6,"") | LO6: =IFERROR(LC6/SUM($AA6,$AQ6,$BG6,$BW6,$CM6,$DC6,$DS6,$EI6,$EY6,$FO6,$GE6,$GU6,$HK6,$IA6,$IQ6,$JG6,$JW6,$KM6,$LC6,$LS6),"") | LP6: =IFERROR((LD$4*LD6+LE$4*LE6+LF$4*LF6+LG$4*LG6+LH$4*LH6+LI$4*LI6+LJ$4*LJ6+LK$4*LK6+LL$4*LL6+LM$4*LM6)*LO6,"") | ME6: =IFERROR(LS6/SUM($AA6,$AQ6,$BG6,$BW6,$CM6,$DC6,$DS6,$EI6,$EY6,$FO6,$GE6,$GU6,$HK6,$IA6,$IQ6,$JG6,$JW6,$KM6,$LC6,$LS6),"") | MF6: =IFERROR((LT$4*LT6+LU$4*LU6+LV$4*LV6+LW$4*LW6+LX$4*LX6+LY$4*LY6+LZ$4*LZ6+MA$4*MA6+MB$4*MB6+MC$4*MC6)*ME6,"")
