Workbook
Name Industry: Validations!$B$3:$B$22
Name Level: Validations!$C$3:$C$6
Name Type: Notes!$B$12:$B$24

Sheet BVEM Scorecard
A1: BVEM | B1: Company Name | C1: Project | D1: Public Bid Number | E1: Commercial Structure | H1: Training Programs | M1: Wages and Benefits | R1: Career Opportunities | W1: Labor Source
F2: Type of Project (Wind, Solar, Hydrogen, Hydro, Battery, Transmission, Coal, Natural Gas) | G2: Total Value | H2: General Responses | I2: General Completeness | J2: Craft Responses | K2: Craft Completeness | L2: TOTAL | M2: General Responses | N2: General Completeness | O2: Craft Responses | P2: Craft Completeness | Q2: TOTAL | R2: General Responses | S2: General Completeness | T2: Craft Responses | U2: Craft Completeness | V2: TOTAL | W2: General Responses | X2: General Completeness | Y2: Craft Responses | Z2: Craft Completeness | AA2: TOTAL
A3: Record | G3: =SUM(L3,Q3,V3,AA3) -> 1 | H3: 0.2 | I3: 0.2 | J3: 0.3 | K3: 0.3 | L3: 0.25 | M3: 0.2 | N3: 0.2 | O3: 0.3 | P3: 0.3 | Q3: 0.25 | R3: 0.2 | S3: 0.2 | T3: 0.3 | U3: 0.3 | V3: 0.25 | W3: 0.2 | X3: 0.2 | Y3: 0.3 | Z3: 0.3 | AA3: 0.25
A4: 1 | B4: Example
A5: 2 | D5: 11 | E5: Own | F5: ='Bid List'!G7 -> Gas | G5: =$L$3*L5+$Q$3*Q5+$V$3*V5+$AA$3*AA5 -> 0 | H5: ='Training Programs'!F6 -> 0 | I5: ='Training Programs'!G6 -> 0 | J5: ='Training Programs'!H6 -> 0 | K5: ='Training Programs'!I6 -> 0 | L5: =((H$3/1*H5)+(I$3/1*I5)+(J$3/1*J5)+(K$3/1*K5)) -> 0 | M5: ='Wages and Benefits'!F6 -> 0 | N5: ='Wages and Benefits'!G6 -> 0 | O5: ='Wages and Benefits'!H6 -> 0 | P5: ='Wages and Benefits'!I6 -> 0 | Q5: =((M$3/1*M5)+(N$3/1*N5)+(O$3/1*O5)+(P$3/1*P5)) -> 0 | R5: ='Career Opportunities'!F6 -> 0 | S5: ='Career Opportunities'!G6 -> 0 | T5: ='Career Opportunities'!H6 -> 0 | U5: ='Career Opportunities'!I6 -> 0 | V5: =((R$3/1*R5)+(S$3/1*S5)+(T$3/1*T5)+(U$3/1*U5)) -> 0 | W5: ='Local Workforce'!F6 -> 0 | X5: ='Local Workforce'!G6 -> 0 | Y5: ='Local Workforce'!H6 -> 0 | Z5: ='Local Workforce'!I6 -> 0 | AA5: =((W$3/1*W5)+(X$3/1*X5)+(Y$3/1*Y5)+(Z$3/1*Z5)) -> 0
A6: 3 | D6: 12 | E6: PPA | F6: ='Bid List'!G8 -> Wind | G6: =$L$3*L6+$Q$3*Q6+$V$3*V6+$AA$3*AA6 -> 0.86775008 | H6: ='Training Programs'!F7 -> 1 | I6: ='Training Programs'!G7 -> 1 | J6: ='Training Programs'!H7 -> 1 | K6: ='Training Programs'!I7 -> 1 | L6: =((H$3/1*H6)+(I$3/1*I6)+(J$3/1*J6)+(K$3/1*K6)) -> 1 | M6: ='Wages and Benefits'!F7 -> 0.8 | N6: ='Wages and Benefits'!G7 -> 0.92 | O6: ='Wages and Benefits'!H7 -> 1 | P6: ='Wages and Benefits'!I7 -> 1 | Q6: =((M$3/1*M6)+(N$3/1*N6)+(O$3/1*O6)+(P$3/1*P6)) -> 0.944 | R6: ='Career Opportunities'!F7 -> 1 | S6: ='Career Opportunities'!G7 -> 1 | T6: ='Career Opportunities'!H7 -> 1 | U6: ='Career Opportunities'!I7 -> 1 | V6: =((R$3/1*R6)+(S$3/1*S6)+(T$3/1*T6)+(U$3/1*U6)) -> 1 | W6: ='Local Workforce'!F7 -> 0.060001514 | X6: ='Local Workforce'!G7 -> 1 | Y6: ='Local Workforce'!H7 -> 0.05 | Z6: ='Local Workforce'!I7 -> 1 | AA6: =((W$3/1*W6)+(X$3/1*X6)+(Y$3/1*Y6)+(Z$3/1*Z6)) -> 0.5270003
A7: 4 | D7: 240 | E7: PPA | F7: ='Bid List'!G9 -> Wind | G7: =$L$3*L7+$Q$3*Q7+$V$3*V7+$AA$3*AA7 -> 0 | H7: ='Training Programs'!F8 -> 0 | I7: ='Training Programs'!G8 -> 0 | J7: ='Training Programs'!H8 -> 0 | K7: ='Training Programs'!I8 -> 0 | L7: =((H$3/1*H7)+(I$3/1*I7)+(J$3/1*J7)+(K$3/1*K7)) -> 0 | M7: ='Wages and Benefits'!F8 -> 0 | N7: ='Wages and Benefits'!G8 -> 0 | O7: ='Wages and Benefits'!H8 -> 0 | P7: ='Wages and Benefits'!I8 -> 0 | Q7: =((M$3/1*M7)+(N$3/1*N7)+(O$3/1*O7)+(P$3/1*P7)) -> 0 | R7: ='Career Opportunities'!F8 -> 0 | S7: ='Career Opportunities'!G8 -> 0 | T7: ='Career Opportunities'!H8 -> 0 | U7: ='Career Opportunities'!I8 -> 0 | V7: =((R$3/1*R7)+(S$3/1*S7)+(T$3/1*T7)+(U$3/1*U7)) -> 0 | W7: ='Local Workforce'!F8 -> 0 | X7: ='Local Workforce'!G8 -> 0 | Y7: ='Local Workforce'!H8 -> 0 | Z7: ='Local Workforce'!I8 -> 0 | AA7: =((W$3/1*W7)+(X$3/1*X7)+(Y$3/1*Y7)+(Z$3/1*Z7)) -> 0
A8: 5 | D8: 13 | E8: PPA | F8: ='Bid List'!G10 -> Wind | G8: =$L$3*L8+$Q$3*Q8+$V$3*V8+$AA$3*AA8 -> 0.86775008 | H8: ='Training Programs'!F9 -> 1 | I8: ='Training Programs'!G9 -> 1 | J8: ='Training Programs'!H9 -> 1 | K8: ='Training Programs'!I9 -> 1 | L8: =((H$3/1*H8)+(I$3/1*I8)+(J$3/1*J8)+(K$3/1*K8)) -> 1 | M8: ='Wages and Benefits'!F9 -> 0.8 | N8: ='Wages and Benefits'!G9 -> 0.92 | O8: ='Wages and Benefits'!H9 -> 1 | P8: ='Wages and Benefits'!I9 -> 1 | Q8: =((M$3/1*M8)+(N$3/1*N8)+(O$3/1*O8)+(P$3/1*P8)) -> 0.944 | R8: ='Career Opportunities'!F9 -> 1 | S8: ='Career Opportunities'!G9 -> 1 | T8: ='Career Opportunities'!H9 -> 1 | U8: ='Career Opportunities'!I9 -> 1 | V8: =((R$3/1*R8)+(S$3/1*S8)+(T$3/1*T8)+(U$3/1*U8)) -> 1 | W8: ='Local Workforce'!F9 -> 0.060001514 | X8: ='Local Workforce'!G9 -> 1 | Y8: ='Local Workforce'!H9 -> 0.05 | Z8: ='Local Workforce'!I9 -> 1 | AA8: =((W$3/1*W8)+(X$3/1*X8)+(Y$3/1*Y8)+(Z$3/1*Z8)) -> 0.5270003
A9: 6 | D9: 72 | E9: PPA | F9: ='Bid List'!G11 -> Wind | G9: =$L$3*L9+$Q$3*Q9+$V$3*V9+$AA$3*AA9 -> 0 | H9: ='Training Programs'!F10 -> 0 | I9: ='Training Programs'!G10 -> 0 | J9: ='Training Programs'!H10 -> 0 | K9: ='Training Programs'!I10 -> 0 | L9: =((H$3/1*H9)+(I$3/1*I9)+(J$3/1*J9)+(K$3/1*K9)) -> 0 | M9: ='Wages and Benefits'!F10 -> 0 | N9: ='Wages and Benefits'!G10 -> 0 | O9: ='Wages and Benefits'!H10 -> 0 | P9: ='Wages and Benefits'!I10 -> 0 | Q9: =((M$3/1*M9)+(N$3/1*N9)+(O$3/1*O9)+(P$3/1*P9)) -> 0 | R9: ='Career Opportunities'!F10 -> 0 | S9: ='Career Opportunities'!G10 -> 0 | T9: ='Career Opportunities'!H10 -> 0 | U9: ='Career Opportunities'!I10 -> 0 | V9: =((R$3/1*R9)+(S$3/1*S9)+(T$3/1*T9)+(U$3/1*U9)) -> 0 | W9: ='Local Workforce'!F10 -> 0 | X9: ='Local Workforce'!G10 -> 0 | Y9: ='Local Workforce'!H10 -> 0 | Z9: ='Local Workforce'!I10 -> 0 | AA9: =((W$3/1*W9)+(X$3/1*X9)+(Y$3/1*Y9)+(Z$3/1*Z9)) -> 0
A10: 7 | D10: 51 | E10: PPA | F10: ='Bid List'!G12 -> Wind | G10: =$L$3*L10+$Q$3*Q10+$V$3*V10+$AA$3*AA10 -> 0 | H10: ='Training Programs'!F11 -> 0 | I10: ='Training Programs'!G11 -> 0 | J10: ='Training Programs'!H11 -> 0 | K10: ='Training Programs'!I11 -> 0 | L10: =((H$3/1*H10)+(I$3/1*I10)+(J$3/1*J10)+(K$3/1*K10)) -> 0 | M10: ='Wages and Benefits'!F11 -> 0 | N10: ='Wages and Benefits'!G11 -> 0 | O10: ='Wages and Benefits'!H11 -> 0 | P10: ='Wages and Benefits'!I11 -> 0 | Q10: =((M$3/1*M10)+(N$3/1*N10)+(O$3/1*O10)+(P$3/1*P10)) -> 0 | R10: ='Career Opportunities'!F11 -> 0 | S10: ='Career Opportunities'!G11 -> 0 | T10: ='Career Opportunities'!H11 -> 0 | U10: ='Career Opportunities'!I11 -> 0 | V10: =((R$3/1*R10)+(S$3/1*S10)+(T$3/1*T10)+(U$3/1*U10)) -> 0 | W10: ='Local Workforce'!F11 -> 0 | X10: ='Local Workforce'!G11 -> 0 | Y10: ='Local Workforce'!H11 -> 0 | Z10: ='Local Workforce'!I11 -> 0 | AA10: =((W$3/1*W10)+(X$3/1*X10)+(Y$3/1*Y10)+(Z$3/1*Z10)) -> 0
A11: 8 | D11: 66 | E11: PPA | F11: ='Bid List'!G13 -> Wind | G11: =$L$3*L11+$Q$3*Q11+$V$3*V11+$AA$3*AA11 -> 0 | H11: ='Training Programs'!F12 -> 0 | I11: ='Training Programs'!G12 -> 0 | J11: ='Training Programs'!H12 -> 0 | K11: ='Training Programs'!I12 -> 0 | L11: =((H$3/1*H11)+(I$3/1*I11)+(J$3/1*J11)+(K$3/1*K11)) -> 0 | M11: ='Wages and Benefits'!F12 -> 0 | N11: ='Wages and Benefits'!G12 -> 0 | O11: ='Wages and Benefits'!H12 -> 0 | P11: ='Wages and Benefits'!I12 -> 0 | Q11: =((M$3/1*M11)+(N$3/1*N11)+(O$3/1*O11)+(P$3/1*P11)) -> 0 | R11: ='Career Opportunities'!F12 -> 0 | S11: ='Career Opportunities'!G12 -> 0 | T11: ='Career Opportunities'!H12 -> 0 | U11: ='Career Opportunities'!I12 -> 0 | V11: =((R$3/1*R11)+(S$3/1*S11)+(T$3/1*T11)+(U$3/1*U11)) -> 0 | W11: ='Local Workforce'!F12 -> 0 | X11: ='Local Workforce'!G12 -> 0 | Y11: ='Local Workforce'!H12 -> 0 | Z11: ='Local Workforce'!I12 -> 0 | AA11: =((W$3/1*W11)+(X$3/1*X11)+(Y$3/1*Y11)+(Z$3/1*Z11)) -> 0
A12: 9 | D12: 15 | E12: PPA | F12: ='Bid List'!G14 -> Wind + Solar + Storage | G12: =$L$3*L12+$Q$3*Q12+$V$3*V12+$AA$3*AA12 -> 0.86775008 | H12: ='Training Programs'!F13 -> 1 | I12: ='Training Programs'!G13 -> 1 | J12: ='Training Programs'!H13 -> 1 | K12: ='Training Programs'!I13 -> 1 | L12: =((H$3/1*H12)+(I$3/1*I12)+(J$3/1*J12)+(K$3/1*K12)) -> 1 | M12: ='Wages and Benefits'!F13 -> 0.8 | N12: ='Wages and Benefits'!G13 -> 0.92 | O12: ='Wages and Benefits'!H13 -> 1 | P12: ='Wages and Benefits'!I13 -> 1 | Q12: =((M$3/1*M12)+(N$3/1*N12)+(O$3/1*O12)+(P$3/1*P12)) -> 0.944 | R12: ='Career Opportunities'!F13 -> 1 | S12: ='Career Opportunities'!G13 -> 1 | T12: ='Career Opportunities'!H13 -> 1 | U12: ='Career Opportunities'!I13 -> 1 | V12: =((R$3/1*R12)+(S$3/1*S12)+(T$3/1*T12)+(U$3/1*U12)) -> 1 | W12: ='Local Workforce'!F13 -> 0.060001514 | X12: ='Local Workforce'!G13 -> 1 | Y12: ='Local Workforce'!H13 -> 0.05 | Z12: ='Local Workforce'!I13 -> 1 | AA12: =((W$3/1*W12)+(X$3/1*X12)+(Y$3/1*Y12)+(Z$3/1*Z12)) -> 0.5270003
A13: 10 | D13: 17 | E13: PPA | F13: ='Bid List'!G15 -> Wind + Solar + Storage | G13: =$L$3*L13+$Q$3*Q13+$V$3*V13+$AA$3*AA13 -> 0.86775008 | H13: ='Training Programs'!F14 -> 1 | I13: ='Training Programs'!G14 -> 1 | J13: ='Training Programs'!H14 -> 1 | K13: ='Training Programs'!I14 -> 1 | L13: =((H$3/1*H13)+(I$3/1*I13)+(J$3/1*J13)+(K$3/1*K13)) -> 1 | M13: ='Wages and Benefits'!F14 -> 0.8 | N13: ='Wages and Benefits'!G14 -> 0.92 | O13: ='Wages and Benefits'!H14 -> 1 | P13: ='Wages and Benefits'!I14 -> 1 | Q13: =((M$3/1*M13)+(N$3/1*N13)+(O$3/1*O13)+(P$3/1*P13)) -> 0.944 | R13: ='Career Opportunities'!F14 -> 1 | S13: ='Career Opportunities'!G14 -> 1 | T13: ='Career Opportunities'!H14 -> 1 | U13: ='Career Opportunities'!I14 -> 1 | V13: =((R$3/1*R13)+(S$3/1*S13)+(T$3/1*T13)+(U$3/1*U13)) -> 1 | W13: ='Local Workforce'!F14 -> 0.060001514 | X13: ='Local Workforce'!G14 -> 1 | Y13: ='Local Workforce'!H14 -> 0.05 | Z13: ='Local Workforce'!I14 -> 1 | AA13: =((W$3/1*W13)+(X$3/1*X13)+(Y$3/1*Y13)+(Z$3/1*Z13)) -> 0.5270003
A14: 11 | D14: 20 | E14: PPA | F14: ='Bid List'!G16 -> Wind + Solar + Storage | G14: =$L$3*L14+$Q$3*Q14+$V$3*V14+$AA$3*AA14 -> 0.86775008 | H14: ='Training Programs'!F15 -> 1 | I14: ='Training Programs'!G15 -> 1 | J14: ='Training Programs'!H15 -> 1 | K14: ='Training Programs'!I15 -> 1 | L14: =((H$3/1*H14)+(I$3/1*I14)+(J$3/1*J14)+(K$3/1*K14)) -> 1 | M14: ='Wages and Benefits'!F15 -> 0.8 | N14: ='Wages and Benefits'!G15 -> 0.92 | O14: ='Wages and Benefits'!H15 -> 1 | P14: ='Wages and Benefits'!I15 -> 1 | Q14: =((M$3/1*M14)+(N$3/1*N14)+(O$3/1*O14)+(P$3/1*P14)) -> 0.944 | R14: ='Career Opportunities'!F15 -> 1 | S14: ='Career Opportunities'!G15 -> 1 | T14: ='Career Opportunities'!H15 -> 1 | U14: ='Career Opportunities'!I15 -> 1 | V14: =((R$3/1*R14)+(S$3/1*S14)+(T$3/1*T14)+(U$3/1*U14)) -> 1 | W14: ='Local Workforce'!F15 -> 0.060001514 | X14: ='Local Workforce'!G15 -> 1 | Y14: ='Local Workforce'!H15 -> 0.05 | Z14: ='Local Workforce'!I15 -> 1 | AA14: =((W$3/1*W14)+(X$3/1*X14)+(Y$3/1*Y14)+(Z$3/1*Z14)) -> 0.5270003
A15: 12 | D15: 23 | E15: PPA | F15: ='Bid List'!G17 -> Wind + Solar + Storage | G15: =$L$3*L15+$Q$3*Q15+$V$3*V15+$AA$3*AA15 -> 0.86775008 | H15: ='Training Programs'!F16 -> 1 | I15: ='Training Programs'!G16 -> 1 | J15: ='Training Programs'!H16 -> 1 | K15: ='Training Programs'!I16 -> 1 | L15: =((H$3/1*H15)+(I$3/1*I15)+(J$3/1*J15)+(K$3/1*K15)) -> 1 | M15: ='Wages and Benefits'!F16 -> 0.8 | N15: ='Wages and Benefits'!G16 -> 0.92 | O15: ='Wages and Benefits'!H16 -> 1 | P15: ='Wages and Benefits'!I16 -> 1 | Q15: =((M$3/1*M15)+(N$3/1*N15)+(O$3/1*O15)+(P$3/1*P15)) -> 0.944 | R15: ='Career Opportunities'!F16 -> 1 | S15: ='Career Opportunities'!G16 -> 1 | T15: ='Career Opportunities'!H16 -> 1 | U15: ='Career Opportunities'!I16 -> 1 | V15: =((R$3/1*R15)+(S$3/1*S15)+(T$3/1*T15)+(U$3/1*U15)) -> 1 | W15: ='Local Workforce'!F16 -> 0.060001514 | X15: ='Local Workforce'!G16 -> 1 | Y15: ='Local Workforce'!H16 -> 0.05 | Z15: ='Local Workforce'!I16 -> 1 | AA15: =((W$3/1*W15)+(X$3/1*X15)+(Y$3/1*Y15)+(Z$3/1*Z15)) -> 0.5270003
A16: 13 | D16: 24 | E16: PPA | F16: ='Bid List'!G18 -> Wind + Solar + Storage | G16: =$L$3*L16+$Q$3*Q16+$V$3*V16+$AA$3*AA16 -> 0.86775008 | H16: ='Training Programs'!F17 -> 1 | I16: ='Training Programs'!G17 -> 1 | J16: ='Training Programs'!H17 -> 1 | K16: ='Training Programs'!I17 -> 1 | L16: =((H$3/1*H16)+(I$3/1*I16)+(J$3/1*J16)+(K$3/1*K16)) -> 1 | M16: ='Wages and Benefits'!F17 -> 0.8 | N16: ='Wages and Benefits'!G17 -> 0.92 | O16: ='Wages and Benefits'!H17 -> 1 | P16: ='Wages and Benefits'!I17 -> 1 | Q16: =((M$3/1*M16)+(N$3/1*N16)+(O$3/1*O16)+(P$3/1*P16)) -> 0.944 | R16: ='Career Opportunities'!F17 -> 1 | S16: ='Career Opportunities'!G17 -> 1 | T16: ='Career Opportunities'!H17 -> 1 | U16: ='Career Opportunities'!I17 -> 1 | V16: =((R$3/1*R16)+(S$3/1*S16)+(T$3/1*T16)+(U$3/1*U16)) -> 1 | W16: ='Local Workforce'!F17 -> 0.060001514 | X16: ='Local Workforce'!G17 -> 1 | Y16: ='Local Workforce'!H17 -> 0.05 | Z16: ='Local Workforce'!I17 -> 1 | AA16: =((W$3/1*W16)+(X$3/1*X16)+(Y$3/1*Y16)+(Z$3/1*Z16)) -> 0.5270003
... A243: 240 | D243: 514 | E243: PPA | F243: ='Bid List'!G245 -> Gas | G243: =$L$3*L243+$Q$3*Q243+$V$3*V243+$AA$3*AA243 -> 0.08 | H243: ='Training Programs'!F244 -> 0.8 | I243: ='Training Programs'!G244 -> 0.8 | J243: ='Training Programs'!H244 -> 0 | K243: ='Training Programs'!I244 -> 0 | L243: =((H$3/1*H243)+(I$3/1*I243)+(J$3/1*J243)+(K$3/1*K243)) -> 0.32 | M243: ='Wages and Benefits'!F244 -> 0 | N243: ='Wages and Benefits'!G244 -> 0 | O243: ='Wages and Benefits'!H244 -> 0 | P243: ='Wages and Benefits'!I244 -> 0 | Q243: =((M$3/1*M243)+(N$3/1*N243)+(O$3/1*O243)+(P$3/1*P243)) -> 0 | R243: ='Career Opportunities'!F244 -> 0 | S243: ='Career Opportunities'!G244 -> 0 | T243: ='Career Opportunities'!H244 -> 0 | U243: ='Career Opportunities'!I244 -> 0 | V243: =((R$3/1*R243)+(S$3/1*S243)+(T$3/1*T243)+(U$3/1*U243)) -> 0 | W243: ='Local Workforce'!F244 -> 0 | X243: ='Local Workforce'!G244 -> 0 | Y243: ='Local Workforce'!H244 -> 0 | Z243: ='Local Workforce'!I244 -> 0 | AA243: =((W$3/1*W243)+(X$3/1*X243)+(Y$3/1*Y243)+(Z$3/1*Z243)) -> 0
A244: 241 | D244: 517 | E244: PPA | F244: Gas | G244: =$L$3*L244+$Q$3*Q244+$V$3*V244+$AA$3*AA244 -> 0.08 | H244: 0.8 | I244: 0.8 | J244: ='Training Programs'!H245 -> 0 | K244: ='Training Programs'!I245 -> 0 | L244: =((H$3/1*H244)+(I$3/1*I244)+(J$3/1*J244)+(K$3/1*K244)) -> 0.32 | M244: ='Wages and Benefits'!F245 -> 0 | N244: ='Wages and Benefits'!G245 -> 0 | O244: ='Wages and Benefits'!H245 -> 0 | P244: ='Wages and Benefits'!I245 -> 0 | Q244: =((M$3/1*M244)+(N$3/1*N244)+(O$3/1*O244)+(P$3/1*P244)) -> 0 | R244: ='Career Opportunities'!F245 -> 0 | S244: ='Career Opportunities'!G245 -> 0 | T244: ='Career Opportunities'!H245 -> 0 | U244: ='Career Opportunities'!I245 -> 0 | V244: =((R$3/1*R244)+(S$3/1*S244)+(T$3/1*T244)+(U$3/1*U244)) -> 0 | W244: ='Local Workforce'!F245 -> 0 | X244: ='Local Workforce'!G245 -> 0 | Y244: ='Local Workforce'!H245 -> 0 | Z244: ='Local Workforce'!I245 -> 0 | AA244: =((W$3/1*W244)+(X$3/1*X244)+(Y$3/1*Y244)+(Z$3/1*Z244)) -> 0
A245: 242 | D245: 538 | E245: PPA | F245: Gas | G245: =$L$3*L245+$Q$3*Q245+$V$3*V245+$AA$3*AA245 -> 0.08 | H245: 0.8 | I245: 0.8 | J245: ='Training Programs'!H246 -> 0 | K245: ='Training Programs'!I246 -> 0 | L245: =((H$3/1*H245)+(I$3/1*I245)+(J$3/1*J245)+(K$3/1*K245)) -> 0.32 | M245: ='Wages and Benefits'!F246 -> 0 | N245: ='Wages and Benefits'!G246 -> 0 | O245: ='Wages and Benefits'!H246 -> 0 | P245: ='Wages and Benefits'!I246 -> 0 | Q245: =((M$3/1*M245)+(N$3/1*N245)+(O$3/1*O245)+(P$3/1*P245)) -> 0 | R245: ='Career Opportunities'!F246 -> 0 | S245: ='Career Opportunities'!G246 -> 0 | T245: ='Career Opportunities'!H246 -> 0 | U245: ='Career Opportunities'!I246 -> 0 | V245: =((R$3/1*R245)+(S$3/1*S245)+(T$3/1*T245)+(U$3/1*U245)) -> 0 | W245: ='Local Workforce'!F246 -> 0 | X245: ='Local Workforce'!G246 -> 0 | Y245: ='Local Workforce'!H246 -> 0 | Z245: ='Local Workforce'!I246 -> 0 | AA245: =((W$3/1*W245)+(X$3/1*X245)+(Y$3/1*Y245)+(Z$3/1*Z245)) -> 0
A246: 243 | D246: 552 | E246: PPA | F246: ='Bid List'!G248 -> Geothermal | G246: =$L$3*L246+$Q$3*Q246+$V$3*V246+$AA$3*AA246 -> 0.092666667 | H246: ='Training Programs'!F247 -> 0 | I246: ='Training Programs'!G247 -> 0 | J246: ='Training Programs'!H247 -> 0 | K246: ='Training Programs'!I247 -> 0 | L246: =((H$3/1*H246)+(I$3/1*I246)+(J$3/1*J246)+(K$3/1*K246)) -> 0 | M246: ='Wages and Benefits'!F247 -> 0.5 | N246: ='Wages and Benefits'!G247 -> 0.52 | O246: ='Wages and Benefits'!H247 -> 0 | P246: ='Wages and Benefits'!I247 -> 0 | Q246: =((M$3/1*M246)+(N$3/1*N246)+(O$3/1*O246)+(P$3/1*P246)) -> 0.204 | R246: ='Career Opportunities'!F247 -> 0 | S246: ='Career Opportunities'!G247 -> 0 | T246: ='Career Opportunities'!H247 -> 0 | U246: ='Career Opportunities'!I247 -> 0 | V246: =((R$3/1*R246)+(S$3/1*S246)+(T$3/1*T246)+(U$3/1*U246)) -> 0 | W246: ='Local Workforce'!F247 -> 0.5 | X246: ='Local Workforce'!G247 -> 0.33333333 | Y246: ='Local Workforce'!H247 -> 0 | Z246: ='Local Workforce'!I247 -> 0 | AA246: =((W$3/1*W246)+(X$3/1*X246)+(Y$3/1*Y246)+(Z$3/1*Z246)) -> 0.16666667
A247: 244 | D247: 554 | E247: PPA | F247: ='Bid List'!G249 -> Storage | G247: =$L$3*L247+$Q$3*Q247+$V$3*V247+$AA$3*AA247 -> 0 | H247: ='Training Programs'!F248 -> 0 | I247: ='Training Programs'!G248 -> 0 | J247: ='Training Programs'!H248 -> 0 | K247: ='Training Programs'!I248 -> 0 | L247: =((H$3/1*H247)+(I$3/1*I247)+(J$3/1*J247)+(K$3/1*K247)) -> 0 | M247: ='Wages and Benefits'!F248 -> 0 | N247: ='Wages and Benefits'!G248 -> 0 | O247: ='Wages and Benefits'!H248 -> 0 | P247: ='Wages and Benefits'!I248 -> 0 | Q247: =((M$3/1*M247)+(N$3/1*N247)+(O$3/1*O247)+(P$3/1*P247)) -> 0 | R247: ='Career Opportunities'!F248 -> 0 | S247: ='Career Opportunities'!G248 -> 0 | T247: ='Career Opportunities'!H248 -> 0 | U247: ='Career Opportunities'!I248 -> 0 | V247: =((R$3/1*R247)+(S$3/1*S247)+(T$3/1*T247)+(U$3/1*U247)) -> 0 | W247: ='Local Workforce'!F248 -> 0 | X247: ='Local Workforce'!G248 -> 0 | Y247: ='Local Workforce'!H248 -> 0 | Z247: ='Local Workforce'!I248 -> 0 | AA247: =((W$3/1*W247)+(X$3/1*X247)+(Y$3/1*Y247)+(Z$3/1*Z247)) -> 0
A248: 245 | D248: 555 | E248: PPA | F248: ='Bid List'!G250 -> Storage | G248: =$L$3*L248+$Q$3*Q248+$V$3*V248+$AA$3*AA248 -> 0 | H248: ='Training Programs'!F249 -> 0 | I248: ='Training Programs'!G249 -> 0 | J248: ='Training Programs'!H249 -> 0 | K248: ='Training Programs'!I249 -> 0 | L248: =((H$3/1*H248)+(I$3/1*I248)+(J$3/1*J248)+(K$3/1*K248)) -> 0 | M248: ='Wages and Benefits'!F249 -> 0 | N248: ='Wages and Benefits'!G249 -> 0 | O248: ='Wages and Benefits'!H249 -> 0 | P248: ='Wages and Benefits'!I249 -> 0 | Q248: =((M$3/1*M248)+(N$3/1*N248)+(O$3/1*O248)+(P$3/1*P248)) -> 0 | R248: ='Career Opportunities'!F249 -> 0 | S248: ='Career Opportunities'!G249 -> 0 | T248: ='Career Opportunities'!H249 -> 0 | U248: ='Career Opportunities'!I249 -> 0 | V248: =((R$3/1*R248)+(S$3/1*S248)+(T$3/1*T248)+(U$3/1*U248)) -> 0 | W248: ='Local Workforce'!F249 -> 0 | X248: ='Local Workforce'!G249 -> 0 | Y248: ='Local Workforce'!H249 -> 0 | Z248: ='Local Workforce'!I249 -> 0 | AA248: =((W$3/1*W248)+(X$3/1*X248)+(Y$3/1*Y248)+(Z$3/1*Z248)) -> 0
A249: 246 | D249: 562 | E249: PPA | F249: ='Bid List'!G251 -> Wind | G249: =$L$3*L249+$Q$3*Q249+$V$3*V249+$AA$3*AA249 -> 0 | H249: ='Training Programs'!F250 -> 0 | I249: ='Training Programs'!G250 -> 0 | J249: ='Training Programs'!H250 -> 0 | K249: ='Training Programs'!I250 -> 0 | L249: =((H$3/1*H249)+(I$3/1*I249)+(J$3/1*J249)+(K$3/1*K249)) -> 0 | M249: ='Wages and Benefits'!F250 -> 0 | N249: ='Wages and Benefits'!G250 -> 0 | O249: ='Wages and Benefits'!H250 -> 0 | P249: ='Wages and Benefits'!I250 -> 0 | Q249: =((M$3/1*M249)+(N$3/1*N249)+(O$3/1*O249)+(P$3/1*P249)) -> 0 | R249: ='Career Opportunities'!F250 -> 0 | S249: ='Career Opportunities'!G250 -> 0 | T249: ='Career Opportunities'!H250 -> 0 | U249: ='Career Opportunities'!I250 -> 0 | V249: =((R$3/1*R249)+(S$3/1*S249)+(T$3/1*T249)+(U$3/1*U249)) -> 0 | W249: ='Local Workforce'!F250 -> 0 | X249: ='Local Workforce'!G250 -> 0 | Y249: ='Local Workforce'!H250 -> 0 | Z249: ='Local Workforce'!I250 -> 0 | AA249: =((W$3/1*W249)+(X$3/1*X249)+(Y$3/1*Y249)+(Z$3/1*Z249)) -> 0
A250: 247 | D250: 588 | E250: PPA | F250: ='Bid List'!G252 -> Wind + Storage | G250: =$L$3*L250+$Q$3*Q250+$V$3*V250+$AA$3*AA250 -> 0 | H250: ='Training Programs'!F251 -> 0 | I250: ='Training Programs'!G251 -> 0 | J250: ='Training Programs'!H251 -> 0 | K250: ='Training Programs'!I251 -> 0 | L250: =((H$3/1*H250)+(I$3/1*I250)+(J$3/1*J250)+(K$3/1*K250)) -> 0 | M250: ='Wages and Benefits'!F251 -> 0 | N250: ='Wages and Benefits'!G251 -> 0 | O250: ='Wages and Benefits'!H251 -> 0 | P250: ='Wages and Benefits'!I251 -> 0 | Q250: =((M$3/1*M250)+(N$3/1*N250)+(O$3/1*O250)+(P$3/1*P250)) -> 0 | R250: ='Career Opportunities'!F251 -> 0 | S250: ='Career Opportunities'!G251 -> 0 | T250: ='Career Opportunities'!H251 -> 0 | U250: ='Career Opportunities'!I251 -> 0 | V250: =((R$3/1*R250)+(S$3/1*S250)+(T$3/1*T250)+(U$3/1*U250)) -> 0 | W250: ='Local Workforce'!F251 -> 0 | X250: ='Local Workforce'!G251 -> 0 | Y250: ='Local Workforce'!H251 -> 0 | Z250: ='Local Workforce'!I251 -> 0 | AA250: =((W$3/1*W250)+(X$3/1*X250)+(Y$3/1*Y250)+(Z$3/1*Z250)) -> 0
A251: 248 | D251: 589 | E251: PPA | F251: ='Bid List'!G253 -> Storage | G251: =$L$3*L251+$Q$3*Q251+$V$3*V251+$AA$3*AA251 -> 1 | H251: ='Training Programs'!F252 -> 1 | I251: ='Training Programs'!G252 -> 1 | J251: ='Training Programs'!H252 -> 1 | K251: ='Training Programs'!I252 -> 1 | L251: =((H$3/1*H251)+(I$3/1*I251)+(J$3/1*J251)+(K$3/1*K251)) -> 1 | M251: ='Wages and Benefits'!F252 -> 1 | N251: ='Wages and Benefits'!G252 -> 1 | O251: ='Wages and Benefits'!H252 -> 1 | P251: ='Wages and Benefits'!I252 -> 1 | Q251: =((M$3/1*M251)+(N$3/1*N251)+(O$3/1*O251)+(P$3/1*P251)) -> 1 | R251: ='Career Opportunities'!F252 -> 1 | S251: ='Career Opportunities'!G252 -> 1 | T251: ='Career Opportunities'!H252 -> 1 | U251: ='Career Opportunities'!I252 -> 1 | V251: =((R$3/1*R251)+(S$3/1*S251)+(T$3/1*T251)+(U$3/1*U251)) -> 1 | W251: ='Local Workforce'!F252 -> 1 | X251: ='Local Workforce'!G252 -> 1 | Y251: ='Local Workforce'!H252 -> 1 | Z251: ='Local Workforce'!I252 -> 1 | AA251: =((W$3/1*W251)+(X$3/1*X251)+(Y$3/1*Y251)+(Z$3/1*Z251)) -> 1
A252: 249 | D252: 593 | E252: PPA | F252: ='Bid List'!G254 -> Storage | G252: =$L$3*L252+$Q$3*Q252+$V$3*V252+$AA$3*AA252 -> 1 | H252: ='Training Programs'!F253 -> 1 | I252: ='Training Programs'!G253 -> 1 | J252: ='Training Programs'!H253 -> 1 | K252: ='Training Programs'!I253 -> 1 | L252: =((H$3/1*H252)+(I$3/1*I252)+(J$3/1*J252)+(K$3/1*K252)) -> 1 | M252: ='Wages and Benefits'!F253 -> 1 | N252: ='Wages and Benefits'!G253 -> 1 | O252: ='Wages and Benefits'!H253 -> 1 | P252: ='Wages and Benefits'!I253 -> 1 | Q252: =((M$3/1*M252)+(N$3/1*N252)+(O$3/1*O252)+(P$3/1*P252)) -> 1 | R252: ='Career Opportunities'!F253 -> 1 | S252: ='Career Opportunities'!G253 -> 1 | T252: ='Career Opportunities'!H253 -> 1 | U252: ='Career Opportunities'!I253 -> 1 | V252: =((R$3/1*R252)+(S$3/1*S252)+(T$3/1*T252)+(U$3/1*U252)) -> 1 | W252: ='Local Workforce'!F253 -> 1 | X252: ='Local Workforce'!G253 -> 1 | Y252: ='Local Workforce'!H253 -> 1 | Z252: ='Local Workforce'!I253 -> 1 | AA252: =((W$3/1*W252)+(X$3/1*X252)+(Y$3/1*Y252)+(Z$3/1*Z252)) -> 1
A253: 250 | D253: 594 | E253: PPA | F253: ='Bid List'!G255 -> Solar | G253: =$L$3*L253+$Q$3*Q253+$V$3*V253+$AA$3*AA253 -> 1 | H253: ='Training Programs'!F254 -> 1 | I253: ='Training Programs'!G254 -> 1 | J253: ='Training Programs'!H254 -> 1 | K253: ='Training Programs'!I254 -> 1 | L253: =((H$3/1*H253)+(I$3/1*I253)+(J$3/1*J253)+(K$3/1*K253)) -> 1 | M253: ='Wages and Benefits'!F254 -> 1 | N253: ='Wages and Benefits'!G254 -> 1 | O253: ='Wages and Benefits'!H254 -> 1 | P253: ='Wages and Benefits'!I254 -> 1 | Q253: =((M$3/1*M253)+(N$3/1*N253)+(O$3/1*O253)+(P$3/1*P253)) -> 1 | R253: ='Career Opportunities'!F254 -> 1 | S253: ='Career Opportunities'!G254 -> 1 | T253: ='Career Opportunities'!H254 -> 1 | U253: ='Career Opportunities'!I254 -> 1 | V253: =((R$3/1*R253)+(S$3/1*S253)+(T$3/1*T253)+(U$3/1*U253)) -> 1 | W253: ='Local Workforce'!F254 -> 1 | X253: ='Local Workforce'!G254 -> 1 | Y253: ='Local Workforce'!H254 -> 1 | Z253: ='Local Workforce'!I254 -> 1 | AA253: =((W$3/1*W253)+(X$3/1*X253)+(Y$3/1*Y253)+(Z$3/1*Z253)) -> 1
A254: 251 | D254: 981 | E254: PPA | F254: ='Bid List'!G256 -> Solar + Storage | G254: =$L$3*L254+$Q$3*Q254+$V$3*V254+$AA$3*AA254 -> 1 | H254: ='Training Programs'!F255 -> 1 | I254: ='Training Programs'!G255 -> 1 | J254: ='Training Programs'!H255 -> 1 | K254: ='Training Programs'!I255 -> 1 | L254: =((H$3/1*H254)+(I$3/1*I254)+(J$3/1*J254)+(K$3/1*K254)) -> 1 | M254: ='Wages and Benefits'!F255 -> 1 | N254: ='Wages and Benefits'!G255 -> 1 | O254: ='Wages and Benefits'!H255 -> 1 | P254: ='Wages and Benefits'!I255 -> 1 | Q254: =((M$3/1*M254)+(N$3/1*N254)+(O$3/1*O254)+(P$3/1*P254)) -> 1 | R254: ='Career Opportunities'!F255 -> 1 | S254: ='Career Opportunities'!G255 -> 1 | T254: ='Career Opportunities'!H255 -> 1 | U254: ='Career Opportunities'!I255 -> 1 | V254: =((R$3/1*R254)+(S$3/1*S254)+(T$3/1*T254)+(U$3/1*U254)) -> 1 | W254: ='Local Workforce'!F255 -> 1 | X254: ='Local Workforce'!G255 -> 1 | Y254: ='Local Workforce'!H255 -> 1 | Z254: ='Local Workforce'!I255 -> 1 | AA254: =((W$3/1*W254)+(X$3/1*X254)+(Y$3/1*Y254)+(Z$3/1*Z254)) -> 1
A255: 252 | D255: 1056 | E255: PPA | F255: ='Bid List'!G257 -> Storage | G255: =$L$3*L255+$Q$3*Q255+$V$3*V255+$AA$3*AA255 -> 0 | H255: ='Training Programs'!F256 -> 0 | I255: ='Training Programs'!G256 -> 0 | J255: ='Training Programs'!H256 -> 0 | K255: ='Training Programs'!I256 -> 0 | L255: =((H$3/1*H255)+(I$3/1*I255)+(J$3/1*J255)+(K$3/1*K255)) -> 0 | M255: ='Wages and Benefits'!F256 -> 0 | N255: ='Wages and Benefits'!G256 -> 0 | O255: ='Wages and Benefits'!H256 -> 0 | P255: ='Wages and Benefits'!I256 -> 0 | Q255: =((M$3/1*M255)+(N$3/1*N255)+(O$3/1*O255)+(P$3/1*P255)) -> 0 | R255: ='Career Opportunities'!F256 -> 0 | S255: ='Career Opportunities'!G256 -> 0 | T255: ='Career Opportunities'!H256 -> 0 | U255: ='Career Opportunities'!I256 -> 0 | V255: =((R$3/1*R255)+(S$3/1*S255)+(T$3/1*T255)+(U$3/1*U255)) -> 0 | W255: ='Local Workforce'!F256 -> 0 | X255: ='Local Workforce'!G256 -> 0 | Y255: ='Local Workforce'!H256 -> 0 | Z255: ='Local Workforce'!I256 -> 0 | AA255: =((W$3/1*W255)+(X$3/1*X255)+(Y$3/1*Y255)+(Z$3/1*Z255)) -> 0
A256: 253 | D256: 363 | E256: PPA | F256: ='Bid List'!G258 -> Solar | G256: =$L$3*L256+$Q$3*Q256+$V$3*V256+$AA$3*AA256 -> 0 | H256: ='Training Programs'!F257 -> 0 | I256: ='Training Programs'!G257 -> 0 | J256: ='Training Programs'!H257 -> 0 | K256: ='Training Programs'!I257 -> 0 | L256: =((H$3/1*H256)+(I$3/1*I256)+(J$3/1*J256)+(K$3/1*K256)) -> 0 | M256: ='Wages and Benefits'!F257 -> 0 | N256: ='Wages and Benefits'!G257 -> 0 | O256: ='Wages and Benefits'!H257 -> 0 | P256: ='Wages and Benefits'!I257 -> 0 | Q256: =((M$3/1*M256)+(N$3/1*N256)+(O$3/1*O256)+(P$3/1*P256)) -> 0 | R256: ='Career Opportunities'!F257 -> 0 | S256: ='Career Opportunities'!G257 -> 0 | T256: ='Career Opportunities'!H257 -> 0 | U256: ='Career Opportunities'!I257 -> 0 | V256: =((R$3/1*R256)+(S$3/1*S256)+(T$3/1*T256)+(U$3/1*U256)) -> 0 | W256: ='Local Workforce'!F257 -> 0 | X256: ='Local Workforce'!G257 -> 0 | Y256: ='Local Workforce'!H257 -> 0 | Z256: ='Local Workforce'!I257 -> 0 | AA256: =((W$3/1*W256)+(X$3/1*X256)+(Y$3/1*Y256)+(Z$3/1*Z256)) -> 0
A257: 254 | D257: 317 | E257: Own | F257: ='Bid List'!G259 -> Solar | G257: =$L$3*L257+$Q$3*Q257+$V$3*V257+$AA$3*AA257 -> 0 | H257: ='Training Programs'!F258 -> 0 | I257: ='Training Programs'!G258 -> 0 | J257: ='Training Programs'!H258 -> 0 | K257: ='Training Programs'!I258 -> 0 | L257: =((H$3/1*H257)+(I$3/1*I257)+(J$3/1*J257)+(K$3/1*K257)) -> 0 | M257: ='Wages and Benefits'!F258 -> 0 | N257: ='Wages and Benefits'!G258 -> 0 | O257: ='Wages and Benefits'!H258 -> 0 | P257: ='Wages and Benefits'!I258 -> 0 | Q257: =((M$3/1*M257)+(N$3/1*N257)+(O$3/1*O257)+(P$3/1*P257)) -> 0 | R257: ='Career Opportunities'!F258 -> 0 | S257: ='Career Opportunities'!G258 -> 0 | T257: ='Career Opportunities'!H258 -> 0 | U257: ='Career Opportunities'!I258 -> 0 | V257: =((R$3/1*R257)+(S$3/1*S257)+(T$3/1*T257)+(U$3/1*U257)) -> 0 | W257: ='Local Workforce'!F258 -> 0 | X257: ='Local Workforce'!G258 -> 0 | Y257: ='Local Workforce'!H258 -> 0 | Z257: ='Local Workforce'!I258 -> 0 | AA257: =((W$3/1*W257)+(X$3/1*X257)+(Y$3/1*Y257)+(Z$3/1*Z257)) -> 0
... A385: 382 | D385: 1127 | E385: Own | F385: ='Bid List'!G387 -> Solar + Storage | G385: =$L$3*L385+$Q$3*Q385+$V$3*V385+$AA$3*AA385 -> 0.0935 | H385: ='Training Programs'!F386 -> 0.4 | I385: ='Training Programs'!G386 -> 0.4 | J385: ='Training Programs'!H386 -> 0 | K385: ='Training Programs'!I386 -> 0 | L385: =((H$3/1*H385)+(I$3/1*I385)+(J$3/1*J385)+(K$3/1*K385)) -> 0.16 | M385: ='Wages and Benefits'!F386 -> 0.4 | N385: ='Wages and Benefits'!G386 -> 0.32 | O385: ='Wages and Benefits'!H386 -> 0 | P385: ='Wages and Benefits'!I386 -> 0 | Q385: =((M$3/1*M385)+(N$3/1*N385)+(O$3/1*O385)+(P$3/1*P385)) -> 0.144 | R385: ='Career Opportunities'!F386 -> 0.15 | S385: ='Career Opportunities'!G386 -> 0.2 | T385: ='Career Opportunities'!H386 -> 0 | U385: ='Career Opportunities'!I386 -> 0 | V385: =((R$3/1*R385)+(S$3/1*S385)+(T$3/1*T385)+(U$3/1*U385)) -> 0.07 | W385: ='Local Workforce'!F386 -> 0 | X385: ='Local Workforce'!G386 -> 0 | Y385: ='Local Workforce'!H386 -> 0 | Z385: ='Local Workforce'!I386 -> 0 | AA385: =((W$3/1*W385)+(X$3/1*X385)+(Y$3/1*Y385)+(Z$3/1*Z385)) -> 0

Sheet Training Programs
A1: BVEM | D1: Public Bid Number | J1: General - Overall | Y1: Craft/Job Classifications 1 | AO1: Craft/Job Classifications 2 | BE1: Craft/Job Classifications 3 | BU1: Craft/Job Classifications 4 | CK1: Craft/Job Classifications 5 | DA1: Craft/Job Classifications 6 | DQ1: Craft/Job Classifications 7 | EG1: Craft/Job Classifications 8 | EW1: Craft/Job Classifications 9 | FM1: Craft/Job Classifications 10 | GC1: Craft/Job Classifications 11 | GS1: Craft/Job Classifications 12 | HI1: Craft/Job Classifications 13 | HY1: Craft/Job Classifications 14 | IO1: Craft/Job Classifications 15 | JE1: Craft/Job Classifications 16 | JU1: Craft/Job Classifications 17 | KK1: Craft/Job Classifications 18 | LA1: Craft/Job Classifications 19 | LQ1: Craft/Job Classifications 20
E2: Type of Project (Wind, Solar, Hydrogen, Hydro, Battery, Transmission, Coal, Natural Gas) | F2: General Responses | G2: General Completeness | H2: Craft Responses | I2: Craft Completeness | J2: Provide jobs by craft | K2: Evaluate | L2: Provided Number of Jobs | M2: Demonstrated Availability of Training Programs | N2: Provided names of specific training programs available | O2: Provided the curriculum of the specific training programs | P2: Provided the cost of worker training. | Q2: Described the duration of the training programs. | R2: Provided total number of hours of on-the-job training required | S2: Provided the total number of classroom hours required | T2: Described the licenses and certifications obtained, | U2: Provided a copy of training program standards for each training program. | V2: Provided a statement whether the training programs are United States Department of Labor registered apprenticeship programs and are accredited to award college credits. | W2: Completeness | X2: Scored Responses | Y2: Job craft | Z2: Evaluate | AA2: Number of Jobs | AB2: Availability of Training Programs | AC2: Provided names of specific training programs available | AD2: Provided the curriculum of the specific training programs | AE2: Provided the cost of worker training. | AF2: Described the duration of the training programs. | AG2: Provided total number of hours of on-the-job training required | AH2: Provided the total number of classroom hours required | AI2: Described the licenses and certifications obtained, | AJ2: Provided a copy of training program standards for each training program. | AK2: Provided a statement whether the training programs are United States Department of Labor registered apprenticeship programs and are accredited to award college credits. | AL2: Completeness | AM2: Weighted Jobs | AN2: Scored Responses | AO2: Job craft | AP2: Evaluate | AQ2: Number of Jobs | AR2: Availability of Training Programs | AS2: Provided names of specific training programs available | AT2: Provided the curriculum of the specific training programs | AU2: Provided the cost of worker training. | AV2: Described the duration of the training programs. | AW2: Provided total number of hours of on-the-job training required | AX2: Provided the total number of classroom hours required | AY2: Described the licenses and certifications obtained, | AZ2: Provided a copy of training program standards for each training program. | BA2: Provided a statement whether the training programs are United States Department of Labor registered apprenticeship programs and are accredited to award college credits. | BB2: Completeness | BC2: Weighted Jobs | BD2: Scored Responses | BE2: Job craft | BF2: Evaluate | BG2: Number of Jobs | BH2: Availability of Training Programs | BI2: Provided names of specific training programs available | BJ2: Provided the curriculum of the specific training programs | BK2: Provided the cost of worker training. | BL2: Described the duration of the training programs. | BM2: Provided total number of hours of on-the-job training required | BN2: Provided the total number of classroom hours required | BO2: Described the licenses and certifications obtained, | BP2: Provided a copy of training program standards for each training program. | BQ2: Provided a statement whether the training programs are United States Department of Labor registered apprenticeship programs and are accredited to award college credits. | BR2: Completeness | BS2: Weighted Jobs | BT2: Scored Responses | BU2: Job craft | BV2: Evaluate | BW2: Number of Jobs | BX2: Availability of Training Programs | BY2: Provided names of specific training programs available | BZ2: Provided the curriculum of the specific training programs | CA2: Provided the cost of worker training. | CB2: Described the duration of the training programs. | CC2: Provided total number of hours of on-the-job training required | CD2: Provided the total number of classroom hours required | CE2: Described the licenses and certifications obtained, | CF2: Provided a copy of training program standards for each training program. | CG2: Provided a statement whether the training programs are United States Department of Labor registered apprenticeship programs and are accredited to award college credits. | CH2: Completeness | CI2: Weighted Jobs | CJ2: Scored Responses | CK2: Job craft | CL2: Evaluate | CM2: Number of Jobs | CN2: Availability of Training Programs | CO2: Provided names of specific training programs available | CP2: Provided the curriculum of the specific training programs | CQ2: Provided the cost of worker training. | CR2: Described the duration of the training programs. | CS2: Provided total number of hours of on-the-job training required | CT2: Provided the total number of classroom hours required | CU2: Described the licenses and certifications obtained, | CV2: Provided a copy of training program standards for each training program. | CW2: Provided a statement whether the training programs are United States Department of Labor registered apprenticeship programs and are accredited to award college credits. | CX2: Completeness | CY2: Weighted Jobs | CZ2: Scored Responses | DA2: Job craft | DB2: Evaluate | DC2: Number of Jobs | DD2: Availability of Training Programs | DE2: Provided names of specific training programs available | DF2: Provided the curriculum of the specific training programs | DG2: Provided the cost of worker training. | DH2: Described the duration of the training programs. | DI2: Provided total number of hours of on-the-job training required | DJ2: Provided the total number of classroom hours required | DK2: Described the licenses and certifications obtained, | DL2: Provided a copy of training program standards for each training program. | DM2: Provided a statement whether the training programs are United States Department of Labor registered apprenticeship programs and are accredited to award college credits. | DN2: Completeness | DO2: Weighted Jobs | DP2: Scored Responses | DQ2: Job craft | DR2: Evaluate | DS2: Number of Jobs | DT2: Availability of Training Programs | DU2: Provided names of specific training programs available | DV2: Provided the curriculum of the specific training programs | DW2: Provided the cost of worker training. | DX2: Described the duration of the training programs. | DY2: Provided total number of hours of on-the-job training required | DZ2: Provided the total number of classroom hours required | EA2: Described the licenses and certifications obtained, | EB2: Provided a copy of training program standards for each training program. | EC2: Provided a statement whether the training programs are United States Department of Labor registered apprenticeship programs and are accredited to award college credits. | ED2: Completeness | EE2: Weighted Jobs | EF2: Scored Responses | EG2: Job craft | EH2: Evaluate | EI2: Number of Jobs | EJ2: Availability of Training Programs | EK2: Provided names of specific training programs available | EL2: Provided the curriculum of the specific training programs | EM2: Provided the cost of worker training. | EN2: Described the duration of the training programs. | EO2: Provided total number of hours of on-the-job training required | EP2: Provided the total number of classroom hours required | EQ2: Described the licenses and certifications obtained, | ER2: Provided a copy of training program standards for each training program. | ES2: Provided a statement whether the training programs are United States Department of Labor registered apprenticeship programs and are accredited to award college credits. | ET2: Completeness | EU2: Weighted Jobs | EV2: Scored Responses | EW2: Job craft | EX2: Evaluate | EY2: Number of Jobs | EZ2: Availability of Training Programs | FA2: Provided names of specific training programs available | FB2: Provided the curriculum of the specific training programs | FC2: Provided the cost of worker training. | FD2: Described the duration of the training programs. | FE2: Provided total number of hours of on-the-job training required | FF2: Provided the total number of classroom hours required | FG2: Described the licenses and certifications obtained, | FH2: Provided a copy of training program standards for each training program. | FI2: Provided a statement whether the training programs are United States Department of Labor registered apprenticeship programs and are accredited to award college credits. | FJ2: Completeness | FK2: Weighted Jobs | FL2: Scored Responses | FM2: Job craft | FN2: Evaluate | FO2: Number of Jobs | FP2: Availability of Training Programs | FQ2: Provided names of specific training programs available | FR2: Provided the curriculum of the specific training programs | FS2: Provided the cost of worker training. | FT2: Described the duration of the training programs. | FU2: Provided total number of hours of on-the-job training required | FV2: Provided the total number of classroom hours required | FW2: Described the licenses and certifications obtained, | FX2: Provided a copy of training program standards for each training program. | FY2: Provided a statement whether the training programs are United States Department of Labor registered apprenticeship programs and are accredited to award college credits. | FZ2: Completeness | GA2: Weighted Jobs | GB2: Scored Responses | GC2: Job craft | GD2: Evaluate | GE2: Number of Jobs | GF2: Availability of Training Programs | GG2: Provided names of specific training programs available | GH2: Provided the curriculum of the specific training programs | GI2: Provided the cost of worker training. | GJ2: Described the duration of the training programs. | GK2: Provided total number of hours of on-the-job training required | GL2: Provided the total number of classroom hours required | GM2: Described the licenses and certifications obtained, | GN2: Provided a copy of training program standards for each training program. | GO2: Provided a statement whether the training programs are United States Department of Labor registered apprenticeship programs and are accredited to award college credits. | GP2: Completeness | GQ2: Weighted Jobs | GR2: Scored Responses | GS2: Job craft | GT2: Evaluate | GU2: Number of Jobs | GV2: Availability of Training Programs | GW2: Provided names of specific training programs available | GX2: Provided the curriculum of the specific training programs | GY2: Provided the cost of worker training. | GZ2: Described the duration of the training programs. | HA2: Provided total number of hours of on-the-job training required | HB2: Provided the total number of classroom hours required | HC2: Described the licenses and certifications obtained, | HD2: Provided a copy of training program standards for each training program. | HE2: Provided a statement whether the training programs are United States Department of Labor registered apprenticeship programs and are accredited to award college credits. | HF2: Completeness | HG2: Weighted Jobs | HH2: Scored Responses | HI2: Job craft | HJ2: Evaluate | HK2: Number of Jobs | HL2: Availability of Training Programs | HM2: Provided names of specific training programs available | HN2: Provided the curriculum of the specific training programs | HO2: Provided the cost of worker training. | HP2: Described the duration of the training programs. | HQ2: Provided total number of hours of on-the-job training required | HR2: Provided the total number of classroom hours required | HS2: Described the licenses and certifications obtained, | HT2: Provided a copy of training program standards for each training program. | HU2: Provided a statement whether the training programs are United States Department of Labor registered apprenticeship programs and are accredited to award college credits. | HV2: Completeness | HW2: Weighted Jobs | HX2: Scored Responses | HY2: Job craft | HZ2: Evaluate | IA2: Number of Jobs | IB2: Availability of Training Programs | IC2: Provided names of specific training programs available | ID2: Provided the curriculum of the specific training programs | IE2: Provided the cost of worker training. | IF2: Described the duration of the training programs. | IG2: Provided total number of hours of on-the-job training required | IH2: Provided the total number of classroom hours required | II2: Described the licenses and certifications obtained, | IJ2: Provided a copy of training program standards for each training program. | IK2: Provided a statement whether the training programs are United States Department of Labor registered apprenticeship programs and are accredited to award college credits. | IL2: Completeness | IM2: Weighted Jobs | IN2: Scored Responses | IO2: Job craft | IP2: Evaluate | IQ2: Number of Jobs | IR2: Availability of Training Programs | IS2: Provided names of specific training programs available | IT2: Provided the curriculum of the specific training programs | IU2: Provided the cost of worker training. | IV2: Described the duration of the training programs. | IW2: Provided total number of hours of on-the-job training required | IX2: Provided the total number of classroom hours required | IY2: Described the licenses and certifications obtained, | IZ2: Provided a copy of training program standards for each training program. | JA2: Provided a statement whether the training programs are United States Department of Labor registered apprenticeship programs and are accredited to award college credits. | JB2: Completeness | JC2: Weighted Jobs | JD2: Scored Responses | JE2: Job craft | JF2: Evaluate | JG2: Number of Jobs | JH2: Availability of Training Programs | JI2: Provided names of specific training programs available | JJ2: Provided the curriculum of the specific training programs | JK2: Provided the cost of worker training. | JL2: Described the duration of the training programs. | JM2: Provided total number of hours of on-the-job training required | JN2: Provided the total number of classroom hours required | JO2: Described the licenses and certifications obtained, | JP2: Provided a copy of training program standards for each training program. | JQ2: Provided a statement whether the training programs are United States Department of Labor registered apprenticeship programs and are accredited to award college credits. | JR2: Completeness | JS2: Weighted Jobs | JT2: Scored Responses | JU2: Job craft | JV2: Evaluate | JW2: Number of Jobs | JX2: Availability of Training Programs | JY2: Provided names of specific training programs available | JZ2: Provided the curriculum of the specific training programs | KA2: Provided the cost of worker training. | KB2: Described the duration of the training programs. | KC2: Provided total number of hours of on-the-job training required | KD2: Provided the total number of classroom hours required | KE2: Described the licenses and certifications obtained, | KF2: Provided a copy of training program standards for each training program. | KG2: Provided a statement whether the training programs are United States Department of Labor registered apprenticeship programs and are accredited to award college credits. | KH2: Completeness | KI2: Weighted Jobs | KJ2: Scored Responses | KK2: Job craft | KL2: Evaluate | KM2: Number of Jobs | KN2: Availability of Training Programs | KO2: Provided names of specific training programs available | KP2: Provided the curriculum of the specific training programs | KQ2: Provided the cost of worker training. | KR2: Described the duration of the training programs. | KS2: Provided total number of hours of on-the-job training required | KT2: Provided the total number of classroom hours required | KU2: Described the licenses and certifications obtained, | KV2: Provided a copy of training program standards for each training program. | KW2: Provided a statement whether the training programs are United States Department of Labor registered apprenticeship programs and are accredited to award college credits. | KX2: Completeness | KY2: Weighted Jobs | KZ2: Scored Responses | LA2: Job craft | LB2: Evaluate | LC2: Number of Jobs | LD2: Availability of Training Programs | LE2: Provided names of specific training programs available | LF2: Provided the curriculum of the specific training programs | LG2: Provided the cost of worker training. | LH2: Described the duration of the training programs. | LI2: Provided total number of hours of on-the-job training required | LJ2: Provided the total number of classroom hours required | LK2: Described the licenses and certifications obtained, | LL2: Provided a copy of training program standards for each training program. | LM2: Provided a statement whether the training programs are United States Department of Labor registered apprenticeship programs and are accredited to award college credits. | LN2: Completeness | LO2: Weighted Jobs | LP2: Scored Responses | LQ2: Job craft | LR2: Evaluate | LS2: Number of Jobs | LT2: Availability of Training Programs | LU2: Provided names of specific training programs available | LV2: Provided the curriculum of the specific training programs | LW2: Provided the cost of worker training. | LX2: Described the duration of the training programs. | LY2: Provided total number of hours of on-the-job training required | LZ2: Provided the total number of classroom hours required | MA2: Described the licenses and certifications obtained, | MB2: Provided a copy of training program standards for each training program. | MC2: Provided a statement whether the training programs are United States Department of Labor registered apprenticeship programs and are accredited to award college credits. | MD2: Completeness | ME2: Weighted Jobs | MF2: Scored Responses
A3: Record | B3: ='BVEM Scorecard'!B1 -> Company Name | C3: ='BVEM Scorecard'!C1 -> Project
M4: 0.1 | N4: 0.1 | O4: 0.1 | P4: 0.1 | Q4: 0.1 | R4: 0.1 | S4: 0.1 | T4: 0.1 | U4: 0.1 | V4: 0.1 | AB4: 0.1 | AC4: 0.1 | AD4: 0.1 | AE4: 0.1 | AF4: 0.1 | AG4: 0.1 | AH4: 0.1 | AI4: 0.1 | AJ4: 0.1 | AK4: 0.1 | AR4: 0.1 | AS4: 0.1 | AT4: 0.1 | AU4: 0.1 | AV4: 0.1 | AW4: 0.1 | AX4: 0.1 | AY4: 0.1 | AZ4: 0.1 | BA4: 0.1 | BH4: 0.1 | BI4: 0.1 | BJ4: 0.1 | BK4: 0.1 | BL4: 0.1 | BM4: 0.1 | BN4: 0.1 | BO4: 0.1 | BP4: 0.1 | BQ4: 0.1 | BX4: 0.1 | BY4: 0.1 | BZ4: 0.1 | CA4: 0.1 | CB4: 0.1 | CC4: 0.1 | CD4: 0.1 | CE4: 0.1 | CF4: 0.1 | CG4: 0.1 | CN4: 0.1 | CO4: 0.1 | CP4: 0.1 | CQ4: 0.1 | CR4: 0.1 | CS4: 0.1 | CT4: 0.1 | CU4: 0.1 | CV4: 0.1 | CW4: 0.1 | DD4: 0.1 | DE4: 0.1 | DF4: 0.1 | DG4: 0.1 | DH4: 0.1 | DI4: 0.1 | DJ4: 0.1 | DK4: 0.1 | DL4: 0.1 | DM4: 0.1 | DT4: 0.1 | DU4: 0.1 | DV4: 0.1 | DW4: 0.1 | DX4: 0.1 | DY4: 0.1 | DZ4: 0.1 | EA4: 0.1 | EB4: 0.1 | EC4: 0.1 | EJ4: 0.1 | EK4: 0.1 | EL4: 0.1 | EM4: 0.1 | EN4: 0.1 | EO4: 0.1 | EP4: 0.1 | EQ4: 0.1 | ER4: 0.1 | ES4: 0.1 | EZ4: 0.1 | FA4: 0.1 | FB4: 0.1 | FC4: 0.1 | FD4: 0.1 | FE4: 0.1 | FF4: 0.1 | FG4: 0.1 | FH4: 0.1 | FI4: 0.1 | FP4: 0.1 | FQ4: 0.1 | FR4: 0.1 | FS4: 0.1 | FT4: 0.1 | FU4: 0.1 | FV4: 0.1 | FW4: 0.1 | FX4: 0.1 | FY4: 0.1 | GF4: 0.1 | GG4: 0.1 | GH4: 0.1 | GI4: 0.1 | GJ4: 0.1 | GK4: 0.1 | GL4: 0.1 | GM4: 0.1 | GN4: 0.1 | GO4: 0.1 | GV4: 0.1 | GW4: 0.1 | GX4: 0.1 | GY4: 0.1 | GZ4: 0.1 | HA4: 0.1 | HB4: 0.1 | HC4: 0.1 | HD4: 0.1 | HE4: 0.1 | HL4: 0.1 | HM4: 0.1 | HN4: 0.1 | HO4: 0.1 | HP4: 0.1 | HQ4: 0.1 | HR4: 0.1 | HS4: 0.1 | HT4: 0.1 | HU4: 0.1 | IB4: 0.1 | IC4: 0.1 | ID4: 0.1 | IE4: 0.1 | IF4: 0.1 | IG4: 0.1 | IH4: 0.1 | II4: 0.1 | IJ4: 0.1 | IK4: 0.1 | IR4: 0.1 | IS4: 0.1 | IT4: 0.1 | IU4: 0.1 | IV4: 0.1 | IW4: 0.1 | IX4: 0.1 | IY4: 0.1 | IZ4: 0.1 | JA4: 0.1 | JH4: 0.1 | JI4: 0.1 | JJ4: 0.1 | JK4: 0.1 | JL4: 0.1 | JM4: 0.1 | JN4: 0.1 | JO4: 0.1 | JP4: 0.1 | JQ4: 0.1 | JX4: 0.1 | JY4: 0.1 | JZ4: 0.1 | KA4: 0.1 | KB4: 0.1 | KC4: 0.1 | KD4: 0.1 | KE4: 0.1 | KF4: 0.1 | KG4: 0.1 | KN4: 0.1 | KO4: 0.1 | KP4: 0.1 | KQ4: 0.1 | KR4: 0.1 | KS4: 0.1 | KT4: 0.1 | KU4: 0.1 | KV4: 0.1 | KW4: 0.1 | LD4: 0.1 | LE4: 0.1 | LF4: 0.1 | LG4: 0.1 | LH4: 0.1 | LI4: 0.1 | LJ4: 0.1 | LK4: 0.1 | LL4: 0.1 | LM4: 0.1 | LT4: 0.1 | LU4: 0.1 | LV4: 0.1 | LW4: 0.1 | LX4: 0.1 | LY4: 0.1 | LZ4: 0.1 | MA4: 0.1 | MB4: 0.1 | MC4: 0.1
A5: 1
A6: 2 | D6: 11 | E6: ='BVEM Scorecard'!F5 -> Gas | F6: =X6 -> 0 | G6: =W6 -> 0 | H6: =IFERROR(SUM(AN6,BD6,BT6,CJ6,CZ6,DP6,EF6,EV6,FL6,GB6,GR6,HH6,HX6,IN6,JD6,JT6,KJ6,KZ6,LP6,MF6),0) -> 0 | I6: =IFERROR(SUM(AL6,BB6,BR6,CH6,CX6,DN6,ED6,ET6,FJ6,FZ6,GP6,HF6,HV6,IL6,JB6,JR6,KH6,KX6,LN6,MD6)/SUM(Z6,AP6,BF6,BV6,CL6,DB6,DR6,EH6,EX6,FN6,GD6,GT6,HJ6,HZ6,IP6,JF6,JV6,KL6,LB6,LR6),0) -> 0 | J6: 0 | K6: 0 | L6: 0 | M6: 0 | N6: 0 | O6: 0 | P6: 0 | Q6: 0 | R6: 0 | S6: 0 | T6: 0 | U6: 0 | V6: 0 | W6: =AVERAGE(M6:V6) -> 0 | X6: =M$4*M6+N$4*N6+O$4*O6+P$4*P6+Q$4*Q6+R$4*R6+S$4*S6+T$4*T6+U$4*U6+V$4*V6 -> 0 | AL6: =IFERROR(AVERAGE(AB6:AK6),"") | AM6: =IFERROR(AA6/SUM($AA6,$AQ6,$BG6,$BW6,$CM6,$DC6,$DS6,$EI6,$EY6,$FO6,$GE6,$GU6,$HK6,$IA6,$IQ6,$JG6,$JW6,$KM6,$LC6,$LS6),"") | AN6: =IFERROR((AB$4*AB6+AC$4*AC6+AD$4*AD6+AE$4*AE6+AF$4*AF6+AG$4*AG6+AH$4*AH6+AI$4*AI6+AJ$4*AJ6+AK$4*AK6)*AM6,"") | BC6: =IFERROR(AQ6/SUM($AA6,$AQ6,$BG6,$BW6,$CM6,$DC6,$DS6,$EI6,$EY6,$FO6,$GE6,$GU6,$HK6,$IA6,$IQ6,$JG6,$JW6,$KM6,$LC6,$LS6),"") | BD6: =IFERROR((AR$4*AR6+AS$4*AS6+AT$4*AT6+AU$4*AU6+AV$4*AV6+AW$4*AW6+AX$4*AX6+AY$4*AY6+AZ$4*AZ6+BA$4*BA6)*BC6,"") | BS6: =IFERROR(BG6/SUM($AA6,$AQ6,$BG6,$BW6,$CM6,$DC6,$DS6,$EI6,$EY6,$FO6,$GE6,$GU6,$HK6,$IA6,$IQ6,$JG6,$JW6,$KM6,$LC6,$LS6),"") | BT6: =IFERROR((BH$4*BH6+BI$4*BI6+BJ$4*BJ6+BK$4*BK6+BL$4*BL6+BM$4*BM6+BN$4*BN6+BO$4*BO6+BP$4*BP6+BQ$4*BQ6)*BS6,"") | CI6: =IFERROR(BW6/SUM($AA6,$AQ6,$BG6,$BW6,$CM6,$DC6,$DS6,$EI6,$EY6,$FO6,$GE6,$GU6,$HK6,$IA6,$IQ6,$JG6,$JW6,$KM6,$LC6,$LS6),"") | CJ6: =IFERROR((BX$4*BX6+BY$4*BY6+BZ$4*BZ6+CA$4*CA6+CB$4*CB6+CC$4*CC6+CD$4*CD6+CE$4*CE6+CF$4*CF6+CG$4*CG6)*CI6,"") | CY6: =IFERROR(CM6/SUM($AA6,$AQ6,$BG6,$BW6,$CM6,$DC6,$DS6,$EI6,$EY6,$FO6,$GE6,$GU6,$HK6,$IA6,$IQ6,$JG6,$JW6,$KM6,$LC6,$LS6),"") | CZ6: =IFERROR((CN$4*CN6+CO$4*CO6+CP$4*CP6+CQ$4*CQ6+CR$4*CR6+CS$4*CS6+CT$4*CT6+CU$4*CU6+CV$4*CV6+CW$4*CW6)*CY6,"") | DO6: =IFERROR(DC6/SUM($AA6,$AQ6,$BG6,$BW6,$CM6,$DC6,$DS6,$EI6,$EY6,$FO6,$GE6,$GU6,$HK6,$IA6,$IQ6,$JG6,$JW6,$KM6,$LC6,$LS6),"") | DP6: =IFERROR((DD$4*DD6+DE$4*DE6+DF$4*DF6+DG$4*DG6+DH$4*DH6+DI$4*DI6+DJ$4*DJ6+DK$4*DK6+DL$4*DL6+DM$4*DM6)*DO6,"") | EE6: =IFERROR(DS6/SUM($AA6,$AQ6,$BG6,$BW6,$CM6,$DC6,$DS6,$EI6,$EY6,$FO6,$GE6,$GU6,$HK6,$IA6,$IQ6,$JG6,$JW6,$KM6,$LC6,$LS6),"") | EF6: =IFERROR((DT$4*DT6+DU$4*DU6+DV$4*DV6+DW$4*DW6+DX$4*DX6+DY$4*DY6+DZ$4*DZ6+EA$4*EA6+EB$4*EB6+EC$4*EC6)*EE6,"") | EU6: =IFERROR(EI6/SUM($AA6,$AQ6,$BG6,$BW6,$CM6,$DC6,$DS6,$EI6,$EY6,$FO6,$GE6,$GU6,$HK6,$IA6,$IQ6,$JG6,$JW6,$KM6,$LC6,$LS6),"") | EV6: =IFERROR((EJ$4*EJ6+EK$4*EK6+EL$4*EL6+EM$4*EM6+EN$4*EN6+EO$4*EO6+EP$4*EP6+EQ$4*EQ6+ER$4*ER6+ES$4*ES6)*EU6,"") | FK6: =IFERROR(EY6/SUM($AA6,$AQ6,$BG6,$BW6,$CM6,$DC6,$DS6,$EI6,$EY6,$FO6,$GE6,$GU6,$HK6,$IA6,$IQ6,$JG6,$JW6,$KM6,$LC6,$LS6),"") | FL6: =IFERROR((EZ$4*EZ6+FA$4*FA6+FB$4*FB6+FC$4*FC6+FD$4*FD6+FE$4*FE6+FF$4*FF6+FG$4*FG6+FH$4*FH6+FI$4*FI6)*FK6,"") | GA6: =IFERROR(FO6/SUM($AA6,$AQ6,$BG6,$BW6,$CM6,$DC6,$DS6,$EI6,$EY6,$FO6,$GE6,$GU6,$HK6,$IA6,$IQ6,$JG6,$JW6,$KM6,$LC6,$LS6),"") | GB6: =IFERROR((FP$4*FP6+FQ$4*FQ6+FR$4*FR6+FS$4*FS6+FT$4*FT6+FU$4*FU6+FV$4*FV6+FW$4*FW6+FX$4*FX6+FY$4*FY6)*GA6,"") | GQ6: =IFERROR(GE6/SUM($AA6,$AQ6,$BG6,$BW6,$CM6,$DC6,$DS6,$EI6,$EY6,$FO6,$GE6,$GU6,$HK6,$IA6,$IQ6,$JG6,$JW6,$KM6,$LC6,$LS6),"") | GR6: =IFERROR((GF$4*GF6+GG$4*GG6+GH$4*GH6+GI$4*GI6+GJ$4*GJ6+GK$4*GK6+GL$4*GL6+GM$4*GM6+GN$4*GN6+GO$4*GO6)*GQ6,"") | HG6: =IFERROR(GU6/SUM($AA6,$AQ6,$BG6,$BW6,$CM6,$DC6,$DS6,$EI6,$EY6,$FO6,$GE6,$GU6,$HK6,$IA6,$IQ6,$JG6,$JW6,$KM6,$LC6,$LS6),"") | HH6: =IFERROR((GV$4*GV6+GW$4*GW6+GX$4*GX6+GY$4*GY6+GZ$4*GZ6+HA$4*HA6+HB$4*HB6+HC$4*HC6+HD$4*HD6+HE$4*HE6)*HG6,"") | HW6: =IFERROR(HK6/SUM($AA6,$AQ6,$BG6,$BW6,$CM6,$DC6,$DS6,$EI6,$EY6,$FO6,$GE6,$GU6,$HK6,$IA6,$IQ6,$JG6,$JW6,$KM6,$LC6,$LS6),"") | HX6: =IFERROR((HL$4*HL6+HM$4*HM6+HN$4*HN6+HO$4*HO6+HP$4*HP6+HQ$4*HQ6+HR$4*HR6+HS$4*HS6+HT$4*HT6+HU$4*HU6)*HW6,"") | IM6: =IFERROR(IA6/SUM($AA6,$AQ6,$BG6,$BW6,$CM6,$DC6,$DS6,$EI6,$EY6,$FO6,$GE6,$GU6,$HK6,$IA6,$IQ6,$JG6,$JW6,$KM6,$LC6,$LS6),"") | IN6: =IFERROR((IB$4*IB6+IC$4*IC6+ID$4*ID6+IE$4*IE6+IF$4*IF6+IG$4*IG6+IH$4*IH6+II$4*II6+IJ$4*IJ6+IK$4*IK6)*IM6,"") | JC6: =IFERROR(IQ6/SUM($AA6,$AQ6,$BG6,$BW6,$CM6,$DC6,$DS6,$EI6,$EY6,$FO6,$GE6,$GU6,$HK6,$IA6,$IQ6,$JG6,$JW6,$KM6,$LC6,$LS6),"") | JD6: =IFERROR((IR$4*IR6+IS$4*IS6+IT$4*IT6+IU$4*IU6+IV$4*IV6+IW$4*IW6+IX$4*IX6+IY$4*IY6+IZ$4*IZ6+JA$4*JA6)*JC6,"") | JS6: =IFERROR(JG6/SUM($AA6,$AQ6,$BG6,$BW6,$CM6,$DC6,$DS6,$EI6,$EY6,$FO6,$GE6,$GU6,$HK6,$IA6,$IQ6,$JG6,$JW6,$KM6,$LC6,$LS6),"") | JT6: =IFERROR((JH$4*JH6+JI$4*JI6+JJ$4*JJ6+JK$4*JK6+JL$4*JL6+JM$4*JM6+JN$4*JN6+JO$4*JO6+JP$4*JP6+JQ$4*JQ6)*JS6,"") | KI6: =IFERROR(JW6/SUM($AA6,$AQ6,$BG6,$BW6,$CM6,$DC6,$DS6,$EI6,$EY6,$FO6,$GE6,$GU6,$HK6,$IA6,$IQ6,$JG6,$JW6,$KM6,$LC6,$LS6),"") | KJ6: =IFERROR((JX$4*JX6+JY$4*JY6+JZ$4*JZ6+KA$4*KA6+KB$4*KB6+KC$4*KC6+KD$4*KD6+KE$4*KE6+KF$4*KF6+KG$4*KG6)*KI6,"") | KY6: =IFERROR(KM6/SUM($AA6,$AQ6,$BG6,$BW6,$CM6,$DC6,$DS6,$EI6,$EY6,$FO6,$GE6,$GU6,$HK6,$IA6,$IQ6,$JG6,$JW6,$KM6,$LC6,$LS6),"") | KZ6: =IFERROR((KN$4*KN6+KO$4*KO6+KP$4*KP6+KQ$4*KQ6+KR$4*KR6+KS$4*KS6+KT$4*KT6+KU$4*KU6+KV$4*KV6+KW$4*KW6)*KY6,"") | LO6: =IFERROR(LC6/SUM($AA6,$AQ6,$BG6,$BW6,$CM6,$DC6,$DS6,$EI6,$EY6,$FO6,$GE6,$GU6,$HK6,$IA6,$IQ6,$JG6,$JW6,$KM6,$LC6,$LS6),"") | LP6: =IFERROR((LD$4*LD6+LE$4*LE6+LF$4*LF6+LG$4*LG6+LH$4*LH6+LI$4*LI6+LJ$4*LJ6+LK$4*LK6+LL$4*LL6+LM$4*LM6)*LO6,"") | ME6: =IFERROR(LS6/SUM($AA6,$AQ6,$BG6,$BW6,$CM6,$DC6,$DS6,$EI6,$EY6,$FO6,$GE6,$GU6,$HK6,$IA6,$IQ6,$JG6,$JW6,$KM6,$LC6,$LS6),"") | MF6: =IFERROR((LT$4*LT6+LU$4*LU6+LV$4*LV6+LW$4*LW6+LX$4*LX6+LY$4*LY6+LZ$4*LZ6+MA$4*MA6+MB$4*MB6+MC$4*MC6)*ME6,"")
A7: 3 | D7: 12 | E7: ='BVEM Scorecard'!F6 -> Wind | F7: =X7 -> 1 | G7: =W7 -> 1 | H7: =IFERROR(SUM(AN7,BD7,BT7,CJ7,CZ7,DP7,EF7,EV7,FL7,GB7,GR7,HH7,HX7,IN7,JD7,JT7,KJ7,KZ7,LP7,MF7),0) -> 1 | I7: =IFERROR(SUM(AL7,BB7,BR7,CH7,CX7,DN7,ED7,ET7,FJ7,FZ7,GP7,HF7,HV7,IL7,JB7,JR7,KH7,KX7,LN7,MD7)/SUM(Z7,AP7,BF7,BV7,CL7,DB7,DR7,EH7,EX7,FN7,GD7,GT7,HJ7,HZ7,IP7,JF7,JV7,KL7,LB7,LR7),0) -> 1 | J7: 1 | K7: 1 | L7: 1 | M7: 1 | N7: 1 | O7: 1 | P7: 1 | Q7: 1 | R7: 1 | S7: 1 | T7: 1 | U7: 1 | V7: 1 | W7: =AVERAGE(M7:V7) -> 1 | X7: =M$4*M7+N$4*N7+O$4*O7+P$4*P7+Q$4*Q7+R$4*R7+S$4*S7+T$4*T7+U$4*U7+V$4*V7 -> 1 | Y7: Equipment Operators | Z7: 1 | AA7: 24 | AB7: 1 | AC7: 1 | AD7: 1 | AE7: 1 | AF7: 1 | AG7: 1 | AH7: 1 | AI7: 1 | AJ7: 1 | AK7: 1 | AL7: =IFERROR(AVERAGE(AB7:AK7),"") -> 1 | AM7: =IFERROR(AA7/SUM($AA7,$AQ7,$BG7,$BW7,$CM7,$DC7,$DS7,$EI7,$EY7,$FO7,$GE7,$GU7,$HK7,$IA7,$IQ7,$JG7,$JW7,$KM7,$LC7,$LS7),"") -> 0.094488189 | AN7: =IFERROR((AB$4*AB7+AC$4*AC7+AD$4*AD7+AE$4*AE7+AF$4*AF7+AG$4*AG7+AH$4*AH7+AI$4*AI7+AJ$4*AJ7+AK$4*AK7)*AM7,"") -> 0.094488189 | AO7: Crane Operators | AP7: 1 | AQ7: 15 | AR7: 1 | AS7: 1 | AT7: 1 | AU7: 1 | AV7: 1 | AW7: 1 | AX7: 1 | AY7: 1 | AZ7: 1 | BA7: 1 | BB7: =IFERROR(AVERAGE(AR7:BA7),"") -> 1 | BC7: =IFERROR(AQ7/SUM($AA7,$AQ7,$BG7,$BW7,$CM7,$DC7,$DS7,$EI7,$EY7,$FO7,$GE7,$GU7,$HK7,$IA7,$IQ7,$JG7,$JW7,$KM7,$LC7,$LS7),"") -> 0.059055118 | BD7: =IFERROR((AR$4*AR7+AS$4*AS7+AT$4*AT7+AU$4*AU7+AV$4*AV7+AW$4*AW7+AX$4*AX7+AY$4*AY7+AZ$4*AZ7+BA$4*BA7)*BC7,"") -> 0.059055118 | BE7: Turbine Installers | BF7: 1 | BG7: 69 | BH7: 1 | BI7: 1 | BJ7: 1 | BK7: 1 | BL7: 1 | BM7: 1 | BN7: 1 | BO7: 1 | BP7: 1 | BQ7: 1 | BR7: 1 | BS7: =IFERROR(BG7/SUM($AA7,$AQ7,$BG7,$BW7,$CM7,$DC7,$DS7,$EI7,$EY7,$FO7,$GE7,$GU7,$HK7,$IA7,$IQ7,$JG7,$JW7,$KM7,$LC7,$LS7),"") -> 0.27165354 | BT7: =IFERROR((BH$4*BH7+BI$4*BI7+BJ$4*BJ7+BK$4*BK7+BL$4*BL7+BM$4*BM7+BN$4*BN7+BO$4*BO7+BP$4*BP7+BQ$4*BQ7)*BS7,"") -> 0.27165354 | BU7: Turbine Laborer | BV7: 1 | BW7: 69 | BX7: 1 | BY7: 1 | BZ7: 1 | CA7: 1 | CB7: 1 | CC7: 1 | CD7: 1 | CE7: 1 | CF7: 1 | CG7: 1 | CH7: 1 | CI7: =IFERROR(BW7/SUM($AA7,$AQ7,$BG7,$BW7,$CM7,$DC7,$DS7,$EI7,$EY7,$FO7,$GE7,$GU7,$HK7,$IA7,$IQ7,$JG7,$JW7,$KM7,$LC7,$LS7),"") -> 0.27165354 | CJ7: =IFERROR((BX$4*BX7+BY$4*BY7+BZ$4*BZ7+CA$4*CA7+CB$4*CB7+CC$4*CC7+CD$4*CD7+CE$4*CE7+CF$4*CF7+CG$4*CG7)*CI7,"") -> 0.27165354 | CK7: Construction Managers | CL7: 1 | CM7: 21 | CN7: 1 | CO7: 1 | CP7: 1 | CQ7: 1 | CR7: 1 | CS7: 1 | CT7: 1 | CU7: 1 | CV7: 1 | CW7: 1 | CX7: 1 | CY7: =IFERROR(CM7/SUM($AA7,$AQ7,$BG7,$BW7,$CM7,$DC7,$DS7,$EI7,$EY7,$FO7,$GE7,$GU7,$HK7,$IA7,$IQ7,$JG7,$JW7,$KM7,$LC7,$LS7),"") -> 0.082677165 | CZ7: =IFERROR((CN$4*CN7+CO$4*CO7+CP$4*CP7+CQ$4*CQ7+CR$4*CR7+CS$4*CS7+CT$4*CT7+CU$4*CU7+CV$4*CV7+CW$4*CW7)*CY7,"") -> 0.082677165 | DA7: Electricians | DB7: 1 | DC7: 12 | DD7: 1 | DE7: 1 | DF7: 1 | DG7: 1 | DH7: 1 | DI7: 1 | DJ7: 1 | DK7: 1 | DL7: 1 | DM7: 1 | DN7: 1 | DO7: =IFERROR(DC7/SUM($AA7,$AQ7,$BG7,$BW7,$CM7,$DC7,$DS7,$EI7,$EY7,$FO7,$GE7,$GU7,$HK7,$IA7,$IQ7,$JG7,$JW7,$KM7,$LC7,$LS7),"") -> 0.047244094 | DP7: =IFERROR((DD$4*DD7+DE$4*DE7+DF$4*DF7+DG$4*DG7+DH$4*DH7+DI$4*DI7+DJ$4*DJ7+DK$4*DK7+DL$4*DL7+DM$4*DM7)*DO7,"") -> 0.047244094 | DQ7: Apprentice | DR7: 1 | DS7: 14 | DT7: 1 | DU7: 1 | DV7: 1 | DW7: 1 | DX7: 1 | DY7: 1 | DZ7: 1 | EA7: 1 | EB7: 1 | EC7: 1 | ED7: 1 | EE7: =IFERROR(DS7/SUM($AA7,$AQ7,$BG7,$BW7,$CM7,$DC7,$DS7,$EI7,$EY7,$FO7,$GE7,$GU7,$HK7,$IA7,$IQ7,$JG7,$JW7,$KM7,$LC7,$LS7),"") -> 0.05511811 | EF7: =IFERROR((DT$4*DT7+DU$4*DU7+DV$4*DV7+DW$4*DW7+DX$4*DX7+DY$4*DY7+DZ$4*DZ7+EA$4*EA7+EB$4*EB7+EC$4*EC7)*EE7,"") -> 0.05511811 | EG7: Foundation Laborer | EH7: 1 | EI7: 9 | EJ7: 1 | EK7: 1 | EL7: 1 | EM7: 1 | EN7: 1 | EO7: 1 | EP7: 1 | EQ7: 1 | ER7: 1 | ES7: 1 | ET7: 1 | EU7: =IFERROR(EI7/SUM($AA7,$AQ7,$BG7,$BW7,$CM7,$DC7,$DS7,$EI7,$EY7,$FO7,$GE7,$GU7,$HK7,$IA7,$IQ7,$JG7,$JW7,$KM7,$LC7,$LS7),"") -> 0.035433071 | EV7: =IFERROR((EJ$4*EJ7+EK$4*EK7+EL$4*EL7+EM$4*EM7+EN$4*EN7+EO$4*EO7+EP$4*EP7+EQ$4*EQ7+ER$4*ER7+ES$4*ES7)*EU7,"") -> 0.035433071 | EW7: Carpenters | EX7: 1 | EY7: 9 | EZ7: 1 | FA7: 1 | FB7: 1 | FC7: 1 | FD7: 1 | FE7: 1 | FF7: 1 | FG7: 1 | FH7: 1 | FI7: 1 | FJ7: 1 | FK7: =IFERROR(EY7/SUM($AA7,$AQ7,$BG7,$BW7,$CM7,$DC7,$DS7,$EI7,$EY7,$FO7,$GE7,$GU7,$HK7,$IA7,$IQ7,$JG7,$JW7,$KM7,$LC7,$LS7),"") -> 0.035433071 | FL7: =IFERROR((EZ$4*EZ7+FA$4*FA7+FB$4*FB7+FC$4*FC7+FD$4*FD7+FE$4*FE7+FF$4*FF7+FG$4*FG7+FH$4*FH7+FI$4*FI7)*FK7,"") -> 0.035433071 | FM7: Wind Technician | FN7: 1 | FO7: 12 | FP7: 1 | FQ7: 1 | FR7: 1 | FS7: 1 | FT7: 1 | FU7: 1 | FV7: 1 | FW7: 1 | FX7: 1 | FY7: 1 | FZ7: 1 | GA7: =IFERROR(FO7/SUM($AA7,$AQ7,$BG7,$BW7,$CM7,$DC7,$DS7,$EI7,$EY7,$FO7,$GE7,$GU7,$HK7,$IA7,$IQ7,$JG7,$JW7,$KM7,$LC7,$LS7),"") -> 0.047244094 | GB7: =IFERROR((FP$4*FP7+FQ$4*FQ7+FR$4*FR7+FS$4*FS7+FT$4*FT7+FU$4*FU7+FV$4*FV7+FW$4*FW7+FX$4*FX7+FY$4*FY7)*GA7,"") -> 0.047244094
A8: 4 | D8: 240 | E8: ='BVEM Scorecard'!F7 -> Wind
A9: 5 | D9: 13 | E9: ='BVEM Scorecard'!F8 -> Wind | F9: =X9 -> 1 | G9: =W9 -> 1 | H9: =IFERROR(SUM(AN9,BD9,BT9,CJ9,CZ9,DP9,EF9,EV9,FL9,GB9,GR9,HH9,HX9,IN9,JD9,JT9,KJ9,KZ9,LP9,MF9),0) -> 1 | I9: =IFERROR(SUM(AL9,BB9,BR9,CH9,CX9,DN9,ED9,ET9,FJ9,FZ9,GP9,HF9,HV9,IL9,JB9,JR9,KH9,KX9,LN9,MD9)/SUM(Z9,AP9,BF9,BV9,CL9,DB9,DR9,EH9,EX9,FN9,GD9,GT9,HJ9,HZ9,IP9,JF9,JV9,KL9,LB9,LR9),0) -> 1 | J9: 1 | K9: 1 | L9: 1 | M9: 1 | N9: 1 | O9: 1 | P9: 1 | Q9: 1 | R9: 1 | S9: 1 | T9: 1 | U9: 1 | V9: 1 | W9: =AVERAGE(M9:V9) -> 1 | X9: =M$4*M9+N$4*N9+O$4*O9+P$4*P9+Q$4*Q9+R$4*R9+S$4*S9+T$4*T9+U$4*U9+V$4*V9 -> 1 | Y9: Equipment Operators | Z9: 1 | AA9: 24 | AB9: 1 | AC9: 1 | AD9: 1 | AE9: 1 | AF9: 1 | AG9: 1 | AH9: 1 | AI9: 1 | AJ9: 1 | AK9: 1 | AL9: =IFERROR(AVERAGE(AB9:AK9),"") -> 1 | AM9: =IFERROR(AA9/SUM($AA9,$AQ9,$BG9,$BW9,$CM9,$DC9,$DS9,$EI9,$EY9,$FO9,$GE9,$GU9,$HK9,$IA9,$IQ9,$JG9,$JW9,$KM9,$LC9,$LS9),"") -> 0.094488189 | AN9: =IFERROR((AB$4*AB9+AC$4*AC9+AD$4*AD9+AE$4*AE9+AF$4*AF9+AG$4*AG9+AH$4*AH9+AI$4*AI9+AJ$4*AJ9+AK$4*AK9)*AM9,"") -> 0.094488189 | AO9: Crane Operators | AP9: 1 | AQ9: 15 | AR9: 1 | AS9: 1 | AT9: 1 | AU9: 1 | AV9: 1 | AW9: 1 | AX9: 1 | AY9: 1 | AZ9: 1 | BA9: 1 | BB9: =IFERROR(AVERAGE(AR9:BA9),"") -> 1 | BC9: =IFERROR(AQ9/SUM($AA9,$AQ9,$BG9,$BW9,$CM9,$DC9,$DS9,$EI9,$EY9,$FO9,$GE9,$GU9,$HK9,$IA9,$IQ9,$JG9,$JW9,$KM9,$LC9,$LS9),"") -> 0.059055118 | BD9: =IFERROR((AR$4*AR9+AS$4*AS9+AT$4*AT9+AU$4*AU9+AV$4*AV9+AW$4*AW9+AX$4*AX9+AY$4*AY9+AZ$4*AZ9+BA$4*BA9)*BC9,"") -> 0.059055118 | BE9: Turbine Installers | BF9: 1 | BG9: 69 | BH9: 1 | BI9: 1 | BJ9: 1 | BK9: 1 | BL9: 1 | BM9: 1 | BN9: 1 | BO9: 1 | BP9: 1 | BQ9: 1 | BR9: 1 | BS9: =IFERROR(BG9/SUM($AA9,$AQ9,$BG9,$BW9,$CM9,$DC9,$DS9,$EI9,$EY9,$FO9,$GE9,$GU9,$HK9,$IA9,$IQ9,$JG9,$JW9,$KM9,$LC9,$LS9),"") -> 0.27165354 | BT9: =IFERROR((BH$4*BH9+BI$4*BI9+BJ$4*BJ9+BK$4*BK9+BL$4*BL9+BM$4*BM9+BN$4*BN9+BO$4*BO9+BP$4*BP9+BQ$4*BQ9)*BS9,"") -> 0.27165354 | BU9: Turbine Laborer | BV9: 1 | BW9: 69 | BX9: 1 | BY9: 1 | BZ9: 1 | CA9: 1 | CB9: 1 | CC9: 1 | CD9: 1 | CE9: 1 | CF9: 1 | CG9: 1 | CH9: 1 | CI9: =IFERROR(BW9/SUM($AA9,$AQ9,$BG9,$BW9,$CM9,$DC9,$DS9,$EI9,$EY9,$FO9,$GE9,$GU9,$HK9,$IA9,$IQ9,$JG9,$JW9,$KM9,$LC9,$LS9),"") -> 0.27165354 | CJ9: =IFERROR((BX$4*BX9+BY$4*BY9+BZ$4*BZ9+CA$4*CA9+CB$4*CB9+CC$4*CC9+CD$4*CD9+CE$4*CE9+CF$4*CF9+CG$4*CG9)*CI9,"") -> 0.27165354 | CK9: Construction Managers | CL9: 1 | CM9: 21 | CN9: 1 | CO9: 1 | CP9: 1 | CQ9: 1 | CR9: 1 | CS9: 1 | CT9: 1 | CU9: 1 | CV9: 1 | CW9: 1 | CX9: 1 | CY9: =IFERROR(CM9/SUM($AA9,$AQ9,$BG9,$BW9,$CM9,$DC9,$DS9,$EI9,$EY9,$FO9,$GE9,$GU9,$HK9,$IA9,$IQ9,$JG9,$JW9,$KM9,$LC9,$LS9),"") -> 0.082677165 | CZ9: =IFERROR((CN$4*CN9+CO$4*CO9+CP$4*CP9+CQ$4*CQ9+CR$4*CR9+CS$4*CS9+CT$4*CT9+CU$4*CU9+CV$4*CV9+CW$4*CW9)*CY9,"") -> 0.082677165 | DA9: Electricians | DB9: 1 | DC9: 12 | DD9: 1 | DE9: 1 | DF9: 1 | DG9: 1 | DH9: 1 | DI9: 1 | DJ9: 1 | DK9: 1 | DL9: 1 | DM9: 1 | DN9: 1 | DO9: =IFERROR(DC9/SUM($AA9,$AQ9,$BG9,$BW9,$CM9,$DC9,$DS9,$EI9,$EY9,$FO9,$GE9,$GU9,$HK9,$IA9,$IQ9,$JG9,$JW9,$KM9,$LC9,$LS9),"") -> 0.047244094 | DP9: =IFERROR((DD$4*DD9+DE$4*DE9+DF$4*DF9+DG$4*DG9+DH$4*DH9+DI$4*DI9+DJ$4*DJ9+DK$4*DK9+DL$4*DL9+DM$4*DM9)*DO9,"") -> 0.047244094 | DQ9: Apprentice | DR9: 1 | DS9: 14 | DT9: 1 | DU9: 1 | DV9: 1 | DW9: 1 | DX9: 1 | DY9: 1 | DZ9: 1 | EA9: 1 | EB9: 1 | EC9: 1 | ED9: 1 | EE9: =IFERROR(DS9/SUM($AA9,$AQ9,$BG9,$BW9,$CM9,$DC9,$DS9,$EI9,$EY9,$FO9,$GE9,$GU9,$HK9,$IA9,$IQ9,$JG9,$JW9,$KM9,$LC9,$LS9),"") -> 0.05511811 | EF9: =IFERROR((DT$4*DT9+DU$4*DU9+DV$4*DV9+DW$4*DW9+DX$4*DX9+DY$4*DY9+DZ$4*DZ9+EA$4*EA9+EB$4*EB9+EC$4*EC9)*EE9,"") -> 0.05511811 | EG9: Foundation Laborer | EH9: 1 | EI9: 9 | EJ9: 1 | EK9: 1 | EL9: 1 | EM9: 1 | EN9: 1 | EO9: 1 | EP9: 1 | EQ9: 1 | ER9: 1 | ES9: 1 | ET9: 1 | EU9: =IFERROR(EI9/SUM($AA9,$AQ9,$BG9,$BW9,$CM9,$DC9,$DS9,$EI9,$EY9,$FO9,$GE9,$GU9,$HK9,$IA9,$IQ9,$JG9,$JW9,$KM9,$LC9,$LS9),"") -> 0.035433071 | EV9: =IFERROR((EJ$4*EJ9+EK$4*EK9+EL$4*EL9+EM$4*EM9+EN$4*EN9+EO$4*EO9+EP$4*EP9+EQ$4*EQ9+ER$4*ER9+ES$4*ES9)*EU9,"") -> 0.035433071 | EW9: Carpenters | EX9: 1 | EY9: 9 | EZ9: 1 | FA9: 1 | FB9: 1 | FC9: 1 | FD9: 1 | FE9: 1 | FF9: 1 | FG9: 1 | FH9: 1 | FI9: 1 | FJ9: 1 | FK9: =IFERROR(EY9/SUM($AA9,$AQ9,$BG9,$BW9,$CM9,$DC9,$DS9,$EI9,$EY9,$FO9,$GE9,$GU9,$HK9,$IA9,$IQ9,$JG9,$JW9,$KM9,$LC9,$LS9),"") -> 0.035433071 | FL9: =IFERROR((EZ$4*EZ9+FA$4*FA9+FB$4*FB9+FC$4*FC9+FD$4*FD9+FE$4*FE9+FF$4*FF9+FG$4*FG9+FH$4*FH9+FI$4*FI9)*FK9,"") -> 0.035433071 | FM9: Wind Technician | FN9: 1 | FO9: 12 | FP9: 1 | FQ9: 1 | FR9: 1 | FS9: 1 | FT9: 1 | FU9: 1 | FV9: 1 | FW9: 1 | FX9: 1 | FY9: 1 | FZ9: 1 | GA9: =IFERROR(FO9/SUM($AA9,$AQ9,$BG9,$BW9,$CM9,$DC9,$DS9,$EI9,$EY9,$FO9,$GE9,$GU9,$HK9,$IA9,$IQ9,$JG9,$JW9,$KM9,$LC9,$LS9),"") -> 0.047244094 | GB9: =IFERROR((FP$4*FP9+FQ$4*FQ9+FR$4*FR9+FS$4*FS9+FT$4*FT9+FU$4*FU9+FV$4*FV9+FW$4*FW9+FX$4*FX9+FY$4*FY9)*GA9,"") -> 0.047244094
A10: 6 | D10: 72 | E10: ='BVEM Scorecard'!F9 -> Wind
A11: 7 | D11: 51 | E11: ='BVEM Scorecard'!F10 -> Wind
A12: 8 | D12: 66 | E12: ='BVEM Scorecard'!F11 -> Wind
A13: 9 | D13: 15 | E13: ='BVEM Scorecard'!F12 -> Wind + Solar + Storage | F13: =X13 -> 1 | G13: =W13 -> 1 | H13: =IFERROR(SUM(AN13,BD13,BT13,CJ13,CZ13,DP13,EF13,EV13,FL13,GB13,GR13,HH13,HX13,IN13,JD13,JT13,KJ13,KZ13,LP13,MF13),0) -> 1 | I13: =IFERROR(SUM(AL13,BB13,BR13,CH13,CX13,DN13,ED13,ET13,FJ13,FZ13,GP13,HF13,HV13,IL13,JB13,JR13,KH13,KX13,LN13,MD13)/SUM(Z13,AP13,BF13,BV13,CL13,DB13,DR13,EH13,EX13,FN13,GD13,GT13,HJ13,HZ13,IP13,JF13,JV13,KL13,LB13,LR13),0) -> 1 | J13: 1 | K13: 1 | L13: 1 | M13: 1 | N13: 1 | O13: 1 | P13: 1 | Q13: 1 | R13: 1 | S13: 1 | T13: 1 | U13: 1 | V13: 1 | W13: =AVERAGE(M13:V13) -> 1 | X13: =M$4*M13+N$4*N13+O$4*O13+P$4*P13+Q$4*Q13+R$4*R13+S$4*S13+T$4*T13+U$4*U13+V$4*V13 -> 1 | Y13: Equipment Operators | Z13: 1 | AA13: 24 | AB13: 1 | AC13: 1 | AD13: 1 | AE13: 1 | AF13: 1 | AG13: 1 | AH13: 1 | AI13: 1 | AJ13: 1 | AK13: 1 | AL13: =IFERROR(AVERAGE(AB13:AK13),"") -> 1 | AM13: =IFERROR(AA13/SUM($AA13,$AQ13,$BG13,$BW13,$CM13,$DC13,$DS13,$EI13,$EY13,$FO13,$GE13,$GU13,$HK13,$IA13,$IQ13,$JG13,$JW13,$KM13,$LC13,$LS13),"") -> 0.094488189 | AN13: =IFERROR((AB$4*AB13+AC$4*AC13+AD$4*AD13+AE$4*AE13+AF$4*AF13+AG$4*AG13+AH$4*AH13+AI$4*AI13+AJ$4*AJ13+AK$4*AK13)*AM13,"") -> 0.094488189 | AO13: Crane Operators | AP13: 1 | AQ13: 15 | AR13: 1 | AS13: 1 | AT13: 1 | AU13: 1 | AV13: 1 | AW13: 1 | AX13: 1 | AY13: 1 | AZ13: 1 | BA13: 1 | BB13: =IFERROR(AVERAGE(AR13:BA13),"") -> 1 | BC13: =IFERROR(AQ13/SUM($AA13,$AQ13,$BG13,$BW13,$CM13,$DC13,$DS13,$EI13,$EY13,$FO13,$GE13,$GU13,$HK13,$IA13,$IQ13,$JG13,$JW13,$KM13,$LC13,$LS13),"") -> 0.059055118 | BD13: =IFERROR((AR$4*AR13+AS$4*AS13+AT$4*AT13+AU$4*AU13+AV$4*AV13+AW$4*AW13+AX$4*AX13+AY$4*AY13+AZ$4*AZ13+BA$4*BA13)*BC13,"") -> 0.059055118 | BE13: Turbine Installers | BF13: 1 | BG13: 69 | BH13: 1 | BI13: 1 | BJ13: 1 | BK13: 1 | BL13: 1 | BM13: 1 | BN13: 1 | BO13: 1 | BP13: 1 | BQ13: 1 | BR13: 1 | BS13: =IFERROR(BG13/SUM($AA13,$AQ13,$BG13,$BW13,$CM13,$DC13,$DS13,$EI13,$EY13,$FO13,$GE13,$GU13,$HK13,$IA13,$IQ13,$JG13,$JW13,$KM13,$LC13,$LS13),"") -> 0.27165354 | BT13: =IFERROR((BH$4*BH13+BI$4*BI13+BJ$4*BJ13+BK$4*BK13+BL$4*BL13+BM$4*BM13+BN$4*BN13+BO$4*BO13+BP$4*BP13+BQ$4*BQ13)*BS13,"") -> 0.27165354 | BU13: Turbine Laborer | BV13: 1 | BW13: 69 | BX13: 1 | BY13: 1 | BZ13: 1 | CA13: 1 | CB13: 1 | CC13: 1 | CD13: 1 | CE13: 1 | CF13: 1 | CG13: 1 | CH13: 1 | CI13: =IFERROR(BW13/SUM($AA13,$AQ13,$BG13,$BW13,$CM13,$DC13,$DS13,$EI13,$EY13,$FO13,$GE13,$GU13,$HK13,$IA13,$IQ13,$JG13,$JW13,$KM13,$LC13,$LS13),"") -> 0.27165354 | CJ13: =IFERROR((BX$4*BX13+BY$4*BY13+BZ$4*BZ13+CA$4*CA13+CB$4*CB13+CC$4*CC13+CD$4*CD13+CE$4*CE13+CF$4*CF13+CG$4*CG13)*CI13,"") -> 0.27165354 | CK13: Construction Managers | CL13: 1 | CM13: 21 | CN13: 1 | CO13: 1 | CP13: 1 | CQ13: 1 | CR13: 1 | CS13: 1 | CT13: 1 | CU13: 1 | CV13: 1 | CW13: 1 | CX13: 1 | CY13: =IFERROR(CM13/SUM($AA13,$AQ13,$BG13,$BW13,$CM13,$DC13,$DS13,$EI13,$EY13,$FO13,$GE13,$GU13,$HK13,$IA13,$IQ13,$JG13,$JW13,$KM13,$LC13,$LS13),"") -> 0.082677165 | CZ13: =IFERROR((CN$4*CN13+CO$4*CO13+CP$4*CP13+CQ$4*CQ13+CR$4*CR13+CS$4*CS13+CT$4*CT13+CU$4*CU13+CV$4*CV13+CW$4*CW13)*CY13,"") -> 0.082677165 | DA13: Electricians | DB13: 1 | DC13: 12 | DD13: 1 | DE13: 1 | DF13: 1 | DG13: 1 | DH13: 1 | DI13: 1 | DJ13: 1 | DK13: 1 | DL13: 1 | DM13: 1 | DN13: 1 | DO13: =IFERROR(DC13/SUM($AA13,$AQ13,$BG13,$BW13,$CM13,$DC13,$DS13,$EI13,$EY13,$FO13,$GE13,$GU13,$HK13,$IA13,$IQ13,$JG13,$JW13,$KM13,$LC13,$LS13),"") -> 0.047244094 | DP13: =IFERROR((DD$4*DD13+DE$4*DE13+DF$4*DF13+DG$4*DG13+DH$4*DH13+DI$4*DI13+DJ$4*DJ13+DK$4*DK13+DL$4*DL13+DM$4*DM13)*DO13,"") -> 0.047244094 | DQ13: Apprentice | DR13: 1 | DS13: 14 | DT13: 1 | DU13: 1 | DV13: 1 | DW13: 1 | DX13: 1 | DY13: 1 | DZ13: 1 | EA13: 1 | EB13: 1 | EC13: 1 | ED13: 1 | EE13: =IFERROR(DS13/SUM($AA13,$AQ13,$BG13,$BW13,$CM13,$DC13,$DS13,$EI13,$EY13,$FO13,$GE13,$GU13,$HK13,$IA13,$IQ13,$JG13,$JW13,$KM13,$LC13,$LS13),"") -> 0.05511811 | EF13: =IFERROR((DT$4*DT13+DU$4*DU13+DV$4*DV13+DW$4*DW13+DX$4*DX13+DY$4*DY13+DZ$4*DZ13+EA$4*EA13+EB$4*EB13+EC$4*EC13)*EE13,"") -> 0.05511811 | EG13: Foundation Laborer | EH13: 1 | EI13: 9 | EJ13: 1 | EK13: 1 | EL13: 1 | EM13: 1 | EN13: 1 | EO13: 1 | EP13: 1 | EQ13: 1 | ER13: 1 | ES13: 1 | ET13: 1 | EU13: =IFERROR(EI13/SUM($AA13,$AQ13,$BG13,$BW13,$CM13,$DC13,$DS13,$EI13,$EY13,$FO13,$GE13,$GU13,$HK13,$IA13,$IQ13,$JG13,$JW13,$KM13,$LC13,$LS13),"") -> 0.035433071 | EV13: =IFERROR((EJ$4*EJ13+EK$4*EK13+EL$4*EL13+EM$4*EM13+EN$4*EN13+EO$4*EO13+EP$4*EP13+EQ$4*EQ13+ER$4*ER13+ES$4*ES13)*EU13,"") -> 0.035433071 | EW13: Carpenters | EX13: 1 | EY13: 9 | EZ13: 1 | FA13: 1 | FB13: 1 | FC13: 1 | FD13: 1 | FE13: 1 | FF13: 1 | FG13: 1 | FH13: 1 | FI13: 1 | FJ13: 1 | FK13: =IFERROR(EY13/SUM($AA13,$AQ13,$BG13,$BW13,$CM13,$DC13,$DS13,$EI13,$EY13,$FO13,$GE13,$GU13,$HK13,$IA13,$IQ13,$JG13,$JW13,$KM13,$LC13,$LS13),"") -> 0.035433071 | FL13: =IFERROR((EZ$4*EZ13+FA$4*FA13+FB$4*FB13+FC$4*FC13+FD$4*FD13+FE$4*FE13+FF$4*FF13+FG$4*FG13+FH$4*FH13+FI$4*FI13)*FK13,"") -> 0.035433071 | FM13: Wind Technician | FN13: 1 | FO13: 12 | FP13: 1 | FQ13: 1 | FR13: 1 | FS13: 1 | FT13: 1 | FU13: 1 | FV13: 1 | FW13: 1 | FX13: 1 | FY13: 1 | FZ13: 1 | GA13: =IFERROR(FO13/SUM($AA13,$AQ13,$BG13,$BW13,$CM13,$DC13,$DS13,$EI13,$EY13,$FO13,$GE13,$GU13,$HK13,$IA13,$IQ13,$JG13,$JW13,$KM13,$LC13,$LS13),"") -> 0.047244094 | GB13: =IFERROR((FP$4*FP13+FQ$4*FQ13+FR$4*FR13+FS$4*FS13+FT$4*FT13+FU$4*FU13+FV$4*FV13+FW$4*FW13+FX$4*FX13+FY$4*FY13)*GA13,"") -> 0.047244094
A14: 10 | D14: 17 | E14: ='BVEM Scorecard'!F13 -> Wind + Solar + Storage | F14: =X14 -> 1 | G14: =W14 -> 1 | H14: =IFERROR(SUM(AN14,BD14,BT14,CJ14,CZ14,DP14,EF14,EV14,FL14,GB14,GR14,HH14,HX14,IN14,JD14,JT14,KJ14,KZ14,LP14,MF14),0) -> 1 | I14: =IFERROR(SUM(AL14,BB14,BR14,CH14,CX14,DN14,ED14,ET14,FJ14,FZ14,GP14,HF14,HV14,IL14,JB14,JR14,KH14,KX14,LN14,MD14)/SUM(Z14,AP14,BF14,BV14,CL14,DB14,DR14,EH14,EX14,FN14,GD14,GT14,HJ14,HZ14,IP14,JF14,JV14,KL14,LB14,LR14),0) -> 1 | J14: 1 | K14: 1 | L14: 1 | M14: 1 | N14: 1 | O14: 1 | P14: 1 | Q14: 1 | R14: 1 | S14: 1 | T14: 1 | U14: 1 | V14: 1 | W14: =AVERAGE(M14:V14) -> 1 | X14: =M$4*M14+N$4*N14+O$4*O14+P$4*P14+Q$4*Q14+R$4*R14+S$4*S14+T$4*T14+U$4*U14+V$4*V14 -> 1 | Y14: Equipment Operators | Z14: 1 | AA14: 24 | AB14: 1 | AC14: 1 | AD14: 1 | AE14: 1 | AF14: 1 | AG14: 1 | AH14: 1 | AI14: 1 | AJ14: 1 | AK14: 1 | AL14: =IFERROR(AVERAGE(AB14:AK14),"") -> 1 | AM14: =IFERROR(AA14/SUM($AA14,$AQ14,$BG14,$BW14,$CM14,$DC14,$DS14,$EI14,$EY14,$FO14,$GE14,$GU14,$HK14,$IA14,$IQ14,$JG14,$JW14,$KM14,$LC14,$LS14),"") -> 0.094488189 | AN14: =IFERROR((AB$4*AB14+AC$4*AC14+AD$4*AD14+AE$4*AE14+AF$4*AF14+AG$4*AG14+AH$4*AH14+AI$4*AI14+AJ$4*AJ14+AK$4*AK14)*AM14,"") -> 0.094488189 | AO14: Crane Operators | AP14: 1 | AQ14: 15 | AR14: 1 | AS14: 1 | AT14: 1 | AU14: 1 | AV14: 1 | AW14: 1 | AX14: 1 | AY14: 1 | AZ14: 1 | BA14: 1 | BB14: =IFERROR(AVERAGE(AR14:BA14),"") -> 1 | BC14: =IFERROR(AQ14/SUM($AA14,$AQ14,$BG14,$BW14,$CM14,$DC14,$DS14,$EI14,$EY14,$FO14,$GE14,$GU14,$HK14,$IA14,$IQ14,$JG14,$JW14,$KM14,$LC14,$LS14),"") -> 0.059055118 | BD14: =IFERROR((AR$4*AR14+AS$4*AS14+AT$4*AT14+AU$4*AU14+AV$4*AV14+AW$4*AW14+AX$4*AX14+AY$4*AY14+AZ$4*AZ14+BA$4*BA14)*BC14,"") -> 0.059055118 | BE14: Turbine Installers | BF14: 1 | BG14: 69 | BH14: 1 | BI14: 1 | BJ14: 1 | BK14: 1 | BL14: 1 | BM14: 1 | BN14: 1 | BO14: 1 | BP14: 1 | BQ14: 1 | BR14: 1 | BS14: =IFERROR(BG14/SUM($AA14,$AQ14,$BG14,$BW14,$CM14,$DC14,$DS14,$EI14,$EY14,$FO14,$GE14,$GU14,$HK14,$IA14,$IQ14,$JG14,$JW14,$KM14,$LC14,$LS14),"") -> 0.27165354 | BT14: =IFERROR((BH$4*BH14+BI$4*BI14+BJ$4*BJ14+BK$4*BK14+BL$4*BL14+BM$4*BM14+BN$4*BN14+BO$4*BO14+BP$4*BP14+BQ$4*BQ14)*BS14,"") -> 0.27165354 | BU14: Turbine Laborer | BV14: 1 | BW14: 69 | BX14: 1 | BY14: 1 | BZ14: 1 | CA14: 1 | CB14: 1 | CC14: 1 | CD14: 1 | CE14: 1 | CF14: 1 | CG14: 1 | CH14: 1 | CI14: =IFERROR(BW14/SUM($AA14,$AQ14,$BG14,$BW14,$CM14,$DC14,$DS14,$EI14,$EY14,$FO14,$GE14,$GU14,$HK14,$IA14,$IQ14,$JG14,$JW14,$KM14,$LC14,$LS14),"") -> 0.27165354 | CJ14: =IFERROR((BX$4*BX14+BY$4*BY14+BZ$4*BZ14+CA$4*CA14+CB$4*CB14+CC$4*CC14+CD$4*CD14+CE$4*CE14+CF$4*CF14+CG$4*CG14)*CI14,"") -> 0.27165354 | CK14: Construction Managers | CL14: 1 | CM14: 21 | CN14: 1 | CO14: 1 | CP14: 1 | CQ14: 1 | CR14: 1 | CS14: 1 | CT14: 1 | CU14: 1 | CV14: 1 | CW14: 1 | CX14: 1 | CY14: =IFERROR(CM14/SUM($AA14,$AQ14,$BG14,$BW14,$CM14,$DC14,$DS14,$EI14,$EY14,$FO14,$GE14,$GU14,$HK14,$IA14,$IQ14,$JG14,$JW14,$KM14,$LC14,$LS14),"") -> 0.082677165 | CZ14: =IFERROR((CN$4*CN14+CO$4*CO14+CP$4*CP14+CQ$4*CQ14+CR$4*CR14+CS$4*CS14+CT$4*CT14+CU$4*CU14+CV$4*CV14+CW$4*CW14)*CY14,"") -> 0.082677165 | DA14: Electricians | DB14: 1 | DC14: 12 | DD14: 1 | DE14: 1 | DF14: 1 | DG14: 1 | DH14: 1 | DI14: 1 | DJ14: 1 | DK14: 1 | DL14: 1 | DM14: 1 | DN14: 1 | DO14: =IFERROR(DC14/SUM($AA14,$AQ14,$BG14,$BW14,$CM14,$DC14,$DS14,$EI14,$EY14,$FO14,$GE14,$GU14,$HK14,$IA14,$IQ14,$JG14,$JW14,$KM14,$LC14,$LS14),"") -> 0.047244094 | DP14: =IFERROR((DD$4*DD14+DE$4*DE14+DF$4*DF14+DG$4*DG14+DH$4*DH14+DI$4*DI14+DJ$4*DJ14+DK$4*DK14+DL$4*DL14+DM$4*DM14)*DO14,"") -> 0.047244094 | DQ14: Apprentice | DR14: 1 | DS14: 14 | DT14: 1 | DU14: 1 | DV14: 1 | DW14: 1 | DX14: 1 | DY14: 1 | DZ14: 1 | EA14: 1 | EB14: 1 | EC14: 1 | ED14: 1 | EE14: =IFERROR(DS14/SUM($AA14,$AQ14,$BG14,$BW14,$CM14,$DC14,$DS14,$EI14,$EY14,$FO14,$GE14,$GU14,$HK14,$IA14,$IQ14,$JG14,$JW14,$KM14,$LC14,$LS14),"") -> 0.05511811 | EF14: =IFERROR((DT$4*DT14+DU$4*DU14+DV$4*DV14+DW$4*DW14+DX$4*DX14+DY$4*DY14+DZ$4*DZ14+EA$4*EA14+EB$4*EB14+EC$4*EC14)*EE14,"") -> 0.05511811 | EG14: Foundation Laborer | EH14: 1 | EI14: 9 | EJ14: 1 | EK14: 1 | EL14: 1 | EM14: 1 | EN14: 1 | EO14: 1 | EP14: 1 | EQ14: 1 | ER14: 1 | ES14: 1 | ET14: 1 | EU14: =IFERROR(EI14/SUM($AA14,$AQ14,$BG14,$BW14,$CM14,$DC14,$DS14,$EI14,$EY14,$FO14,$GE14,$GU14,$HK14,$IA14,$IQ14,$JG14,$JW14,$KM14,$LC14,$LS14),"") -> 0.035433071 | EV14: =IFERROR((EJ$4*EJ14+EK$4*EK14+EL$4*EL14+EM$4*EM14+EN$4*EN14+EO$4*EO14+EP$4*EP14+EQ$4*EQ14+ER$4*ER14+ES$4*ES14)*EU14,"") -> 0.035433071 | EW14: Carpenters | EX14: 1 | EY14: 9 | EZ14: 1 | FA14: 1 | FB14: 1 | FC14: 1 | FD14: 1 | FE14: 1 | FF14: 1 | FG14: 1 | FH14: 1 | FI14: 1 | FJ14: 1 | FK14: =IFERROR(EY14/SUM($AA14,$AQ14,$BG14,$BW14,$CM14,$DC14,$DS14,$EI14,$EY14,$FO14,$GE14,$GU14,$HK14,$IA14,$IQ14,$JG14,$JW14,$KM14,$LC14,$LS14),"") -> 0.035433071 | FL14: =IFERROR((EZ$4*EZ14+FA$4*FA14+FB$4*FB14+FC$4*FC14+FD$4*FD14+FE$4*FE14+FF$4*FF14+FG$4*FG14+FH$4*FH14+FI$4*FI14)*FK14,"") -> 0.035433071 | FM14: Wind Technician | FN14: 1 | FO14: 12 | FP14: 1 | FQ14: 1 | FR14: 1 | FS14: 1 | FT14: 1 | FU14: 1 | FV14: 1 | FW14: 1 | FX14: 1 | FY14: 1 | FZ14: 1 | GA14: =IFERROR(FO14/SUM($AA14,$AQ14,$BG14,$BW14,$CM14,$DC14,$DS14,$EI14,$EY14,$FO14,$GE14,$GU14,$HK14,$IA14,$IQ14,$JG14,$JW14,$KM14,$LC14,$LS14),"") -> 0.047244094 | GB14: =IFERROR((FP$4*FP14+FQ$4*FQ14+FR$4*FR14+FS$4*FS14+FT$4*FT14+FU$4*FU14+FV$4*FV14+FW$4*FW14+FX$4*FX14+FY$4*FY14)*GA14,"") -> 0.047244094
A15: 11 | D15: 20 | E15: ='BVEM Scorecard'!F14 -> Wind + Solar + Storage | F15: =X15 -> 1 | G15: =W15 -> 1 | H15: =IFERROR(SUM(AN15,BD15,BT15,CJ15,CZ15,DP15,EF15,EV15,FL15,GB15,GR15,HH15,HX15,IN15,JD15,JT15,KJ15,KZ15,LP15,MF15),0) -> 1 | I15: =IFERROR(SUM(AL15,BB15,BR15,CH15,CX15,DN15,ED15,ET15,FJ15,FZ15,GP15,HF15,HV15,IL15,JB15,JR15,KH15,KX15,LN15,MD15)/SUM(Z15,AP15,BF15,BV15,CL15,DB15,DR15,EH15,EX15,FN15,GD15,GT15,HJ15,HZ15,IP15,JF15,JV15,KL15,LB15,LR15),0) -> 1 | J15: 1 | K15: 1 | L15: 1 | M15: 1 | N15: 1 | O15: 1 | P15: 1 | Q15: 1 | R15: 1 | S15: 1 | T15: 1 | U15: 1 | V15: 1 | W15: =AVERAGE(M15:V15) -> 1 | X15: =M$4*M15+N$4*N15+O$4*O15+P$4*P15+Q$4*Q15+R$4*R15+S$4*S15+T$4*T15+U$4*U15+V$4*V15 -> 1 | Y15: Equipment Operators | Z15: 1 | AA15: 24 | AB15: 1 | AC15: 1 | AD15: 1 | AE15: 1 | AF15: 1 | AG15: 1 | AH15: 1 | AI15: 1 | AJ15: 1 | AK15: 1 | AL15: =IFERROR(AVERAGE(AB15:AK15),"") -> 1 | AM15: =IFERROR(AA15/SUM($AA15,$AQ15,$BG15,$BW15,$CM15,$DC15,$DS15,$EI15,$EY15,$FO15,$GE15,$GU15,$HK15,$IA15,$IQ15,$JG15,$JW15,$KM15,$LC15,$LS15),"") -> 0.094488189 | AN15: =IFERROR((AB$4*AB15+AC$4*AC15+AD$4*AD15+AE$4*AE15+AF$4*AF15+AG$4*AG15+AH$4*AH15+AI$4*AI15+AJ$4*AJ15+AK$4*AK15)*AM15,"") -> 0.094488189 | AO15: Crane Operators | AP15: 1 | AQ15: 15 | AR15: 1 | AS15: 1 | AT15: 1 | AU15: 1 | AV15: 1 | AW15: 1 | AX15: 1 | AY15: 1 | AZ15: 1 | BA15: 1 | BB15: =IFERROR(AVERAGE(AR15:BA15),"") -> 1 | BC15: =IFERROR(AQ15/SUM($AA15,$AQ15,$BG15,$BW15,$CM15,$DC15,$DS15,$EI15,$EY15,$FO15,$GE15,$GU15,$HK15,$IA15,$IQ15,$JG15,$JW15,$KM15,$LC15,$LS15),"") -> 0.059055118 | BD15: =IFERROR((AR$4*AR15+AS$4*AS15+AT$4*AT15+AU$4*AU15+AV$4*AV15+AW$4*AW15+AX$4*AX15+AY$4*AY15+AZ$4*AZ15+BA$4*BA15)*BC15,"") -> 0.059055118 | BE15: Turbine Installers | BF15: 1 | BG15: 69 | BH15: 1 | BI15: 1 | BJ15: 1 | BK15: 1 | BL15: 1 | BM15: 1 | BN15: 1 | BO15: 1 | BP15: 1 | BQ15: 1 | BR15: 1 | BS15: =IFERROR(BG15/SUM($AA15,$AQ15,$BG15,$BW15,$CM15,$DC15,$DS15,$EI15,$EY15,$FO15,$GE15,$GU15,$HK15,$IA15,$IQ15,$JG15,$JW15,$KM15,$LC15,$LS15),"") -> 0.27165354 | BT15: =IFERROR((BH$4*BH15+BI$4*BI15+BJ$4*BJ15+BK$4*BK15+BL$4*BL15+BM$4*BM15+BN$4*BN15+BO$4*BO15+BP$4*BP15+BQ$4*BQ15)*BS15,"") -> 0.27165354 | BU15: Turbine Laborer | BV15: 1 | BW15: 69 | BX15: 1 | BY15: 1 | BZ15: 1 | CA15: 1 | CB15: 1 | CC15: 1 | CD15: 1 | CE15: 1 | CF15: 1 | CG15: 1 | CH15: 1 | CI15: =IFERROR(BW15/SUM($AA15,$AQ15,$BG15,$BW15,$CM15,$DC15,$DS15,$EI15,$EY15,$FO15,$GE15,$GU15,$HK15,$IA15,$IQ15,$JG15,$JW15,$KM15,$LC15,$LS15),"") -> 0.27165354 | CJ15: =IFERROR((BX$4*BX15+BY$4*BY15+BZ$4*BZ15+CA$4*CA15+CB$4*CB15+CC$4*CC15+CD$4*CD15+CE$4*CE15+CF$4*CF15+CG$4*CG15)*CI15,"") -> 0.27165354 | CK15: Construction Managers | CL15: 1 | CM15: 21 | CN15: 1 | CO15: 1 | CP15: 1 | CQ15: 1 | CR15: 1 | CS15: 1 | CT15: 1 | CU15: 1 | CV15: 1 | CW15: 1 | CX15: 1 | CY15: =IFERROR(CM15/SUM($AA15,$AQ15,$BG15,$BW15,$CM15,$DC15,$DS15,$EI15,$EY15,$FO15,$GE15,$GU15,$HK15,$IA15,$IQ15,$JG15,$JW15,$KM15,$LC15,$LS15),"") -> 0.082677165 | CZ15: =IFERROR((CN$4*CN15+CO$4*CO15+CP$4*CP15+CQ$4*CQ15+CR$4*CR15+CS$4*CS15+CT$4*CT15+CU$4*CU15+CV$4*CV15+CW$4*CW15)*CY15,"") -> 0.082677165 | DA15: Electricians | DB15: 1 | DC15: 12 | DD15: 1 | DE15: 1 | DF15: 1 | DG15: 1 | DH15: 1 | DI15: 1 | DJ15: 1 | DK15: 1 | DL15: 1 | DM15: 1 | DN15: 1 | DO15: =IFERROR(DC15/SUM($AA15,$AQ15,$BG15,$BW15,$CM15,$DC15,$DS15,$EI15,$EY15,$FO15,$GE15,$GU15,$HK15,$IA15,$IQ15,$JG15,$JW15,$KM15,$LC15,$LS15),"") -> 0.047244094 | DP15: =IFERROR((DD$4*DD15+DE$4*DE15+DF$4*DF15+DG$4*DG15+DH$4*DH15+DI$4*DI15+DJ$4*DJ15+DK$4*DK15+DL$4*DL15+DM$4*DM15)*DO15,"") -> 0.047244094 | DQ15: Apprentice | DR15: 1 | DS15: 14 | DT15: 1 | DU15: 1 | DV15: 1 | DW15: 1 | DX15: 1 | DY15: 1 | DZ15: 1 | EA15: 1 | EB15: 1 | EC15: 1 | ED15: 1 | EE15: =IFERROR(DS15/SUM($AA15,$AQ15,$BG15,$BW15,$CM15,$DC15,$DS15,$EI15,$EY15,$FO15,$GE15,$GU15,$HK15,$IA15,$IQ15,$JG15,$JW15,$KM15,$LC15,$LS15),"") -> 0.05511811 | EF15: =IFERROR((DT$4*DT15+DU$4*DU15+DV$4*DV15+DW$4*DW15+DX$4*DX15+DY$4*DY15+DZ$4*DZ15+EA$4*EA15+EB$4*EB15+EC$4*EC15)*EE15,"") -> 0.05511811 | EG15: Foundation Laborer | EH15: 1 | EI15: 9 | EJ15: 1 | EK15: 1 | EL15: 1 | EM15: 1 | EN15: 1 | EO15: 1 | EP15: 1 | EQ15: 1 | ER15: 1 | ES15: 1 | ET15: 1 | EU15: =IFERROR(EI15/SUM($AA15,$AQ15,$BG15,$BW15,$CM15,$DC15,$DS15,$EI15,$EY15,$FO15,$GE15,$GU15,$HK15,$IA15,$IQ15,$JG15,$JW15,$KM15,$LC15,$LS15),"") -> 0.035433071 | EV15: =IFERROR((EJ$4*EJ15+EK$4*EK15+EL$4*EL15+EM$4*EM15+EN$4*EN15+EO$4*EO15+EP$4*EP15+EQ$4*EQ15+ER$4*ER15+ES$4*ES15)*EU15,"") -> 0.035433071 | EW15: Carpenters | EX15: 1 | EY15: 9 | EZ15: 1 | FA15: 1 | FB15: 1 | FC15: 1 | FD15: 1 | FE15: 1 | FF15: 1 | FG15: 1 | FH15: 1 | FI15: 1 | FJ15: 1 | FK15: =IFERROR(EY15/SUM($AA15,$AQ15,$BG15,$BW15,$CM15,$DC15,$DS15,$EI15,$EY15,$FO15,$GE15,$GU15,$HK15,$IA15,$IQ15,$JG15,$JW15,$KM15,$LC15,$LS15),"") -> 0.035433071 | FL15: =IFERROR((EZ$4*EZ15+FA$4*FA15+FB$4*FB15+FC$4*FC15+FD$4*FD15+FE$4*FE15+FF$4*FF15+FG$4*FG15+FH$4*FH15+FI$4*FI15)*FK15,"") -> 0.035433071 | FM15: Wind Technician | FN15: 1 | FO15: 12 | FP15: 1 | FQ15: 1 | FR15: 1 | FS15: 1 | FT15: 1 | FU15: 1 | FV15: 1 | FW15: 1 | FX15: 1 | FY15: 1 | FZ15: 1 | GA15: =IFERROR(FO15/SUM($AA15,$AQ15,$BG15,$BW15,$CM15,$DC15,$DS15,$EI15,$EY15,$FO15,$GE15,$GU15,$HK15,$IA15,$IQ15,$JG15,$JW15,$KM15,$LC15,$LS15),"") -> 0.047244094 | GB15: =IFERROR((FP$4*FP15+FQ$4*FQ15+FR$4*FR15+FS$4*FS15+FT$4*FT15+FU$4*FU15+FV$4*FV15+FW$4*FW15+FX$4*FX15+FY$4*FY15)*GA15,"") -> 0.047244094
A16: 12 | D16: 23 | E16: ='BVEM Scorecard'!F15 -> Wind + Solar + Storage | F16: =X16 -> 1 | G16: =W16 -> 1 | H16: =IFERROR(SUM(AN16,BD16,BT16,CJ16,CZ16,DP16,EF16,EV16,FL16,GB16,GR16,HH16,HX16,IN16,JD16,JT16,KJ16,KZ16,LP16,MF16),0) -> 1 | I16: =IFERROR(SUM(AL16,BB16,BR16,CH16,CX16,DN16,ED16,ET16,FJ16,FZ16,GP16,HF16,HV16,IL16,JB16,JR16,KH16,KX16,LN16,MD16)/SUM(Z16,AP16,BF16,BV16,CL16,DB16,DR16,EH16,EX16,FN16,GD16,GT16,HJ16,HZ16,IP16,JF16,JV16,KL16,LB16,LR16),0) -> 1 | J16: 1 | K16: 1 | L16: 1 | M16: 1 | N16: 1 | O16: 1 | P16: 1 | Q16: 1 | R16: 1 | S16: 1 | T16: 1 | U16: 1 | V16: 1 | W16: =AVERAGE(M16:V16) -> 1 | X16: =M$4*M16+N$4*N16+O$4*O16+P$4*P16+Q$4*Q16+R$4*R16+S$4*S16+T$4*T16+U$4*U16+V$4*V16 -> 1 | Y16: Equipment Operators | Z16: 1 | AA16: 24 | AB16: 1 | AC16: 1 | AD16: 1 | AE16: 1 | AF16: 1 | AG16: 1 | AH16: 1 | AI16: 1 | AJ16: 1 | AK16: 1 | AL16: =IFERROR(AVERAGE(AB16:AK16),"") -> 1 | AM16: =IFERROR(AA16/SUM($AA16,$AQ16,$BG16,$BW16,$CM16,$DC16,$DS16,$EI16,$EY16,$FO16,$GE16,$GU16,$HK16,$IA16,$IQ16,$JG16,$JW16,$KM16,$LC16,$LS16),"") -> 0.094488189 | AN16: =IFERROR((AB$4*AB16+AC$4*AC16+AD$4*AD16+AE$4*AE16+AF$4*AF16+AG$4*AG16+AH$4*AH16+AI$4*AI16+AJ$4*AJ16+AK$4*AK16)*AM16,"") -> 0.094488189 | AO16: Crane Operators | AP16: 1 | AQ16: 15 | AR16: 1 | AS16: 1 | AT16: 1 | AU16: 1 | AV16: 1 | AW16: 1 | AX16: 1 | AY16: 1 | AZ16: 1 | BA16: 1 | BB16: =IFERROR(AVERAGE(AR16:BA16),"") -> 1 | BC16: =IFERROR(AQ16/SUM($AA16,$AQ16,$BG16,$BW16,$CM16,$DC16,$DS16,$EI16,$EY16,$FO16,$GE16,$GU16,$HK16,$IA16,$IQ16,$JG16,$JW16,$KM16,$LC16,$LS16),"") -> 0.059055118 | BD16: =IFERROR((AR$4*AR16+AS$4*AS16+AT$4*AT16+AU$4*AU16+AV$4*AV16+AW$4*AW16+AX$4*AX16+AY$4*AY16+AZ$4*AZ16+BA$4*BA16)*BC16,"") -> 0.059055118 | BE16: Turbine Installers | BF16: 1 | BG16: 69 | BH16: 1 | BI16: 1 | BJ16: 1 | BK16: 1 | BL16: 1 | BM16: 1 | BN16: 1 | BO16: 1 | BP16: 1 | BQ16: 1 | BR16: 1 | BS16: =IFERROR(BG16/SUM($AA16,$AQ16,$BG16,$BW16,$CM16,$DC16,$DS16,$EI16,$EY16,$FO16,$GE16,$GU16,$HK16,$IA16,$IQ16,$JG16,$JW16,$KM16,$LC16,$LS16),"") -> 0.27165354 | BT16: =IFERROR((BH$4*BH16+BI$4*BI16+BJ$4*BJ16+BK$4*BK16+BL$4*BL16+BM$4*BM16+BN$4*BN16+BO$4*BO16+BP$4*BP16+BQ$4*BQ16)*BS16,"") -> 0.27165354 | BU16: Turbine Laborer | BV16: 1 | BW16: 69 | BX16: 1 | BY16: 1 | BZ16: 1 | CA16: 1 | CB16: 1 | CC16: 1 | CD16: 1 | CE16: 1 | CF16: 1 | CG16: 1 | CH16: 1 | CI16: =IFERROR(BW16/SUM($AA16,$AQ16,$BG16,$BW16,$CM16,$DC16,$DS16,$EI16,$EY16,$FO16,$GE16,$GU16,$HK16,$IA16,$IQ16,$JG16,$JW16,$KM16,$LC16,$LS16),"") -> 0.27165354 | CJ16: =IFERROR((BX$4*BX16+BY$4*BY16+BZ$4*BZ16+CA$4*CA16+CB$4*CB16+CC$4*CC16+CD$4*CD16+CE$4*CE16+CF$4*CF16+CG$4*CG16)*CI16,"") -> 0.27165354 | CK16: Construction Managers | CL16: 1 | CM16: 21 | CN16: 1 | CO16: 1 | CP16: 1 | CQ16: 1 | CR16: 1 | CS16: 1 | CT16: 1 | CU16: 1 | CV16: 1 | CW16: 1 | CX16: 1 | CY16: =IFERROR(CM16/SUM($AA16,$AQ16,$BG16,$BW16,$CM16,$DC16,$DS16,$EI16,$EY16,$FO16,$GE16,$GU16,$HK16,$IA16,$IQ16,$JG16,$JW16,$KM16,$LC16,$LS16),"") -> 0.082677165 | CZ16: =IFERROR((CN$4*CN16+CO$4*CO16+CP$4*CP16+CQ$4*CQ16+CR$4*CR16+CS$4*CS16+CT$4*CT16+CU$4*CU16+CV$4*CV16+CW$4*CW16)*CY16,"") -> 0.082677165 | DA16: Electricians | DB16: 1 | DC16: 12 | DD16: 1 | DE16: 1 | DF16: 1 | DG16: 1 | DH16: 1 | DI16: 1 | DJ16: 1 | DK16: 1 | DL16: 1 | DM16: 1 | DN16: 1 | DO16: =IFERROR(DC16/SUM($AA16,$AQ16,$BG16,$BW16,$CM16,$DC16,$DS16,$EI16,$EY16,$FO16,$GE16,$GU16,$HK16,$IA16,$IQ16,$JG16,$JW16,$KM16,$LC16,$LS16),"") -> 0.047244094 | DP16: =IFERROR((DD$4*DD16+DE$4*DE16+DF$4*DF16+DG$4*DG16+DH$4*DH16+DI$4*DI16+DJ$4*DJ16+DK$4*DK16+DL$4*DL16+DM$4*DM16)*DO16,"") -> 0.047244094 | DQ16: Apprentice | DR16: 1 | DS16: 14 | DT16: 1 | DU16: 1 | DV16: 1 | DW16: 1 | DX16: 1 | DY16: 1 | DZ16: 1 | EA16: 1 | EB16: 1 | EC16: 1 | ED16: 1 | EE16: =IFERROR(DS16/SUM($AA16,$AQ16,$BG16,$BW16,$CM16,$DC16,$DS16,$EI16,$EY16,$FO16,$GE16,$GU16,$HK16,$IA16,$IQ16,$JG16,$JW16,$KM16,$LC16,$LS16),"") -> 0.05511811 | EF16: =IFERROR((DT$4*DT16+DU$4*DU16+DV$4*DV16+DW$4*DW16+DX$4*DX16+DY$4*DY16+DZ$4*DZ16+EA$4*EA16+EB$4*EB16+EC$4*EC16)*EE16,"") -> 0.05511811 | EG16: Foundation Laborer | EH16: 1 | EI16: 9 | EJ16: 1 | EK16: 1 | EL16: 1 | EM16: 1 | EN16: 1 | EO16: 1 | EP16: 1 | EQ16: 1 | ER16: 1 | ES16: 1 | ET16: 1 | EU16: =IFERROR(EI16/SUM($AA16,$AQ16,$BG16,$BW16,$CM16,$DC16,$DS16,$EI16,$EY16,$FO16,$GE16,$GU16,$HK16,$IA16,$IQ16,$JG16,$JW16,$KM16,$LC16,$LS16),"") -> 0.035433071 | EV16: =IFERROR((EJ$4*EJ16+EK$4*EK16+EL$4*EL16+EM$4*EM16+EN$4*EN16+EO$4*EO16+EP$4*EP16+EQ$4*EQ16+ER$4*ER16+ES$4*ES16)*EU16,"") -> 0.035433071 | EW16: Carpenters | EX16: 1 | EY16: 9 | EZ16: 1 | FA16: 1 | FB16: 1 | FC16: 1 | FD16: 1 | FE16: 1 | FF16: 1 | FG16: 1 | FH16: 1 | FI16: 1 | FJ16: 1 | FK16: =IFERROR(EY16/SUM($AA16,$AQ16,$BG16,$BW16,$CM16,$DC16,$DS16,$EI16,$EY16,$FO16,$GE16,$GU16,$HK16,$IA16,$IQ16,$JG16,$JW16,$KM16,$LC16,$LS16),"") -> 0.035433071 | FL16: =IFERROR((EZ$4*EZ16+FA$4*FA16+FB$4*FB16+FC$4*FC16+FD$4*FD16+FE$4*FE16+FF$4*FF16+FG$4*FG16+FH$4*FH16+FI$4*FI16)*FK16,"") -> 0.035433071 | FM16: Wind Technician | FN16: 1 | FO16: 12 | FP16: 1 | FQ16: 1 | FR16: 1 | FS16: 1 | FT16: 1 | FU16: 1 | FV16: 1 | FW16: 1 | FX16: 1 | FY16: 1 | FZ16: 1 | GA16: =IFERROR(FO16/SUM($AA16,$AQ16,$BG16,$BW16,$CM16,$DC16,$DS16,$EI16,$EY16,$FO16,$GE16,$GU16,$HK16,$IA16,$IQ16,$JG16,$JW16,$KM16,$LC16,$LS16),"") -> 0.047244094 | GB16: =IFERROR((FP$4*FP16+FQ$4*FQ16+FR$4*FR16+FS$4*FS16+FT$4*FT16+FU$4*FU16+FV$4*FV16+FW$4*FW16+FX$4*FX16+FY$4*FY16)*GA16,"") -> 0.047244094
A17: 13 | D17: 24 | E17: ='BVEM Scorecard'!F16 -> Wind + Solar + Storage | F17: =X17 -> 1 | G17: =W17 -> 1 | H17: =IFERROR(SUM(AN17,BD17,BT17,CJ17,CZ17,DP17,EF17,EV17,FL17,GB17,GR17,HH17,HX17,IN17,JD17,JT17,KJ17,KZ17,LP17,MF17),0) -> 1 | I17: =IFERROR(SUM(AL17,BB17,BR17,CH17,CX17,DN17,ED17,ET17,FJ17,FZ17,GP17,HF17,HV17,IL17,JB17,JR17,KH17,KX17,LN17,MD17)/SUM(Z17,AP17,BF17,BV17,CL17,DB17,DR17,EH17,EX17,FN17,GD17,GT17,HJ17,HZ17,IP17,JF17,JV17,KL17,LB17,LR17),0) -> 1 | J17: 1 | K17: 1 | L17: 1 | M17: 1 | N17: 1 | O17: 1 | P17: 1 | Q17: 1 | R17: 1 | S17: 1 | T17: 1 | U17: 1 | V17: 1 | W17: =AVERAGE(M17:V17) -> 1 | X17: =M$4*M17+N$4*N17+O$4*O17+P$4*P17+Q$4*Q17+R$4*R17+S$4*S17+T$4*T17+U$4*U17+V$4*V17 -> 1 | Y17: Equipment Operators | Z17: 1 | AA17: 24 | AB17: 1 | AC17: 1 | AD17: 1 | AE17: 1 | AF17: 1 | AG17: 1 | AH17: 1 | AI17: 1 | AJ17: 1 | AK17: 1 | AL17: =IFERROR(AVERAGE(AB17:AK17),"") -> 1 | AM17: =IFERROR(AA17/SUM($AA17,$AQ17,$BG17,$BW17,$CM17,$DC17,$DS17,$EI17,$EY17,$FO17,$GE17,$GU17,$HK17,$IA17,$IQ17,$JG17,$JW17,$KM17,$LC17,$LS17),"") -> 0.094488189 | AN17: =IFERROR((AB$4*AB17+AC$4*AC17+AD$4*AD17+AE$4*AE17+AF$4*AF17+AG$4*AG17+AH$4*AH17+AI$4*AI17+AJ$4*AJ17+AK$4*AK17)*AM17,"") -> 0.094488189 | AO17: Crane Operators | AP17: 1 | AQ17: 15 | AR17: 1 | AS17: 1 | AT17: 1 | AU17: 1 | AV17: 1 | AW17: 1 | AX17: 1 | AY17: 1 | AZ17: 1 | BA17: 1 | BB17: =IFERROR(AVERAGE(AR17:BA17),"") -> 1 | BC17: =IFERROR(AQ17/SUM($AA17,$AQ17,$BG17,$BW17,$CM17,$DC17,$DS17,$EI17,$EY17,$FO17,$GE17,$GU17,$HK17,$IA17,$IQ17,$JG17,$JW17,$KM17,$LC17,$LS17),"") -> 0.059055118 | BD17: =IFERROR((AR$4*AR17+AS$4*AS17+AT$4*AT17+AU$4*AU17+AV$4*AV17+AW$4*AW17+AX$4*AX17+AY$4*AY17+AZ$4*AZ17+BA$4*BA17)*BC17,"") -> 0.059055118 | BE17: Turbine Installers | BF17: 1 | BG17: 69 | BH17: 1 | BI17: 1 | BJ17: 1 | BK17: 1 | BL17: 1 | BM17: 1 | BN17: 1 | BO17: 1 | BP17: 1 | BQ17: 1 | BR17: 1 | BS17: =IFERROR(BG17/SUM($AA17,$AQ17,$BG17,$BW17,$CM17,$DC17,$DS17,$EI17,$EY17,$FO17,$GE17,$GU17,$HK17,$IA17,$IQ17,$JG17,$JW17,$KM17,$LC17,$LS17),"") -> 0.27165354 | BT17: =IFERROR((BH$4*BH17+BI$4*BI17+BJ$4*BJ17+BK$4*BK17+BL$4*BL17+BM$4*BM17+BN$4*BN17+BO$4*BO17+BP$4*BP17+BQ$4*BQ17)*BS17,"") -> 0.27165354 | BU17: Turbine Laborer | BV17: 1 | BW17: 69 | BX17: 1 | BY17: 1 | BZ17: 1 | CA17: 1 | CB17: 1 | CC17: 1 | CD17: 1 | CE17: 1 | CF17: 1 | CG17: 1 | CH17: 1 | CI17: =IFERROR(BW17/SUM($AA17,$AQ17,$BG17,$BW17,$CM17,$DC17,$DS17,$EI17,$EY17,$FO17,$GE17,$GU17,$HK17,$IA17,$IQ17,$JG17,$JW17,$KM17,$LC17,$LS17),"") -> 0.27165354 | CJ17: =IFERROR((BX$4*BX17+BY$4*BY17+BZ$4*BZ17+CA$4*CA17+CB$4*CB17+CC$4*CC17+CD$4*CD17+CE$4*CE17+CF$4*CF17+CG$4*CG17)*CI17,"") -> 0.27165354 | CK17: Construction Managers | CL17: 1 | CM17: 21 | CN17: 1 | CO17: 1 | CP17: 1 | CQ17: 1 | CR17: 1 | CS17: 1 | CT17: 1 | CU17: 1 | CV17: 1 | CW17: 1 | CX17: 1 | CY17: =IFERROR(CM17/SUM($AA17,$AQ17,$BG17,$BW17,$CM17,$DC17,$DS17,$EI17,$EY17,$FO17,$GE17,$GU17,$HK17,$IA17,$IQ17,$JG17,$JW17,$KM17,$LC17,$LS17),"") -> 0.082677165 | CZ17: =IFERROR((CN$4*CN17+CO$4*CO17+CP$4*CP17+CQ$4*CQ17+CR$4*CR17+CS$4*CS17+CT$4*CT17+CU$4*CU17+CV$4*CV17+CW$4*CW17)*CY17,"") -> 0.082677165 | DA17: Electricians | DB17: 1 | DC17: 12 | DD17: 1 | DE17: 1 | DF17: 1 | DG17: 1 | DH17: 1 | DI17: 1 | DJ17: 1 | DK17: 1 | DL17: 1 | DM17: 1 | DN17: 1 | DO17: =IFERROR(DC17/SUM($AA17,$AQ17,$BG17,$BW17,$CM17,$DC17,$DS17,$EI17,$EY17,$FO17,$GE17,$GU17,$HK17,$IA17,$IQ17,$JG17,$JW17,$KM17,$LC17,$LS17),"") -> 0.047244094 | DP17: =IFERROR((DD$4*DD17+DE$4*DE17+DF$4*DF17+DG$4*DG17+DH$4*DH17+DI$4*DI17+DJ$4*DJ17+DK$4*DK17+DL$4*DL17+DM$4*DM17)*DO17,"") -> 0.047244094 | DQ17: Apprentice | DR17: 1 | DS17: 14 | DT17: 1 | DU17: 1 | DV17: 1 | DW17: 1 | DX17: 1 | DY17: 1 | DZ17: 1 | EA17: 1 | EB17: 1 | EC17: 1 | ED17: 1 | EE17: =IFERROR(DS17/SUM($AA17,$AQ17,$BG17,$BW17,$CM17,$DC17,$DS17,$EI17,$EY17,$FO17,$GE17,$GU17,$HK17,$IA17,$IQ17,$JG17,$JW17,$KM17,$LC17,$LS17),"") -> 0.05511811 | EF17: =IFERROR((DT$4*DT17+DU$4*DU17+DV$4*DV17+DW$4*DW17+DX$4*DX17+DY$4*DY17+DZ$4*DZ17+EA$4*EA17+EB$4*EB17+EC$4*EC17)*EE17,"") -> 0.05511811 | EG17: Foundation Laborer | EH17: 1 | EI17: 9 | EJ17: 1 | EK17: 1 | EL17: 1 | EM17: 1 | EN17: 1 | EO17: 1 | EP17: 1 | EQ17: 1 | ER17: 1 | ES17: 1 | ET17: 1 | EU17: =IFERROR(EI17/SUM($AA17,$AQ17,$BG17,$BW17,$CM17,$DC17,$DS17,$EI17,$EY17,$FO17,$GE17,$GU17,$HK17,$IA17,$IQ17,$JG17,$JW17,$KM17,$LC17,$LS17),"") -> 0.035433071 | EV17: =IFERROR((EJ$4*EJ17+EK$4*EK17+EL$4*EL17+EM$4*EM17+EN$4*EN17+EO$4*EO17+EP$4*EP17+EQ$4*EQ17+ER$4*ER17+ES$4*ES17)*EU17,"") -> 0.035433071 | EW17: Carpenters | EX17: 1 | EY17: 9 | EZ17: 1 | FA17: 1 | FB17: 1 | FC17: 1 | FD17: 1 | FE17: 1 | FF17: 1 | FG17: 1 | FH17: 1 | FI17: 1 | FJ17: 1 | FK17: =IFERROR(EY17/SUM($AA17,$AQ17,$BG17,$BW17,$CM17,$DC17,$DS17,$EI17,$EY17,$FO17,$GE17,$GU17,$HK17,$IA17,$IQ17,$JG17,$JW17,$KM17,$LC17,$LS17),"") -> 0.035433071 | FL17: =IFERROR((EZ$4*EZ17+FA$4*FA17+FB$4*FB17+FC$4*FC17+FD$4*FD17+FE$4*FE17+FF$4*FF17+FG$4*FG17+FH$4*FH17+FI$4*FI17)*FK17,"") -> 0.035433071 | FM17: Wind Technician | FN17: 1 | FO17: 12 | FP17: 1 | FQ17: 1 | FR17: 1 | FS17: 1 | FT17: 1 | FU17: 1 | FV17: 1 | FW17: 1 | FX17: 1 | FY17: 1 | FZ17: 1 | GA17: =IFERROR(FO17/SUM($AA17,$AQ17,$BG17,$BW17,$CM17,$DC17,$DS17,$EI17,$EY17,$FO17,$GE17,$GU17,$HK17,$IA17,$IQ17,$JG17,$JW17,$KM17,$LC17,$LS17),"") -> 0.047244094 | GB17: =IFERROR((FP$4*FP17+FQ$4*FQ17+FR$4*FR17+FS$4*FS17+FT$4*FT17+FU$4*FU17+FV$4*FV17+FW$4*FW17+FX$4*FX17+FY$4*FY17)*GA17,"") -> 0.047244094
A18: 14 | D18: 330 | E18: ='BVEM Scorecard'!F17 -> Wind + Solar + Storage
A19: 15 | D19: 450 | E19: ='BVEM Scorecard'!F18 -> Solar
A20: 16 | D20: 444 | E20: ='BVEM Scorecard'!F19 -> Solar
A21: 17 | D21: 449 | E21: ='BVEM Scorecard'!F20 -> Solar
A22: 18 | D22: 451 | E22: ='BVEM Scorecard'!F21 -> Solar
A23: 19 | D23: 257 | E23: ='BVEM Scorecard'!F22 -> Wind
A24: 20 | D24: 28 | E24: ='BVEM Scorecard'!F23 -> Wind | F24: =X24 -> 1 | G24: =W24 -> 1 | H24: =IFERROR(SUM(AN24,BD24,BT24,CJ24,CZ24,DP24,EF24,EV24,FL24,GB24,GR24,HH24,HX24,IN24,JD24,JT24,KJ24,KZ24,LP24,MF24),0) -> 1 | I24: =IFERROR(SUM(AL24,BB24,BR24,CH24,CX24,DN24,ED24,ET24,FJ24,FZ24,GP24,HF24,HV24,IL24,JB24,JR24,KH24,KX24,LN24,MD24)/SUM(Z24,AP24,BF24,BV24,CL24,DB24,DR24,EH24,EX24,FN24,GD24,GT24,HJ24,HZ24,IP24,JF24,JV24,KL24,LB24,LR24),0) -> 1 | J24: 1 | K24: 1 | L24: 1 | M24: 1 | N24: 1 | O24: 1 | P24: 1 | Q24: 1 | R24: 1 | S24: 1 | T24: 1 | U24: 1 | V24: 1 | W24: =AVERAGE(M24:V24) -> 1 | X24: =M$4*M24+N$4*N24+O$4*O24+P$4*P24+Q$4*Q24+R$4*R24+S$4*S24+T$4*T24+U$4*U24+V$4*V24 -> 1 | Y24: Equipment Operators | Z24: 1 | AA24: 24 | AB24: 1 | AC24: 1 | AD24: 1 | AE24: 1 | AF24: 1 | AG24: 1 | AH24: 1 | AI24: 1 | AJ24: 1 | AK24: 1 | AL24: =IFERROR(AVERAGE(AB24:AK24),"") -> 1 | AM24: =IFERROR(AA24/SUM($AA24,$AQ24,$BG24,$BW24,$CM24,$DC24,$DS24,$EI24,$EY24,$FO24,$GE24,$GU24,$HK24,$IA24,$IQ24,$JG24,$JW24,$KM24,$LC24,$LS24),"") -> 0.094488189 | AN24: =IFERROR((AB$4*AB24+AC$4*AC24+AD$4*AD24+AE$4*AE24+AF$4*AF24+AG$4*AG24+AH$4*AH24+AI$4*AI24+AJ$4*AJ24+AK$4*AK24)*AM24,"") -> 0.094488189 | AO24: Crane Operators | AP24: 1 | AQ24: 15 | AR24: 1 | AS24: 1 | AT24: 1 | AU24: 1 | AV24: 1 | AW24: 1 | AX24: 1 | AY24: 1 | AZ24: 1 | BA24: 1 | BB24: =IFERROR(AVERAGE(AR24:BA24),"") -> 1 | BC24: =IFERROR(AQ24/SUM($AA24,$AQ24,$BG24,$BW24,$CM24,$DC24,$DS24,$EI24,$EY24,$FO24,$GE24,$GU24,$HK24,$IA24,$IQ24,$JG24,$JW24,$KM24,$LC24,$LS24),"") -> 0.059055118 | BD24: =IFERROR((AR$4*AR24+AS$4*AS24+AT$4*AT24+AU$4*AU24+AV$4*AV24+AW$4*AW24+AX$4*AX24+AY$4*AY24+AZ$4*AZ24+BA$4*BA24)*BC24,"") -> 0.059055118 | BE24: Turbine Installers | BF24: 1 | BG24: 69 | BH24: 1 | BI24: 1 | BJ24: 1 | BK24: 1 | BL24: 1 | BM24: 1 | BN24: 1 | BO24: 1 | BP24: 1 | BQ24: 1 | BR24: 1 | BS24: =IFERROR(BG24/SUM($AA24,$AQ24,$BG24,$BW24,$CM24,$DC24,$DS24,$EI24,$EY24,$FO24,$GE24,$GU24,$HK24,$IA24,$IQ24,$JG24,$JW24,$KM24,$LC24,$LS24),"") -> 0.27165354 | BT24: =IFERROR((BH$4*BH24+BI$4*BI24+BJ$4*BJ24+BK$4*BK24+BL$4*BL24+BM$4*BM24+BN$4*BN24+BO$4*BO24+BP$4*BP24+BQ$4*BQ24)*BS24,"") -> 0.27165354 | BU24: Turbine Laborer | BV24: 1 | BW24: 69 | BX24: 1 | BY24: 1 | BZ24: 1 | CA24: 1 | CB24: 1 | CC24: 1 | CD24: 1 | CE24: 1 | CF24: 1 | CG24: 1 | CH24: 1 | CI24: =IFERROR(BW24/SUM($AA24,$AQ24,$BG24,$BW24,$CM24,$DC24,$DS24,$EI24,$EY24,$FO24,$GE24,$GU24,$HK24,$IA24,$IQ24,$JG24,$JW24,$KM24,$LC24,$LS24),"") -> 0.27165354 | CJ24: =IFERROR((BX$4*BX24+BY$4*BY24+BZ$4*BZ24+CA$4*CA24+CB$4*CB24+CC$4*CC24+CD$4*CD24+CE$4*CE24+CF$4*CF24+CG$4*CG24)*CI24,"") -> 0.27165354 | CK24: Construction Managers | CL24: 1 | CM24: 21 | CN24: 1 | CO24: 1 | CP24: 1 | CQ24: 1 | CR24: 1 | CS24: 1 | CT24: 1 | CU24: 1 | CV24: 1 | CW24: 1 | CX24: 1 | CY24: =IFERROR(CM24/SUM($AA24,$AQ24,$BG24,$BW24,$CM24,$DC24,$DS24,$EI24,$EY24,$FO24,$GE24,$GU24,$HK24,$IA24,$IQ24,$JG24,$JW24,$KM24,$LC24,$LS24),"") -> 0.082677165 | CZ24: =IFERROR((CN$4*CN24+CO$4*CO24+CP$4*CP24+CQ$4*CQ24+CR$4*CR24+CS$4*CS24+CT$4*CT24+CU$4*CU24+CV$4*CV24+CW$4*CW24)*CY24,"") -> 0.082677165 | DA24: Electricians | DB24: 1 | DC24: 12 | DD24: 1 | DE24: 1 | DF24: 1 | DG24: 1 | DH24: 1 | DI24: 1 | DJ24: 1 | DK24: 1 | DL24: 1 | DM24: 1 | DN24: 1 | DO24: =IFERROR(DC24/SUM($AA24,$AQ24,$BG24,$BW24,$CM24,$DC24,$DS24,$EI24,$EY24,$FO24,$GE24,$GU24,$HK24,$IA24,$IQ24,$JG24,$JW24,$KM24,$LC24,$LS24),"") -> 0.047244094 | DP24: =IFERROR((DD$4*DD24+DE$4*DE24+DF$4*DF24+DG$4*DG24+DH$4*DH24+DI$4*DI24+DJ$4*DJ24+DK$4*DK24+DL$4*DL24+DM$4*DM24)*DO24,"") -> 0.047244094 | DQ24: Apprentice | DR24: 1 | DS24: 14 | DT24: 1 | DU24: 1 | DV24: 1 | DW24: 1 | DX24: 1 | DY24: 1 | DZ24: 1 | EA24: 1 | EB24: 1 | EC24: 1 | ED24: 1 | EE24: =IFERROR(DS24/SUM($AA24,$AQ24,$BG24,$BW24,$CM24,$DC24,$DS24,$EI24,$EY24,$FO24,$GE24,$GU24,$HK24,$IA24,$IQ24,$JG24,$JW24,$KM24,$LC24,$LS24),"") -> 0.05511811 | EF24: =IFERROR((DT$4*DT24+DU$4*DU24+DV$4*DV24+DW$4*DW24+DX$4*DX24+DY$4*DY24+DZ$4*DZ24+EA$4*EA24+EB$4*EB24+EC$4*EC24)*EE24,"") -> 0.05511811 | EG24: Foundation Laborer | EH24: 1 | EI24: 9 | EJ24: 1 | EK24: 1 | EL24: 1 | EM24: 1 | EN24: 1 | EO24: 1 | EP24: 1 | EQ24: 1 | ER24: 1 | ES24: 1 | ET24: 1 | EU24: =IFERROR(EI24/SUM($AA24,$AQ24,$BG24,$BW24,$CM24,$DC24,$DS24,$EI24,$EY24,$FO24,$GE24,$GU24,$HK24,$IA24,$IQ24,$JG24,$JW24,$KM24,$LC24,$LS24),"") -> 0.035433071 | EV24: =IFERROR((EJ$4*EJ24+EK$4*EK24+EL$4*EL24+EM$4*EM24+EN$4*EN24+EO$4*EO24+EP$4*EP24+EQ$4*EQ24+ER$4*ER24+ES$4*ES24)*EU24,"") -> 0.035433071 | EW24: Carpenters | EX24: 1 | EY24: 9 | EZ24: 1 | FA24: 1 | FB24: 1 | FC24: 1 | FD24: 1 | FE24: 1 | FF24: 1 | FG24: 1 | FH24: 1 | FI24: 1 | FJ24: 1 | FK24: =IFERROR(EY24/SUM($AA24,$AQ24,$BG24,$BW24,$CM24,$DC24,$DS24,$EI24,$EY24,$FO24,$GE24,$GU24,$HK24,$IA24,$IQ24,$JG24,$JW24,$KM24,$LC24,$LS24),"") -> 0.035433071 | FL24: =IFERROR((EZ$4*EZ24+FA$4*FA24+FB$4*FB24+FC$4*FC24+FD$4*FD24+FE$4*FE24+FF$4*FF24+FG$4*FG24+FH$4*FH24+FI$4*FI24)*FK24,"") -> 0.035433071 | FM24: Wind Technician | FN24: 1 | FO24: 12 | FP24: 1 | FQ24: 1 | FR24: 1 | FS24: 1 | FT24: 1 | FU24: 1 | FV24: 1 | FW24: 1 | FX24: 1 | FY24: 1 | FZ24: 1 | GA24: =IFERROR(FO24/SUM($AA24,$AQ24,$BG24,$BW24,$CM24,$DC24,$DS24,$EI24,$EY24,$FO24,$GE24,$GU24,$HK24,$IA24,$IQ24,$JG24,$JW24,$KM24,$LC24,$LS24),"") -> 0.047244094 | GB24: =IFERROR((FP$4*FP24+FQ$4*FQ24+FR$4*FR24+FS$4*FS24+FT$4*FT24+FU$4*FU24+FV$4*FV24+FW$4*FW24+FX$4*FX24+FY$4*FY24)*GA24,"") -> 0.047244094
A25: 21 | D25: 92 | E25: ='BVEM Scorecard'!F24 -> Wind
A26: 22 | D26: 260 | E26: ='BVEM Scorecard'!F25 -> Wind
A27: 23 | D27: 104 | E27: ='BVEM Scorecard'!F26 -> Wind
A28: 24 | D28: 105 | E28: ='BVEM Scorecard'!F27 -> Wind
A29: 25 | D29: 122 | E29: ='BVEM Scorecard'!F28 -> Wind
A30: 26 | D30: 30 | E30: ='BVEM Scorecard'!F29 -> Wind | F30: =X30 -> 1 | G30: =W30 -> 1 | H30: =IFERROR(SUM(AN30,BD30,BT30,CJ30,CZ30,DP30,EF30,EV30,FL30,GB30,GR30,HH30,HX30,IN30,JD30,JT30,KJ30,KZ30,LP30,MF30),0) -> 1 | I30: =IFERROR(SUM(AL30,BB30,BR30,CH30,CX30,DN30,ED30,ET30,FJ30,FZ30,GP30,HF30,HV30,IL30,JB30,JR30,KH30,KX30,LN30,MD30)/SUM(Z30,AP30,BF30,BV30,CL30,DB30,DR30,EH30,EX30,FN30,GD30,GT30,HJ30,HZ30,IP30,JF30,JV30,KL30,LB30,LR30),0) -> 1 | J30: 1 | K30: 1 | L30: 1 | M30: 1 | N30: 1 | O30: 1 | P30: 1 | Q30: 1 | R30: 1 | S30: 1 | T30: 1 | U30: 1 | V30: 1 | W30: =AVERAGE(M30:V30) -> 1 | X30: =M$4*M30+N$4*N30+O$4*O30+P$4*P30+Q$4*Q30+R$4*R30+S$4*S30+T$4*T30+U$4*U30+V$4*V30 -> 1 | Y30: Equipment Operators | Z30: 1 | AA30: 24 | AB30: 1 | AC30: 1 | AD30: 1 | AE30: 1 | AF30: 1 | AG30: 1 | AH30: 1 | AI30: 1 | AJ30: 1 | AK30: 1 | AL30: =IFERROR(AVERAGE(AB30:AK30),"") -> 1 | AM30: =IFERROR(AA30/SUM($AA30,$AQ30,$BG30,$BW30,$CM30,$DC30,$DS30,$EI30,$EY30,$FO30,$GE30,$GU30,$HK30,$IA30,$IQ30,$JG30,$JW30,$KM30,$LC30,$LS30),"") -> 0.094488189 | AN30: =IFERROR((AB$4*AB30+AC$4*AC30+AD$4*AD30+AE$4*AE30+AF$4*AF30+AG$4*AG30+AH$4*AH30+AI$4*AI30+AJ$4*AJ30+AK$4*AK30)*AM30,"") -> 0.094488189 | AO30: Crane Operators | AP30: 1 | AQ30: 15 | AR30: 1 | AS30: 1 | AT30: 1 | AU30: 1 | AV30: 1 | AW30: 1 | AX30: 1 | AY30: 1 | AZ30: 1 | BA30: 1 | BB30: =IFERROR(AVERAGE(AR30:BA30),"") -> 1 | BC30: =IFERROR(AQ30/SUM($AA30,$AQ30,$BG30,$BW30,$CM30,$DC30,$DS30,$EI30,$EY30,$FO30,$GE30,$GU30,$HK30,$IA30,$IQ30,$JG30,$JW30,$KM30,$LC30,$LS30),"") -> 0.059055118 | BD30: =IFERROR((AR$4*AR30+AS$4*AS30+AT$4*AT30+AU$4*AU30+AV$4*AV30+AW$4*AW30+AX$4*AX30+AY$4*AY30+AZ$4*AZ30+BA$4*BA30)*BC30,"") -> 0.059055118 | BE30: Turbine Installers | BF30: 1 | BG30: 69 | BH30: 1 | BI30: 1 | BJ30: 1 | BK30: 1 | BL30: 1 | BM30: 1 | BN30: 1 | BO30: 1 | BP30: 1 | BQ30: 1 | BR30: 1 | BS30: =IFERROR(BG30/SUM($AA30,$AQ30,$BG30,$BW30,$CM30,$DC30,$DS30,$EI30,$EY30,$FO30,$GE30,$GU30,$HK30,$IA30,$IQ30,$JG30,$JW30,$KM30,$LC30,$LS30),"") -> 0.27165354 | BT30: =IFERROR((BH$4*BH30+BI$4*BI30+BJ$4*BJ30+BK$4*BK30+BL$4*BL30+BM$4*BM30+BN$4*BN30+BO$4*BO30+BP$4*BP30+BQ$4*BQ30)*BS30,"") -> 0.27165354 | BU30: Turbine Laborer | BV30: 1 | BW30: 69 | BX30: 1 | BY30: 1 | BZ30: 1 | CA30: 1 | CB30: 1 | CC30: 1 | CD30: 1 | CE30: 1 | CF30: 1 | CG30: 1 | CH30: 1 | CI30: =IFERROR(BW30/SUM($AA30,$AQ30,$BG30,$BW30,$CM30,$DC30,$DS30,$EI30,$EY30,$FO30,$GE30,$GU30,$HK30,$IA30,$IQ30,$JG30,$JW30,$KM30,$LC30,$LS30),"") -> 0.27165354 | CJ30: =IFERROR((BX$4*BX30+BY$4*BY30+BZ$4*BZ30+CA$4*CA30+CB$4*CB30+CC$4*CC30+CD$4*CD30+CE$4*CE30+CF$4*CF30+CG$4*CG30)*CI30,"") -> 0.27165354 | CK30: Construction Managers | CL30: 1 | CM30: 21 | CN30: 1 | CO30: 1 | CP30: 1 | CQ30: 1 | CR30: 1 | CS30: 1 | CT30: 1 | CU30: 1 | CV30: 1 | CW30: 1 | CX30: 1 | CY30: =IFERROR(CM30/SUM($AA30,$AQ30,$BG30,$BW30,$CM30,$DC30,$DS30,$EI30,$EY30,$FO30,$GE30,$GU30,$HK30,$IA30,$IQ30,$JG30,$JW30,$KM30,$LC30,$LS30),"") -> 0.082677165 | CZ30: =IFERROR((CN$4*CN30+CO$4*CO30+CP$4*CP30+CQ$4*CQ30+CR$4*CR30+CS$4*CS30+CT$4*CT30+CU$4*CU30+CV$4*CV30+CW$4*CW30)*CY30,"") -> 0.082677165 | DA30: Electricians | DB30: 1 | DC30: 12 | DD30: 1 | DE30: 1 | DF30: 1 | DG30: 1 | DH30: 1 | DI30: 1 | DJ30: 1 | DK30: 1 | DL30: 1 | DM30: 1 | DN30: 1 | DO30: =IFERROR(DC30/SUM($AA30,$AQ30,$BG30,$BW30,$CM30,$DC30,$DS30,$EI30,$EY30,$FO30,$GE30,$GU30,$HK30,$IA30,$IQ30,$JG30,$JW30,$KM30,$LC30,$LS30),"") -> 0.047244094 | DP30: =IFERROR((DD$4*DD30+DE$4*DE30+DF$4*DF30+DG$4*DG30+DH$4*DH30+DI$4*DI30+DJ$4*DJ30+DK$4*DK30+DL$4*DL30+DM$4*DM30)*DO30,"") -> 0.047244094 | DQ30: Apprentice | DR30: 1 | DS30: 14 | DT30: 1 | DU30: 1 | DV30: 1 | DW30: 1 | DX30: 1 | DY30: 1 | DZ30: 1 | EA30: 1 | EB30: 1 | EC30: 1 | ED30: 1 | EE30: =IFERROR(DS30/SUM($AA30,$AQ30,$BG30,$BW30,$CM30,$DC30,$DS30,$EI30,$EY30,$FO30,$GE30,$GU30,$HK30,$IA30,$IQ30,$JG30,$JW30,$KM30,$LC30,$LS30),"") -> 0.05511811 | EF30: =IFERROR((DT$4*DT30+DU$4*DU30+DV$4*DV30+DW$4*DW30+DX$4*DX30+DY$4*DY30+DZ$4*DZ30+EA$4*EA30+EB$4*EB30+EC$4*EC30)*EE30,"") -> 0.05511811 | EG30: Foundation Laborer | EH30: 1 | EI30: 9 | EJ30: 1 | EK30: 1 | EL30: 1 | EM30: 1 | EN30: 1 | EO30: 1 | EP30: 1 | EQ30: 1 | ER30: 1 | ES30: 1 | ET30: 1 | EU30: =IFERROR(EI30/SUM($AA30,$AQ30,$BG30,$BW30,$CM30,$DC30,$DS30,$EI30,$EY30,$FO30,$GE30,$GU30,$HK30,$IA30,$IQ30,$JG30,$JW30,$KM30,$LC30,$LS30),"") -> 0.035433071 | EV30: =IFERROR((EJ$4*EJ30+EK$4*EK30+EL$4*EL30+EM$4*EM30+EN$4*EN30+EO$4*EO30+EP$4*EP30+EQ$4*EQ30+ER$4*ER30+ES$4*ES30)*EU30,"") -> 0.035433071 | EW30: Carpenters | EX30: 1 | EY30: 9 | EZ30: 1 | FA30: 1 | FB30: 1 | FC30: 1 | FD30: 1 | FE30: 1 | FF30: 1 | FG30: 1 | FH30: 1 | FI30: 1 | FJ30: 1 | FK30: =IFERROR(EY30/SUM($AA30,$AQ30,$BG30,$BW30,$CM30,$DC30,$DS30,$EI30,$EY30,$FO30,$GE30,$GU30,$HK30,$IA30,$IQ30,$JG30,$JW30,$KM30,$LC30,$LS30),"") -> 0.035433071 | FL30: =IFERROR((EZ$4*EZ30+FA$4*FA30+FB$4*FB30+FC$4*FC30+FD$4*FD30+FE$4*FE30+FF$4*FF30+FG$4*FG30+FH$4*FH30+FI$4*FI30)*FK30,"") -> 0.035433071 | FM30: Wind Technician | FN30: 1 | FO30: 12 | FP30: 1 | FQ30: 1 | FR30: 1 | FS30: 1 | FT30: 1 | FU30: 1 | FV30: 1 | FW30: 1 | FX30: 1 | FY30: 1 | FZ30: 1 | GA30: =IFERROR(FO30/SUM($AA30,$AQ30,$BG30,$BW30,$CM30,$DC30,$DS30,$EI30,$EY30,$FO30,$GE30,$GU30,$HK30,$IA30,$IQ30,$JG30,$JW30,$KM30,$LC30,$LS30),"") -> 0.047244094 | GB30: =IFERROR((FP$4*FP30+FQ$4*FQ30+FR$4*FR30+FS$4*FS30+FT$4*FT30+FU$4*FU30+FV$4*FV30+FW$4*FW30+FX$4*FX30+FY$4*FY30)*GA30,"") -> 0.047244094
A31: 27 | D31: 31 | E31: ='BVEM Scorecard'!F30 -> Wind
A32: 28 | D32: 120 | E32: ='BVEM Scorecard'!F31 -> Wind
A33: 29 | D33: 34 | E33: ='BVEM Scorecard'!F32 -> Wind
A34: 30 | D34: 35 | E34: ='BVEM Scorecard'!F33 -> Wind
A35: 31 | D35: 93 | E35: ='BVEM Scorecard'!F34 -> Wind
A36: 32 | D36: 116 | E36: ='BVEM Scorecard'!F35 -> Wind
A37: 33 | D37: 532 | E37: ='BVEM Scorecard'!F36 -> Wind + Solar + Storage
A38: 34 | D38: 537 | E38: ='BVEM Scorecard'!F37 -> Wind + Solar + Storage
A39: 35 | D39: 486 | E39: ='BVEM Scorecard'!F38 -> Wind + Solar + Storage
A40: 36 | D40: 490 | E40: ='BVEM Scorecard'!F39 -> Wind + Solar + Storage
A41: 37 | D41: 478 | E41: ='BVEM Scorecard'!F40 -> Wind + Solar + Storage
A42: 38 | D42: 338 | E42: ='BVEM Scorecard'!F41 -> Wind + Solar + Storage
A43: 39 | D43: 41 | E43: ='BVEM Scorecard'!F42 -> Wind | F43: =X43 -> 1 | G43: =W43 -> 1 | H43: =IFERROR(SUM(AN43,BD43,BT43,CJ43,CZ43,DP43,EF43,EV43,FL43,GB43,GR43,HH43,HX43,IN43,JD43,JT43,KJ43,KZ43,LP43,MF43),0) -> 1 | I43: =IFERROR(SUM(AL43,BB43,BR43,CH43,CX43,DN43,ED43,ET43,FJ43,FZ43,GP43,HF43,HV43,IL43,JB43,JR43,KH43,KX43,LN43,MD43)/SUM(Z43,AP43,BF43,BV43,CL43,DB43,DR43,EH43,EX43,FN43,GD43,GT43,HJ43,HZ43,IP43,JF43,JV43,KL43,LB43,LR43),0) -> 1 | J43: 1 | K43: 1 | L43: 1 | M43: 1 | N43: 1 | O43: 1 | P43: 1 | Q43: 1 | R43: 1 | S43: 1 | T43: 1 | U43: 1 | V43: 1 | W43: =AVERAGE(M43:V43) -> 1 | X43: =M$4*M43+N$4*N43+O$4*O43+P$4*P43+Q$4*Q43+R$4*R43+S$4*S43+T$4*T43+U$4*U43+V$4*V43 -> 1 | Y43: Equipment Operators | Z43: 1 | AA43: 24 | AB43: 1 | AC43: 1 | AD43: 1 | AE43: 1 | AF43: 1 | AG43: 1 | AH43: 1 | AI43: 1 | AJ43: 1 | AK43: 1 | AL43: =IFERROR(AVERAGE(AB43:AK43),"") -> 1 | AM43: =IFERROR(AA43/SUM($AA43,$AQ43,$BG43,$BW43,$CM43,$DC43,$DS43,$EI43,$EY43,$FO43,$GE43,$GU43,$HK43,$IA43,$IQ43,$JG43,$JW43,$KM43,$LC43,$LS43),"") -> 0.094488189 | AN43: =IFERROR((AB$4*AB43+AC$4*AC43+AD$4*AD43+AE$4*AE43+AF$4*AF43+AG$4*AG43+AH$4*AH43+AI$4*AI43+AJ$4*AJ43+AK$4*AK43)*AM43,"") -> 0.094488189 | AO43: Crane Operators | AP43: 1 | AQ43: 15 | AR43: 1 | AS43: 1 | AT43: 1 | AU43: 1 | AV43: 1 | AW43: 1 | AX43: 1 | AY43: 1 | AZ43: 1 | BA43: 1 | BB43: =IFERROR(AVERAGE(AR43:BA43),"") -> 1 | BC43: =IFERROR(AQ43/SUM($AA43,$AQ43,$BG43,$BW43,$CM43,$DC43,$DS43,$EI43,$EY43,$FO43,$GE43,$GU43,$HK43,$IA43,$IQ43,$JG43,$JW43,$KM43,$LC43,$LS43),"") -> 0.059055118 | BD43: =IFERROR((AR$4*AR43+AS$4*AS43+AT$4*AT43+AU$4*AU43+AV$4*AV43+AW$4*AW43+AX$4*AX43+AY$4*AY43+AZ$4*AZ43+BA$4*BA43)*BC43,"") -> 0.059055118 | BE43: Turbine Installers | BF43: 1 | BG43: 69 | BH43: 1 | BI43: 1 | BJ43: 1 | BK43: 1 | BL43: 1 | BM43: 1 | BN43: 1 | BO43: 1 | BP43: 1 | BQ43: 1 | BR43: 1 | BS43: =IFERROR(BG43/SUM($AA43,$AQ43,$BG43,$BW43,$CM43,$DC43,$DS43,$EI43,$EY43,$FO43,$GE43,$GU43,$HK43,$IA43,$IQ43,$JG43,$JW43,$KM43,$LC43,$LS43),"") -> 0.27165354 | BT43: =IFERROR((BH$4*BH43+BI$4*BI43+BJ$4*BJ43+BK$4*BK43+BL$4*BL43+BM$4*BM43+BN$4*BN43+BO$4*BO43+BP$4*BP43+BQ$4*BQ43)*BS43,"") -> 0.27165354 | BU43: Turbine Laborer | BV43: 1 | BW43: 69 | BX43: 1 | BY43: 1 | BZ43: 1 | CA43: 1 | CB43: 1 | CC43: 1 | CD43: 1 | CE43: 1 | CF43: 1 | CG43: 1 | CH43: 1 | CI43: =IFERROR(BW43/SUM($AA43,$AQ43,$BG43,$BW43,$CM43,$DC43,$DS43,$EI43,$EY43,$FO43,$GE43,$GU43,$HK43,$IA43,$IQ43,$JG43,$JW43,$KM43,$LC43,$LS43),"") -> 0.27165354 | CJ43: =IFERROR((BX$4*BX43+BY$4*BY43+BZ$4*BZ43+CA$4*CA43+CB$4*CB43+CC$4*CC43+CD$4*CD43+CE$4*CE43+CF$4*CF43+CG$4*CG43)*CI43,"") -> 0.27165354 | CK43: Construction Managers | CL43: 1 | CM43: 21 | CN43: 1 | CO43: 1 | CP43: 1 | CQ43: 1 | CR43: 1 | CS43: 1 | CT43: 1 | CU43: 1 | CV43: 1 | CW43: 1 | CX43: 1 | CY43: =IFERROR(CM43/SUM($AA43,$AQ43,$BG43,$BW43,$CM43,$DC43,$DS43,$EI43,$EY43,$FO43,$GE43,$GU43,$HK43,$IA43,$IQ43,$JG43,$JW43,$KM43,$LC43,$LS43),"") -> 0.082677165 | CZ43: =IFERROR((CN$4*CN43+CO$4*CO43+CP$4*CP43+CQ$4*CQ43+CR$4*CR43+CS$4*CS43+CT$4*CT43+CU$4*CU43+CV$4*CV43+CW$4*CW43)*CY43,"") -> 0.082677165 | DA43: Electricians | DB43: 1 | DC43: 12 | DD43: 1 | DE43: 1 | DF43: 1 | DG43: 1 | DH43: 1 | DI43: 1 | DJ43: 1 | DK43: 1 | DL43: 1 | DM43: 1 | DN43: 1 | DO43: =IFERROR(DC43/SUM($AA43,$AQ43,$BG43,$BW43,$CM43,$DC43,$DS43,$EI43,$EY43,$FO43,$GE43,$GU43,$HK43,$IA43,$IQ43,$JG43,$JW43,$KM43,$LC43,$LS43),"") -> 0.047244094 | DP43: =IFERROR((DD$4*DD43+DE$4*DE43+DF$4*DF43+DG$4*DG43+DH$4*DH43+DI$4*DI43+DJ$4*DJ43+DK$4*DK43+DL$4*DL43+DM$4*DM43)*DO43,"") -> 0.047244094 | DQ43: Apprentice | DR43: 1 | DS43: 14 | DT43: 1 | DU43: 1 | DV43: 1 | DW43: 1 | DX43: 1 | DY43: 1 | DZ43: 1 | EA43: 1 | EB43: 1 | EC43: 1 | ED43: 1 | EE43: =IFERROR(DS43/SUM($AA43,$AQ43,$BG43,$BW43,$CM43,$DC43,$DS43,$EI43,$EY43,$FO43,$GE43,$GU43,$HK43,$IA43,$IQ43,$JG43,$JW43,$KM43,$LC43,$LS43),"") -> 0.05511811 | EF43: =IFERROR((DT$4*DT43+DU$4*DU43+DV$4*DV43+DW$4*DW43+DX$4*DX43+DY$4*DY43+DZ$4*DZ43+EA$4*EA43+EB$4*EB43+EC$4*EC43)*EE43,"") -> 0.05511811 | EG43: Foundation Laborer | EH43: 1 | EI43: 9 | EJ43: 1 | EK43: 1 | EL43: 1 | EM43: 1 | EN43: 1 | EO43: 1 | EP43: 1 | EQ43: 1 | ER43: 1 | ES43: 1 | ET43: 1 | EU43: =IFERROR(EI43/SUM($AA43,$AQ43,$BG43,$BW43,$CM43,$DC43,$DS43,$EI43,$EY43,$FO43,$GE43,$GU43,$HK43,$IA43,$IQ43,$JG43,$JW43,$KM43,$LC43,$LS43),"") -> 0.035433071 | EV43: =IFERROR((EJ$4*EJ43+EK$4*EK43+EL$4*EL43+EM$4*EM43+EN$4*EN43+EO$4*EO43+EP$4*EP43+EQ$4*EQ43+ER$4*ER43+ES$4*ES43)*EU43,"") -> 0.035433071 | EW43: Carpenters | EX43: 1 | EY43: 9 | EZ43: 1 | FA43: 1 | FB43: 1 | FC43: 1 | FD43: 1 | FE43: 1 | FF43: 1 | FG43: 1 | FH43: 1 | FI43: 1 | FJ43: 1 | FK43: =IFERROR(EY43/SUM($AA43,$AQ43,$BG43,$BW43,$CM43,$DC43,$DS43,$EI43,$EY43,$FO43,$GE43,$GU43,$HK43,$IA43,$IQ43,$JG43,$JW43,$KM43,$LC43,$LS43),"") -> 0.035433071 | FL43: =IFERROR((EZ$4*EZ43+FA$4*FA43+FB$4*FB43+FC$4*FC43+FD$4*FD43+FE$4*FE43+FF$4*FF43+FG$4*FG43+FH$4*FH43+FI$4*FI43)*FK43,"") -> 0.035433071 | FM43: Wind Technician | FN43: 1 | FO43: 12 | FP43: 1 | FQ43: 1 | FR43: 1 | FS43: 1 | FT43: 1 | FU43: 1 | FV43: 1 | FW43: 1 | FX43: 1 | FY43: 1 | FZ43: 1 | GA43: =IFERROR(FO43/SUM($AA43,$AQ43,$BG43,$BW43,$CM43,$DC43,$DS43,$EI43,$EY43,$FO43,$GE43,$GU43,$HK43,$IA43,$IQ43,$JG43,$JW43,$KM43,$LC43,$LS43),"") -> 0.047244094 | GB43: =IFERROR((FP$4*FP43+FQ$4*FQ43+FR$4*FR43+FS$4*FS43+FT$4*FT43+FU$4*FU43+FV$4*FV43+FW$4*FW43+FX$4*FX43+FY$4*FY43)*GA43,"") -> 0.047244094
A44: 40 | D44: 43 | E44: ='BVEM Scorecard'!F43 -> Wind | F44: =X44 -> 1 | G44: =W44 -> 1 | H44: =IFERROR(SUM(AN44,BD44,BT44,CJ44,CZ44,DP44,EF44,EV44,FL44,GB44,GR44,HH44,HX44,IN44,JD44,JT44,KJ44,KZ44,LP44,MF44),0) -> 1 | I44: =IFERROR(SUM(AL44,BB44,BR44,CH44,CX44,DN44,ED44,ET44,FJ44,FZ44,GP44,HF44,HV44,IL44,JB44,JR44,KH44,KX44,LN44,MD44)/SUM(Z44,AP44,BF44,BV44,CL44,DB44,DR44,EH44,EX44,FN44,GD44,GT44,HJ44,HZ44,IP44,JF44,JV44,KL44,LB44,LR44),0) -> 1 | J44: 1 | K44: 1 | L44: 1 | M44: 1 | N44: 1 | O44: 1 | P44: 1 | Q44: 1 | R44: 1 | S44: 1 | T44: 1 | U44: 1 | V44: 1 | W44: =AVERAGE(M44:V44) -> 1 | X44: =M$4*M44+N$4*N44+O$4*O44+P$4*P44+Q$4*Q44+R$4*R44+S$4*S44+T$4*T44+U$4*U44+V$4*V44 -> 1 | Y44: Equipment Operators | Z44: 1 | AA44: 24 | AB44: 1 | AC44: 1 | AD44: 1 | AE44: 1 | AF44: 1 | AG44: 1 | AH44: 1 | AI44: 1 | AJ44: 1 | AK44: 1 | AL44: =IFERROR(AVERAGE(AB44:AK44),"") -> 1 | AM44: =IFERROR(AA44/SUM($AA44,$AQ44,$BG44,$BW44,$CM44,$DC44,$DS44,$EI44,$EY44,$FO44,$GE44,$GU44,$HK44,$IA44,$IQ44,$JG44,$JW44,$KM44,$LC44,$LS44),"") -> 0.094488189 | AN44: =IFERROR((AB$4*AB44+AC$4*AC44+AD$4*AD44+AE$4*AE44+AF$4*AF44+AG$4*AG44+AH$4*AH44+AI$4*AI44+AJ$4*AJ44+AK$4*AK44)*AM44,"") -> 0.094488189 | AO44: Crane Operators | AP44: 1 | AQ44: 15 | AR44: 1 | AS44: 1 | AT44: 1 | AU44: 1 | AV44: 1 | AW44: 1 | AX44: 1 | AY44: 1 | AZ44: 1 | BA44: 1 | BB44: =IFERROR(AVERAGE(AR44:BA44),"") -> 1 | BC44: =IFERROR(AQ44/SUM($AA44,$AQ44,$BG44,$BW44,$CM44,$DC44,$DS44,$EI44,$EY44,$FO44,$GE44,$GU44,$HK44,$IA44,$IQ44,$JG44,$JW44,$KM44,$LC44,$LS44),"") -> 0.059055118 | BD44: =IFERROR((AR$4*AR44+AS$4*AS44+AT$4*AT44+AU$4*AU44+AV$4*AV44+AW$4*AW44+AX$4*AX44+AY$4*AY44+AZ$4*AZ44+BA$4*BA44)*BC44,"") -> 0.059055118 | BE44: Turbine Installers | BF44: 1 | BG44: 69 | BH44: 1 | BI44: 1 | BJ44: 1 | BK44: 1 | BL44: 1 | BM44: 1 | BN44: 1 | BO44: 1 | BP44: 1 | BQ44: 1 | BR44: 1 | BS44: =IFERROR(BG44/SUM($AA44,$AQ44,$BG44,$BW44,$CM44,$DC44,$DS44,$EI44,$EY44,$FO44,$GE44,$GU44,$HK44,$IA44,$IQ44,$JG44,$JW44,$KM44,$LC44,$LS44),"") -> 0.27165354 | BT44: =IFERROR((BH$4*BH44+BI$4*BI44+BJ$4*BJ44+BK$4*BK44+BL$4*BL44+BM$4*BM44+BN$4*BN44+BO$4*BO44+BP$4*BP44+BQ$4*BQ44)*BS44,"") -> 0.27165354 | BU44: Turbine Laborer | BV44: 1 | BW44: 69 | BX44: 1 | BY44: 1 | BZ44: 1 | CA44: 1 | CB44: 1 | CC44: 1 | CD44: 1 | CE44: 1 | CF44: 1 | CG44: 1 | CH44: 1 | CI44: =IFERROR(BW44/SUM($AA44,$AQ44,$BG44,$BW44,$CM44,$DC44,$DS44,$EI44,$EY44,$FO44,$GE44,$GU44,$HK44,$IA44,$IQ44,$JG44,$JW44,$KM44,$LC44,$LS44),"") -> 0.27165354 | CJ44: =IFERROR((BX$4*BX44+BY$4*BY44+BZ$4*BZ44+CA$4*CA44+CB$4*CB44+CC$4*CC44+CD$4*CD44+CE$4*CE44+CF$4*CF44+CG$4*CG44)*CI44,"") -> 0.27165354 | CK44: Construction Managers | CL44: 1 | CM44: 21 | CN44: 1 | CO44: 1 | CP44: 1 | CQ44: 1 | CR44: 1 | CS44: 1 | CT44: 1 | CU44: 1 | CV44: 1 | CW44: 1 | CX44: 1 | CY44: =IFERROR(CM44/SUM($AA44,$AQ44,$BG44,$BW44,$CM44,$DC44,$DS44,$EI44,$EY44,$FO44,$GE44,$GU44,$HK44,$IA44,$IQ44,$JG44,$JW44,$KM44,$LC44,$LS44),"") -> 0.082677165 | CZ44: =IFERROR((CN$4*CN44+CO$4*CO44+CP$4*CP44+CQ$4*CQ44+CR$4*CR44+CS$4*CS44+CT$4*CT44+CU$4*CU44+CV$4*CV44+CW$4*CW44)*CY44,"") -> 0.082677165 | DA44: Electricians | DB44: 1 | DC44: 12 | DD44: 1 | DE44: 1 | DF44: 1 | DG44: 1 | DH44: 1 | DI44: 1 | DJ44: 1 | DK44: 1 | DL44: 1 | DM44: 1 | DN44: 1 | DO44: =IFERROR(DC44/SUM($AA44,$AQ44,$BG44,$BW44,$CM44,$DC44,$DS44,$EI44,$EY44,$FO44,$GE44,$GU44,$HK44,$IA44,$IQ44,$JG44,$JW44,$KM44,$LC44,$LS44),"") -> 0.047244094 | DP44: =IFERROR((DD$4*DD44+DE$4*DE44+DF$4*DF44+DG$4*DG44+DH$4*DH44+DI$4*DI44+DJ$4*DJ44+DK$4*DK44+DL$4*DL44+DM$4*DM44)*DO44,"") -> 0.047244094 | DQ44: Apprentice | DR44: 1 | DS44: 14 | DT44: 1 | DU44: 1 | DV44: 1 | DW44: 1 | DX44: 1 | DY44: 1 | DZ44: 1 | EA44: 1 | EB44: 1 | EC44: 1 | ED44: 1 | EE44: =IFERROR(DS44/SUM($AA44,$AQ44,$BG44,$BW44,$CM44,$DC44,$DS44,$EI44,$EY44,$FO44,$GE44,$GU44,$HK44,$IA44,$IQ44,$JG44,$JW44,$KM44,$LC44,$LS44),"") -> 0.05511811 | EF44: =IFERROR((DT$4*DT44+DU$4*DU44+DV$4*DV44+DW$4*DW44+DX$4*DX44+DY$4*DY44+DZ$4*DZ44+EA$4*EA44+EB$4*EB44+EC$4*EC44)*EE44,"") -> 0.05511811 | EG44: Foundation Laborer | EH44: 1 | EI44: 9 | EJ44: 1 | EK44: 1 | EL44: 1 | EM44: 1 | EN44: 1 | EO44: 1 | EP44: 1 | EQ44: 1 | ER44: 1 | ES44: 1 | ET44: 1 | EU44: =IFERROR(EI44/SUM($AA44,$AQ44,$BG44,$BW44,$CM44,$DC44,$DS44,$EI44,$EY44,$FO44,$GE44,$GU44,$HK44,$IA44,$IQ44,$JG44,$JW44,$KM44,$LC44,$LS44),"") -> 0.035433071 | EV44: =IFERROR((EJ$4*EJ44+EK$4*EK44+EL$4*EL44+EM$4*EM44+EN$4*EN44+EO$4*EO44+EP$4*EP44+EQ$4*EQ44+ER$4*ER44+ES$4*ES44)*EU44,"") -> 0.035433071 | EW44: Carpenters | EX44: 1 | EY44: 9 | EZ44: 1 | FA44: 1 | FB44: 1 | FC44: 1 | FD44: 1 | FE44: 1 | FF44: 1 | FG44: 1 | FH44: 1 | FI44: 1 | FJ44: 1 | FK44: =IFERROR(EY44/SUM($AA44,$AQ44,$BG44,$BW44,$CM44,$DC44,$DS44,$EI44,$EY44,$FO44,$GE44,$GU44,$HK44,$IA44,$IQ44,$JG44,$JW44,$KM44,$LC44,$LS44),"") -> 0.035433071 | FL44: =IFERROR((EZ$4*EZ44+FA$4*FA44+FB$4*FB44+FC$4*FC44+FD$4*FD44+FE$4*FE44+FF$4*FF44+FG$4*FG44+FH$4*FH44+FI$4*FI44)*FK44,"") -> 0.035433071 | FM44: Wind Technician | FN44: 1 | FO44: 12 | FP44: 1 | FQ44: 1 | FR44: 1 | FS44: 1 | FT44: 1 | FU44: 1 | FV44: 1 | FW44: 1 | FX44: 1 | FY44: 1 | FZ44: 1 | GA44: =IFERROR(FO44/SUM($AA44,$AQ44,$BG44,$BW44,$CM44,$DC44,$DS44,$EI44,$EY44,$FO44,$GE44,$GU44,$HK44,$IA44,$IQ44,$JG44,$JW44,$KM44,$LC44,$LS44),"") -> 0.047244094 | GB44: =IFERROR((FP$4*FP44+FQ$4*FQ44+FR$4*FR44+FS$4*FS44+FT$4*FT44+FU$4*FU44+FV$4*FV44+FW$4*FW44+FX$4*FX44+FY$4*FY44)*GA44,"") -> 0.047244094
A45: 41 | D45: 52 | E45: ='BVEM Scorecard'!F44 -> Wind
A46: 42 | D46: 16 | E46: ='BVEM Scorecard'!F45 -> Wind
A47: 43 | D47: 53 | E47: ='BVEM Scorecard'!F46 -> Wind
A48: 44 | D48: 19 | E48: ='BVEM Scorecard'!F47 -> Wind
A49: 45 | D49: 44 | E49: ='BVEM Scorecard'!F48 -> Wind | F49: =X49 -> 1 | G49: =W49 -> 1 | H49: =IFERROR(SUM(AN49,BD49,BT49,CJ49,CZ49,DP49,EF49,EV49,FL49,GB49,GR49,HH49,HX49,IN49,JD49,JT49,KJ49,KZ49,LP49,MF49),0) -> 1 | I49: =IFERROR(SUM(AL49,BB49,BR49,CH49,CX49,DN49,ED49,ET49,FJ49,FZ49,GP49,HF49,HV49,IL49,JB49,JR49,KH49,KX49,LN49,MD49)/SUM(Z49,AP49,BF49,BV49,CL49,DB49,DR49,EH49,EX49,FN49,GD49,GT49,HJ49,HZ49,IP49,JF49,JV49,KL49,LB49,LR49),0) -> 1 | J49: 1 | K49: 1 | L49: 1 | M49: 1 | N49: 1 | O49: 1 | P49: 1 | Q49: 1 | R49: 1 | S49: 1 | T49: 1 | U49: 1 | V49: 1 | W49: =AVERAGE(M49:V49) -> 1 | X49: =M$4*M49+N$4*N49+O$4*O49+P$4*P49+Q$4*Q49+R$4*R49+S$4*S49+T$4*T49+U$4*U49+V$4*V49 -> 1 | Y49: Equipment Operators | Z49: 1 | AA49: 24 | AB49: 1 | AC49: 1 | AD49: 1 | AE49: 1 | AF49: 1 | AG49: 1 | AH49: 1 | AI49: 1 | AJ49: 1 | AK49: 1 | AL49: =IFERROR(AVERAGE(AB49:AK49),"") -> 1 | AM49: =IFERROR(AA49/SUM($AA49,$AQ49,$BG49,$BW49,$CM49,$DC49,$DS49,$EI49,$EY49,$FO49,$GE49,$GU49,$HK49,$IA49,$IQ49,$JG49,$JW49,$KM49,$LC49,$LS49),"") -> 0.094488189 | AN49: =IFERROR((AB$4*AB49+AC$4*AC49+AD$4*AD49+AE$4*AE49+AF$4*AF49+AG$4*AG49+AH$4*AH49+AI$4*AI49+AJ$4*AJ49+AK$4*AK49)*AM49,"") -> 0.094488189 | AO49: Crane Operators | AP49: 1 | AQ49: 15 | AR49: 1 | AS49: 1 | AT49: 1 | AU49: 1 | AV49: 1 | AW49: 1 | AX49: 1 | AY49: 1 | AZ49: 1 | BA49: 1 | BB49: =IFERROR(AVERAGE(AR49:BA49),"") -> 1 | BC49: =IFERROR(AQ49/SUM($AA49,$AQ49,$BG49,$BW49,$CM49,$DC49,$DS49,$EI49,$EY49,$FO49,$GE49,$GU49,$HK49,$IA49,$IQ49,$JG49,$JW49,$KM49,$LC49,$LS49),"") -> 0.059055118 | BD49: =IFERROR((AR$4*AR49+AS$4*AS49+AT$4*AT49+AU$4*AU49+AV$4*AV49+AW$4*AW49+AX$4*AX49+AY$4*AY49+AZ$4*AZ49+BA$4*BA49)*BC49,"") -> 0.059055118 | BE49: Turbine Installers | BF49: 1 | BG49: 69 | BH49: 1 | BI49: 1 | BJ49: 1 | BK49: 1 | BL49: 1 | BM49: 1 | BN49: 1 | BO49: 1 | BP49: 1 | BQ49: 1 | BR49: 1 | BS49: =IFERROR(BG49/SUM($AA49,$AQ49,$BG49,$BW49,$CM49,$DC49,$DS49,$EI49,$EY49,$FO49,$GE49,$GU49,$HK49,$IA49,$IQ49,$JG49,$JW49,$KM49,$LC49,$LS49),"") -> 0.27165354 | BT49: =IFERROR((BH$4*BH49+BI$4*BI49+BJ$4*BJ49+BK$4*BK49+BL$4*BL49+BM$4*BM49+BN$4*BN49+BO$4*BO49+BP$4*BP49+BQ$4*BQ49)*BS49,"") -> 0.27165354 | BU49: Turbine Laborer | BV49: 1 | BW49: 69 | BX49: 1 | BY49: 1 | BZ49: 1 | CA49: 1 | CB49: 1 | CC49: 1 | CD49: 1 | CE49: 1 | CF49: 1 | CG49: 1 | CH49: 1 | CI49: =IFERROR(BW49/SUM($AA49,$AQ49,$BG49,$BW49,$CM49,$DC49,$DS49,$EI49,$EY49,$FO49,$GE49,$GU49,$HK49,$IA49,$IQ49,$JG49,$JW49,$KM49,$LC49,$LS49),"") -> 0.27165354 | CJ49: =IFERROR((BX$4*BX49+BY$4*BY49+BZ$4*BZ49+CA$4*CA49+CB$4*CB49+CC$4*CC49+CD$4*CD49+CE$4*CE49+CF$4*CF49+CG$4*CG49)*CI49,"") -> 0.27165354 | CK49: Construction Managers | CL49: 1 | CM49: 21 | CN49: 1 | CO49: 1 | CP49: 1 | CQ49: 1 | CR49: 1 | CS49: 1 | CT49: 1 | CU49: 1 | CV49: 1 | CW49: 1 | CX49: 1 | CY49: =IFERROR(CM49/SUM($AA49,$AQ49,$BG49,$BW49,$CM49,$DC49,$DS49,$EI49,$EY49,$FO49,$GE49,$GU49,$HK49,$IA49,$IQ49,$JG49,$JW49,$KM49,$LC49,$LS49),"") -> 0.082677165 | CZ49: =IFERROR((CN$4*CN49+CO$4*CO49+CP$4*CP49+CQ$4*CQ49+CR$4*CR49+CS$4*CS49+CT$4*CT49+CU$4*CU49+CV$4*CV49+CW$4*CW49)*CY49,"") -> 0.082677165 | DA49: Electricians | DB49: 1 | DC49: 12 | DD49: 1 | DE49: 1 | DF49: 1 | DG49: 1 | DH49: 1 | DI49: 1 | DJ49: 1 | DK49: 1 | DL49: 1 | DM49: 1 | DN49: 1 | DO49: =IFERROR(DC49/SUM($AA49,$AQ49,$BG49,$BW49,$CM49,$DC49,$DS49,$EI49,$EY49,$FO49,$GE49,$GU49,$HK49,$IA49,$IQ49,$JG49,$JW49,$KM49,$LC49,$LS49),"") -> 0.047244094 | DP49: =IFERROR((DD$4*DD49+DE$4*DE49+DF$4*DF49+DG$4*DG49+DH$4*DH49+DI$4*DI49+DJ$4*DJ49+DK$4*DK49+DL$4*DL49+DM$4*DM49)*DO49,"") -> 0.047244094 | DQ49: Apprentice | DR49: 1 | DS49: 14 | DT49: 1 | DU49: 1 | DV49: 1 | DW49: 1 | DX49: 1 | DY49: 1 | DZ49: 1 | EA49: 1 | EB49: 1 | EC49: 1 | ED49: 1 | EE49: =IFERROR(DS49/SUM($AA49,$AQ49,$BG49,$BW49,$CM49,$DC49,$DS49,$EI49,$EY49,$FO49,$GE49,$GU49,$HK49,$IA49,$IQ49,$JG49,$JW49,$KM49,$LC49,$LS49),"") -> 0.05511811 | EF49: =IFERROR((DT$4*DT49+DU$4*DU49+DV$4*DV49+DW$4*DW49+DX$4*DX49+DY$4*DY49+DZ$4*DZ49+EA$4*EA49+EB$4*EB49+EC$4*EC49)*EE49,"") -> 0.05511811 | EG49: Foundation Laborer | EH49: 1 | EI49: 9 | EJ49: 1 | EK49: 1 | EL49: 1 | EM49: 1 | EN49: 1 | EO49: 1 | EP49: 1 | EQ49: 1 | ER49: 1 | ES49: 1 | ET49: 1 | EU49: =IFERROR(EI49/SUM($AA49,$AQ49,$BG49,$BW49,$CM49,$DC49,$DS49,$EI49,$EY49,$FO49,$GE49,$GU49,$HK49,$IA49,$IQ49,$JG49,$JW49,$KM49,$LC49,$LS49),"") -> 0.035433071 | EV49: =IFERROR((EJ$4*EJ49+EK$4*EK49+EL$4*EL49+EM$4*EM49+EN$4*EN49+EO$4*EO49+EP$4*EP49+EQ$4*EQ49+ER$4*ER49+ES$4*ES49)*EU49,"") -> 0.035433071 | EW49: Carpenters | EX49: 1 | EY49: 9 | EZ49: 1 | FA49: 1 | FB49: 1 | FC49: 1 | FD49: 1 | FE49: 1 | FF49: 1 | FG49: 1 | FH49: 1 | FI49: 1 | FJ49: 1 | FK49: =IFERROR(EY49/SUM($AA49,$AQ49,$BG49,$BW49,$CM49,$DC49,$DS49,$EI49,$EY49,$FO49,$GE49,$GU49,$HK49,$IA49,$IQ49,$JG49,$JW49,$KM49,$LC49,$LS49),"") -> 0.035433071 | FL49: =IFERROR((EZ$4*EZ49+FA$4*FA49+FB$4*FB49+FC$4*FC49+FD$4*FD49+FE$4*FE49+FF$4*FF49+FG$4*FG49+FH$4*FH49+FI$4*FI49)*FK49,"") -> 0.035433071 | FM49: Wind Technician | FN49: 1 | FO49: 12 | FP49: 1 | FQ49: 1 | FR49: 1 | FS49: 1 | FT49: 1 | FU49: 1 | FV49: 1 | FW49: 1 | FX49: 1 | FY49: 1 | FZ49: 1 | GA49: =IFERROR(FO49/SUM($AA49,$AQ49,$BG49,$BW49,$CM49,$DC49,$DS49,$EI49,$EY49,$FO49,$GE49,$GU49,$HK49,$IA49,$IQ49,$JG49,$JW49,$KM49,$LC49,$LS49),"") -> 0.047244094 | GB49: =IFERROR((FP$4*FP49+FQ$4*FQ49+FR$4*FR49+FS$4*FS49+FT$4*FT49+FU$4*FU49+FV$4*FV49+FW$4*FW49+FX$4*FX49+FY$4*FY49)*GA49,"") -> 0.047244094
A50: 46 | D50: 45 | E50: ='BVEM Scorecard'!F49 -> Wind | F50: =X50 -> 1 | G50: =W50 -> 1 | H50: =IFERROR(SUM(AN50,BD50,BT50,CJ50,CZ50,DP50,EF50,EV50,FL50,GB50,GR50,HH50,HX50,IN50,JD50,JT50,KJ50,KZ50,LP50,MF50),0) -> 1 | I50: =IFERROR(SUM(AL50,BB50,BR50,CH50,CX50,DN50,ED50,ET50,FJ50,FZ50,GP50,HF50,HV50,IL50,JB50,JR50,KH50,KX50,LN50,MD50)/SUM(Z50,AP50,BF50,BV50,CL50,DB50,DR50,EH50,EX50,FN50,GD50,GT50,HJ50,HZ50,IP50,JF50,JV50,KL50,LB50,LR50),0) -> 1 | J50: 1 | K50: 1 | L50: 1 | M50: 1 | N50: 1 | O50: 1 | P50: 1 | Q50: 1 | R50: 1 | S50: 1 | T50: 1 | U50: 1 | V50: 1 | W50: =AVERAGE(M50:V50) -> 1 | X50: =M$4*M50+N$4*N50+O$4*O50+P$4*P50+Q$4*Q50+R$4*R50+S$4*S50+T$4*T50+U$4*U50+V$4*V50 -> 1 | Y50: Equipment Operators | Z50: 1 | AA50: 24 | AB50: 1 | AC50: 1 | AD50: 1 | AE50: 1 | AF50: 1 | AG50: 1 | AH50: 1 | AI50: 1 | AJ50: 1 | AK50: 1 | AL50: =IFERROR(AVERAGE(AB50:AK50),"") -> 1 | AM50: =IFERROR(AA50/SUM($AA50,$AQ50,$BG50,$BW50,$CM50,$DC50,$DS50,$EI50,$EY50,$FO50,$GE50,$GU50,$HK50,$IA50,$IQ50,$JG50,$JW50,$KM50,$LC50,$LS50),"") -> 0.094488189 | AN50: =IFERROR((AB$4*AB50+AC$4*AC50+AD$4*AD50+AE$4*AE50+AF$4*AF50+AG$4*AG50+AH$4*AH50+AI$4*AI50+AJ$4*AJ50+AK$4*AK50)*AM50,"") -> 0.094488189 | AO50: Crane Operators | AP50: 1 | AQ50: 15 | AR50: 1 | AS50: 1 | AT50: 1 | AU50: 1 | AV50: 1 | AW50: 1 | AX50: 1 | AY50: 1 | AZ50: 1 | BA50: 1 | BB50: =IFERROR(AVERAGE(AR50:BA50),"") -> 1 | BC50: =IFERROR(AQ50/SUM($AA50,$AQ50,$BG50,$BW50,$CM50,$DC50,$DS50,$EI50,$EY50,$FO50,$GE50,$GU50,$HK50,$IA50,$IQ50,$JG50,$JW50,$KM50,$LC50,$LS50),"") -> 0.059055118 | BD50: =IFERROR((AR$4*AR50+AS$4*AS50+AT$4*AT50+AU$4*AU50+AV$4*AV50+AW$4*AW50+AX$4*AX50+AY$4*AY50+AZ$4*AZ50+BA$4*BA50)*BC50,"") -> 0.059055118 | BE50: Turbine Installers | BF50: 1 | BG50: 69 | BH50: 1 | BI50: 1 | BJ50: 1 | BK50: 1 | BL50: 1 | BM50: 1 | BN50: 1 | BO50: 1 | BP50: 1 | BQ50: 1 | BR50: 1 | BS50: =IFERROR(BG50/SUM($AA50,$AQ50,$BG50,$BW50,$CM50,$DC50,$DS50,$EI50,$EY50,$FO50,$GE50,$GU50,$HK50,$IA50,$IQ50,$JG50,$JW50,$KM50,$LC50,$LS50),"") -> 0.27165354 | BT50: =IFERROR((BH$4*BH50+BI$4*BI50+BJ$4*BJ50+BK$4*BK50+BL$4*BL50+BM$4*BM50+BN$4*BN50+BO$4*BO50+BP$4*BP50+BQ$4*BQ50)*BS50,"") -> 0.27165354 | BU50: Turbine Laborer | BV50: 1 | BW50: 69 | BX50: 1 | BY50: 1 | BZ50: 1 | CA50: 1 | CB50: 1 | CC50: 1 | CD50: 1 | CE50: 1 | CF50: 1 | CG50: 1 | CH50: 1 | CI50: =IFERROR(BW50/SUM($AA50,$AQ50,$BG50,$BW50,$CM50,$DC50,$DS50,$EI50,$EY50,$FO50,$GE50,$GU50,$HK50,$IA50,$IQ50,$JG50,$JW50,$KM50,$LC50,$LS50),"") -> 0.27165354 | CJ50: =IFERROR((BX$4*BX50+BY$4*BY50+BZ$4*BZ50+CA$4*CA50+CB$4*CB50+CC$4*CC50+CD$4*CD50+CE$4*CE50+CF$4*CF50+CG$4*CG50)*CI50,"") -> 0.27165354 | CK50: Construction Managers | CL50: 1 | CM50: 21 | CN50: 1 | CO50: 1 | CP50: 1 | CQ50: 1 | CR50: 1 | CS50: 1 | CT50: 1 | CU50: 1 | CV50: 1 | CW50: 1 | CX50: 1 | CY50: =IFERROR(CM50/SUM($AA50,$AQ50,$BG50,$BW50,$CM50,$DC50,$DS50,$EI50,$EY50,$FO50,$GE50,$GU50,$HK50,$IA50,$IQ50,$JG50,$JW50,$KM50,$LC50,$LS50),"") -> 0.082677165 | CZ50: =IFERROR((CN$4*CN50+CO$4*CO50+CP$4*CP50+CQ$4*CQ50+CR$4*CR50+CS$4*CS50+CT$4*CT50+CU$4*CU50+CV$4*CV50+CW$4*CW50)*CY50,"") -> 0.082677165 | DA50: Electricians | DB50: 1 | DC50: 12 | DD50: 1 | DE50: 1 | DF50: 1 | DG50: 1 | DH50: 1 | DI50: 1 | DJ50: 1 | DK50: 1 | DL50: 1 | DM50: 1 | DN50: 1 | DO50: =IFERROR(DC50/SUM($AA50,$AQ50,$BG50,$BW50,$CM50,$DC50,$DS50,$EI50,$EY50,$FO50,$GE50,$GU50,$HK50,$IA50,$IQ50,$JG50,$JW50,$KM50,$LC50,$LS50),"") -> 0.047244094 | DP50: =IFERROR((DD$4*DD50+DE$4*DE50+DF$4*DF50+DG$4*DG50+DH$4*DH50+DI$4*DI50+DJ$4*DJ50+DK$4*DK50+DL$4*DL50+DM$4*DM50)*DO50,"") -> 0.047244094 | DQ50: Apprentice | DR50: 1 | DS50: 14 | DT50: 1 | DU50: 1 | DV50: 1 | DW50: 1 | DX50: 1 | DY50: 1 | DZ50: 1 | EA50: 1 | EB50: 1 | EC50: 1 | ED50: 1 | EE50: =IFERROR(DS50/SUM($AA50,$AQ50,$BG50,$BW50,$CM50,$DC50,$DS50,$EI50,$EY50,$FO50,$GE50,$GU50,$HK50,$IA50,$IQ50,$JG50,$JW50,$KM50,$LC50,$LS50),"") -> 0.05511811 | EF50: =IFERROR((DT$4*DT50+DU$4*DU50+DV$4*DV50+DW$4*DW50+DX$4*DX50+DY$4*DY50+DZ$4*DZ50+EA$4*EA50+EB$4*EB50+EC$4*EC50)*EE50,"") -> 0.05511811 | EG50: Foundation Laborer | EH50: 1 | EI50: 9 | EJ50: 1 | EK50: 1 | EL50: 1 | EM50: 1 | EN50: 1 | EO50: 1 | EP50: 1 | EQ50: 1 | ER50: 1 | ES50: 1 | ET50: 1 | EU50: =IFERROR(EI50/SUM($AA50,$AQ50,$BG50,$BW50,$CM50,$DC50,$DS50,$EI50,$EY50,$FO50,$GE50,$GU50,$HK50,$IA50,$IQ50,$JG50,$JW50,$KM50,$LC50,$LS50),"") -> 0.035433071 | EV50: =IFERROR((EJ$4*EJ50+EK$4*EK50+EL$4*EL50+EM$4*EM50+EN$4*EN50+EO$4*EO50+EP$4*EP50+EQ$4*EQ50+ER$4*ER50+ES$4*ES50)*EU50,"") -> 0.035433071 | EW50: Carpenters | EX50: 1 | EY50: 9 | EZ50: 1 | FA50: 1 | FB50: 1 | FC50: 1 | FD50: 1 | FE50: 1 | FF50: 1 | FG50: 1 | FH50: 1 | FI50: 1 | FJ50: 1 | FK50: =IFERROR(EY50/SUM($AA50,$AQ50,$BG50,$BW50,$CM50,$DC50,$DS50,$EI50,$EY50,$FO50,$GE50,$GU50,$HK50,$IA50,$IQ50,$JG50,$JW50,$KM50,$LC50,$LS50),"") -> 0.035433071 | FL50: =IFERROR((EZ$4*EZ50+FA$4*FA50+FB$4*FB50+FC$4*FC50+FD$4*FD50+FE$4*FE50+FF$4*FF50+FG$4*FG50+FH$4*FH50+FI$4*FI50)*FK50,"") -> 0.035433071 | FM50: Wind Technician | FN50: 1 | FO50: 12 | FP50: 1 | FQ50: 1 | FR50: 1 | FS50: 1 | FT50: 1 | FU50: 1 | FV50: 1 | FW50: 1 | FX50: 1 | FY50: 1 | FZ50: 1 | GA50: =IFERROR(FO50/SUM($AA50,$AQ50,$BG50,$BW50,$CM50,$DC50,$DS50,$EI50,$EY50,$FO50,$GE50,$GU50,$HK50,$IA50,$IQ50,$JG50,$JW50,$KM50,$LC50,$LS50),"") -> 0.047244094 | GB50: =IFERROR((FP$4*FP50+FQ$4*FQ50+FR$4*FR50+FS$4*FS50+FT$4*FT50+FU$4*FU50+FV$4*FV50+FW$4*FW50+FX$4*FX50+FY$4*FY50)*GA50,"") -> 0.047244094
A51: 47 | D51: 48 | E51: ='BVEM Scorecard'!F50 -> Wind
A52: 48 | D52: 18 | E52: ='BVEM Scorecard'!F51 -> Wind
A53: 49 | D53: 46 | E53: ='BVEM Scorecard'!F52 -> Wind | F53: =X53 -> 1 | G53: =W53 -> 1 | H53: =IFERROR(SUM(AN53,BD53,BT53,CJ53,CZ53,DP53,EF53,EV53,FL53,GB53,GR53,HH53,HX53,IN53,JD53,JT53,KJ53,KZ53,LP53,MF53),0) -> 1 | I53: =IFERROR(SUM(AL53,BB53,BR53,CH53,CX53,DN53,ED53,ET53,FJ53,FZ53,GP53,HF53,HV53,IL53,JB53,JR53,KH53,KX53,LN53,MD53)/SUM(Z53,AP53,BF53,BV53,CL53,DB53,DR53,EH53,EX53,FN53,GD53,GT53,HJ53,HZ53,IP53,JF53,JV53,KL53,LB53,LR53),0) -> 1 | J53: 1 | K53: 1 | L53: 1 | M53: 1 | N53: 1 | O53: 1 | P53: 1 | Q53: 1 | R53: 1 | S53: 1 | T53: 1 | U53: 1 | V53: 1 | W53: =AVERAGE(M53:V53) -> 1 | X53: =M$4*M53+N$4*N53+O$4*O53+P$4*P53+Q$4*Q53+R$4*R53+S$4*S53+T$4*T53+U$4*U53+V$4*V53 -> 1 | Y53: Equipment Operators | Z53: 1 | AA53: 24 | AB53: 1 | AC53: 1 | AD53: 1 | AE53: 1 | AF53: 1 | AG53: 1 | AH53: 1 | AI53: 1 | AJ53: 1 | AK53: 1 | AL53: =IFERROR(AVERAGE(AB53:AK53),"") -> 1 | AM53: =IFERROR(AA53/SUM($AA53,$AQ53,$BG53,$BW53,$CM53,$DC53,$DS53,$EI53,$EY53,$FO53,$GE53,$GU53,$HK53,$IA53,$IQ53,$JG53,$JW53,$KM53,$LC53,$LS53),"") -> 0.094488189 | AN53: =IFERROR((AB$4*AB53+AC$4*AC53+AD$4*AD53+AE$4*AE53+AF$4*AF53+AG$4*AG53+AH$4*AH53+AI$4*AI53+AJ$4*AJ53+AK$4*AK53)*AM53,"") -> 0.094488189 | AO53: Crane Operators | AP53: 1 | AQ53: 15 | AR53: 1 | AS53: 1 | AT53: 1 | AU53: 1 | AV53: 1 | AW53: 1 | AX53: 1 | AY53: 1 | AZ53: 1 | BA53: 1 | BB53: =IFERROR(AVERAGE(AR53:BA53),"") -> 1 | BC53: =IFERROR(AQ53/SUM($AA53,$AQ53,$BG53,$BW53,$CM53,$DC53,$DS53,$EI53,$EY53,$FO53,$GE53,$GU53,$HK53,$IA53,$IQ53,$JG53,$JW53,$KM53,$LC53,$LS53),"") -> 0.059055118 | BD53: =IFERROR((AR$4*AR53+AS$4*AS53+AT$4*AT53+AU$4*AU53+AV$4*AV53+AW$4*AW53+AX$4*AX53+AY$4*AY53+AZ$4*AZ53+BA$4*BA53)*BC53,"") -> 0.059055118 | BE53: Turbine Installers | BF53: 1 | BG53: 69 | BH53: 1 | BI53: 1 | BJ53: 1 | BK53: 1 | BL53: 1 | BM53: 1 | BN53: 1 | BO53: 1 | BP53: 1 | BQ53: 1 | BR53: 1 | BS53: =IFERROR(BG53/SUM($AA53,$AQ53,$BG53,$BW53,$CM53,$DC53,$DS53,$EI53,$EY53,$FO53,$GE53,$GU53,$HK53,$IA53,$IQ53,$JG53,$JW53,$KM53,$LC53,$LS53),"") -> 0.27165354 | BT53: =IFERROR((BH$4*BH53+BI$4*BI53+BJ$4*BJ53+BK$4*BK53+BL$4*BL53+BM$4*BM53+BN$4*BN53+BO$4*BO53+BP$4*BP53+BQ$4*BQ53)*BS53,"") -> 0.27165354 | BU53: Turbine Laborer | BV53: 1 | BW53: 69 | BX53: 1 | BY53: 1 | BZ53: 1 | CA53: 1 | CB53: 1 | CC53: 1 | CD53: 1 | CE53: 1 | CF53: 1 | CG53: 1 | CH53: 1 | CI53: =IFERROR(BW53/SUM($AA53,$AQ53,$BG53,$BW53,$CM53,$DC53,$DS53,$EI53,$EY53,$FO53,$GE53,$GU53,$HK53,$IA53,$IQ53,$JG53,$JW53,$KM53,$LC53,$LS53),"") -> 0.27165354 | CJ53: =IFERROR((BX$4*BX53+BY$4*BY53+BZ$4*BZ53+CA$4*CA53+CB$4*CB53+CC$4*CC53+CD$4*CD53+CE$4*CE53+CF$4*CF53+CG$4*CG53)*CI53,"") -> 0.27165354 | CK53: Construction Managers | CL53: 1 | CM53: 21 | CN53: 1 | CO53: 1 | CP53: 1 | CQ53: 1 | CR53: 1 | CS53: 1 | CT53: 1 | CU53: 1 | CV53: 1 | CW53: 1 | CX53: 1 | CY53: =IFERROR(CM53/SUM($AA53,$AQ53,$BG53,$BW53,$CM53,$DC53,$DS53,$EI53,$EY53,$FO53,$GE53,$GU53,$HK53,$IA53,$IQ53,$JG53,$JW53,$KM53,$LC53,$LS53),"") -> 0.082677165 | CZ53: =IFERROR((CN$4*CN53+CO$4*CO53+CP$4*CP53+CQ$4*CQ53+CR$4*CR53+CS$4*CS53+CT$4*CT53+CU$4*CU53+CV$4*CV53+CW$4*CW53)*CY53,"") -> 0.082677165 | DA53: Electricians | DB53: 1 | DC53: 12 | DD53: 1 | DE53: 1 | DF53: 1 | DG53: 1 | DH53: 1 | DI53: 1 | DJ53: 1 | DK53: 1 | DL53: 1 | DM53: 1 | DN53: 1 | DO53: =IFERROR(DC53/SUM($AA53,$AQ53,$BG53,$BW53,$CM53,$DC53,$DS53,$EI53,$EY53,$FO53,$GE53,$GU53,$HK53,$IA53,$IQ53,$JG53,$JW53,$KM53,$LC53,$LS53),"") -> 0.047244094 | DP53: =IFERROR((DD$4*DD53+DE$4*DE53+DF$4*DF53+DG$4*DG53+DH$4*DH53+DI$4*DI53+DJ$4*DJ53+DK$4*DK53+DL$4*DL53+DM$4*DM53)*DO53,"") -> 0.047244094 | DQ53: Apprentice | DR53: 1 | DS53: 14 | DT53: 1 | DU53: 1 | DV53: 1 | DW53: 1 | DX53: 1 | DY53: 1 | DZ53: 1 | EA53: 1 | EB53: 1 | EC53: 1 | ED53: 1 | EE53: =IFERROR(DS53/SUM($AA53,$AQ53,$BG53,$BW53,$CM53,$DC53,$DS53,$EI53,$EY53,$FO53,$GE53,$GU53,$HK53,$IA53,$IQ53,$JG53,$JW53,$KM53,$LC53,$LS53),"") -> 0.05511811 | EF53: =IFERROR((DT$4*DT53+DU$4*DU53+DV$4*DV53+DW$4*DW53+DX$4*DX53+DY$4*DY53+DZ$4*DZ53+EA$4*EA53+EB$4*EB53+EC$4*EC53)*EE53,"") -> 0.05511811 | EG53: Foundation Laborer | EH53: 1 | EI53: 9 | EJ53: 1 | EK53: 1 | EL53: 1 | EM53: 1 | EN53: 1 | EO53: 1 | EP53: 1 | EQ53: 1 | ER53: 1 | ES53: 1 | ET53: 1 | EU53: =IFERROR(EI53/SUM($AA53,$AQ53,$BG53,$BW53,$CM53,$DC53,$DS53,$EI53,$EY53,$FO53,$GE53,$GU53,$HK53,$IA53,$IQ53,$JG53,$JW53,$KM53,$LC53,$LS53),"") -> 0.035433071 | EV53: =IFERROR((EJ$4*EJ53+EK$4*EK53+EL$4*EL53+EM$4*EM53+EN$4*EN53+EO$4*EO53+EP$4*EP53+EQ$4*EQ53+ER$4*ER53+ES$4*ES53)*EU53,"") -> 0.035433071 | EW53: Carpenters | EX53: 1 | EY53: 9 | EZ53: 1 | FA53: 1 | FB53: 1 | FC53: 1 | FD53: 1 | FE53: 1 | FF53: 1 | FG53: 1 | FH53: 1 | FI53: 1 | FJ53: 1 | FK53: =IFERROR(EY53/SUM($AA53,$AQ53,$BG53,$BW53,$CM53,$DC53,$DS53,$EI53,$EY53,$FO53,$GE53,$GU53,$HK53,$IA53,$IQ53,$JG53,$JW53,$KM53,$LC53,$LS53),"") -> 0.035433071 | FL53: =IFERROR((EZ$4*EZ53+FA$4*FA53+FB$4*FB53+FC$4*FC53+FD$4*FD53+FE$4*FE53+FF$4*FF53+FG$4*FG53+FH$4*FH53+FI$4*FI53)*FK53,"") -> 0.035433071 | FM53: Wind Technician | FN53: 1 | FO53: 12 | FP53: 1 | FQ53: 1 | FR53: 1 | FS53: 1 | FT53: 1 | FU53: 1 | FV53: 1 | FW53: 1 | FX53: 1 | FY53: 1 | FZ53: 1 | GA53: =IFERROR(FO53/SUM($AA53,$AQ53,$BG53,$BW53,$CM53,$DC53,$DS53,$EI53,$EY53,$FO53,$GE53,$GU53,$HK53,$IA53,$IQ53,$JG53,$JW53,$KM53,$LC53,$LS53),"") -> 0.047244094 | GB53: =IFERROR((FP$4*FP53+FQ$4*FQ53+FR$4*FR53+FS$4*FS53+FT$4*FT53+FU$4*FU53+FV$4*FV53+FW$4*FW53+FX$4*FX53+FY$4*FY53)*GA53,"") -> 0.047244094
A54: 50 | D54: 71 | E54: ='BVEM Scorecard'!F53 -> Wind | F54: =X54 -> 1 | G54: =W54 -> 1 | H54: =IFERROR(SUM(AN54,BD54,BT54,CJ54,CZ54,DP54,EF54,EV54,FL54,GB54,GR54,HH54,HX54,IN54,JD54,JT54,KJ54,KZ54,LP54,MF54),0) -> 1 | I54: =IFERROR(SUM(AL54,BB54,BR54,CH54,CX54,DN54,ED54,ET54,FJ54,FZ54,GP54,HF54,HV54,IL54,JB54,JR54,KH54,KX54,LN54,MD54)/SUM(Z54,AP54,BF54,BV54,CL54,DB54,DR54,EH54,EX54,FN54,GD54,GT54,HJ54,HZ54,IP54,JF54,JV54,KL54,LB54,LR54),0) -> 1 | J54: 1 | K54: 1 | L54: 1 | M54: 1 | N54: 1 | O54: 1 | P54: 1 | Q54: 1 | R54: 1 | S54: 1 | T54: 1 | U54: 1 | V54: 1 | W54: =AVERAGE(M54:V54) -> 1 | X54: =M$4*M54+N$4*N54+O$4*O54+P$4*P54+Q$4*Q54+R$4*R54+S$4*S54+T$4*T54+U$4*U54+V$4*V54 -> 1 | Y54: Equipment Operators | Z54: 1 | AA54: 24 | AB54: 1 | AC54: 1 | AD54: 1 | AE54: 1 | AF54: 1 | AG54: 1 | AH54: 1 | AI54: 1 | AJ54: 1 | AK54: 1 | AL54: =IFERROR(AVERAGE(AB54:AK54),"") -> 1 | AM54: =IFERROR(AA54/SUM($AA54,$AQ54,$BG54,$BW54,$CM54,$DC54,$DS54,$EI54,$EY54,$FO54,$GE54,$GU54,$HK54,$IA54,$IQ54,$JG54,$JW54,$KM54,$LC54,$LS54),"") -> 0.094488189 | AN54: =IFERROR((AB$4*AB54+AC$4*AC54+AD$4*AD54+AE$4*AE54+AF$4*AF54+AG$4*AG54+AH$4*AH54+AI$4*AI54+AJ$4*AJ54+AK$4*AK54)*AM54,"") -> 0.094488189 | AO54: Crane Operators | AP54: 1 | AQ54: 15 | AR54: 1 | AS54: 1 | AT54: 1 | AU54: 1 | AV54: 1 | AW54: 1 | AX54: 1 | AY54: 1 | AZ54: 1 | BA54: 1 | BB54: =IFERROR(AVERAGE(AR54:BA54),"") -> 1 | BC54: =IFERROR(AQ54/SUM($AA54,$AQ54,$BG54,$BW54,$CM54,$DC54,$DS54,$EI54,$EY54,$FO54,$GE54,$GU54,$HK54,$IA54,$IQ54,$JG54,$JW54,$KM54,$LC54,$LS54),"") -> 0.059055118 | BD54: =IFERROR((AR$4*AR54+AS$4*AS54+AT$4*AT54+AU$4*AU54+AV$4*AV54+AW$4*AW54+AX$4*AX54+AY$4*AY54+AZ$4*AZ54+BA$4*BA54)*BC54,"") -> 0.059055118 | BE54: Turbine Installers | BF54: 1 | BG54: 69 | BH54: 1 | BI54: 1 | BJ54: 1 | BK54: 1 | BL54: 1 | BM54: 1 | BN54: 1 | BO54: 1 | BP54: 1 | BQ54: 1 | BR54: 1 | BS54: =IFERROR(BG54/SUM($AA54,$AQ54,$BG54,$BW54,$CM54,$DC54,$DS54,$EI54,$EY54,$FO54,$GE54,$GU54,$HK54,$IA54,$IQ54,$JG54,$JW54,$KM54,$LC54,$LS54),"") -> 0.27165354 | BT54: =IFERROR((BH$4*BH54+BI$4*BI54+BJ$4*BJ54+BK$4*BK54+BL$4*BL54+BM$4*BM54+BN$4*BN54+BO$4*BO54+BP$4*BP54+BQ$4*BQ54)*BS54,"") -> 0.27165354 | BU54: Turbine Laborer | BV54: 1 | BW54: 69 | BX54: 1 | BY54: 1 | BZ54: 1 | CA54: 1 | CB54: 1 | CC54: 1 | CD54: 1 | CE54: 1 | CF54: 1 | CG54: 1 | CH54: 1 | CI54: =IFERROR(BW54/SUM($AA54,$AQ54,$BG54,$BW54,$CM54,$DC54,$DS54,$EI54,$EY54,$FO54,$GE54,$GU54,$HK54,$IA54,$IQ54,$JG54,$JW54,$KM54,$LC54,$LS54),"") -> 0.27165354 | CJ54: =IFERROR((BX$4*BX54+BY$4*BY54+BZ$4*BZ54+CA$4*CA54+CB$4*CB54+CC$4*CC54+CD$4*CD54+CE$4*CE54+CF$4*CF54+CG$4*CG54)*CI54,"") -> 0.27165354 | CK54: Construction Managers | CL54: 1 | CM54: 21 | CN54: 1 | CO54: 1 | CP54: 1 | CQ54: 1 | CR54: 1 | CS54: 1 | CT54: 1 | CU54: 1 | CV54: 1 | CW54: 1 | CX54: 1 | CY54: =IFERROR(CM54/SUM($AA54,$AQ54,$BG54,$BW54,$CM54,$DC54,$DS54,$EI54,$EY54,$FO54,$GE54,$GU54,$HK54,$IA54,$IQ54,$JG54,$JW54,$KM54,$LC54,$LS54),"") -> 0.082677165 | CZ54: =IFERROR((CN$4*CN54+CO$4*CO54+CP$4*CP54+CQ$4*CQ54+CR$4*CR54+CS$4*CS54+CT$4*CT54+CU$4*CU54+CV$4*CV54+CW$4*CW54)*CY54,"") -> 0.082677165 | DA54: Electricians | DB54: 1 | DC54: 12 | DD54: 1 | DE54: 1 | DF54: 1 | DG54: 1 | DH54: 1 | DI54: 1 | DJ54: 1 | DK54: 1 | DL54: 1 | DM54: 1 | DN54: 1 | DO54: =IFERROR(DC54/SUM($AA54,$AQ54,$BG54,$BW54,$CM54,$DC54,$DS54,$EI54,$EY54,$FO54,$GE54,$GU54,$HK54,$IA54,$IQ54,$JG54,$JW54,$KM54,$LC54,$LS54),"") -> 0.047244094 | DP54: =IFERROR((DD$4*DD54+DE$4*DE54+DF$4*DF54+DG$4*DG54+DH$4*DH54+DI$4*DI54+DJ$4*DJ54+DK$4*DK54+DL$4*DL54+DM$4*DM54)*DO54,"") -> 0.047244094 | DQ54: Apprentice | DR54: 1 | DS54: 14 | DT54: 1 | DU54: 1 | DV54: 1 | DW54: 1 | DX54: 1 | DY54: 1 | DZ54: 1 | EA54: 1 | EB54: 1 | EC54: 1 | ED54: 1 | EE54: =IFERROR(DS54/SUM($AA54,$AQ54,$BG54,$BW54,$CM54,$DC54,$DS54,$EI54,$EY54,$FO54,$GE54,$GU54,$HK54,$IA54,$IQ54,$JG54,$JW54,$KM54,$LC54,$LS54),"") -> 0.05511811 | EF54: =IFERROR((DT$4*DT54+DU$4*DU54+DV$4*DV54+DW$4*DW54+DX$4*DX54+DY$4*DY54+DZ$4*DZ54+EA$4*EA54+EB$4*EB54+EC$4*EC54)*EE54,"") -> 0.05511811 | EG54: Foundation Laborer | EH54: 1 | EI54: 9 | EJ54: 1 | EK54: 1 | EL54: 1 | EM54: 1 | EN54: 1 | EO54: 1 | EP54: 1 | EQ54: 1 | ER54: 1 | ES54: 1 | ET54: 1 | EU54: =IFERROR(EI54/SUM($AA54,$AQ54,$BG54,$BW54,$CM54,$DC54,$DS54,$EI54,$EY54,$FO54,$GE54,$GU54,$HK54,$IA54,$IQ54,$JG54,$JW54,$KM54,$LC54,$LS54),"") -> 0.035433071 | EV54: =IFERROR((EJ$4*EJ54+EK$4*EK54+EL$4*EL54+EM$4*EM54+EN$4*EN54+EO$4*EO54+EP$4*EP54+EQ$4*EQ54+ER$4*ER54+ES$4*ES54)*EU54,"") -> 0.035433071 | EW54: Carpenters | EX54: 1 | EY54: 9 | EZ54: 1 | FA54: 1 | FB54: 1 | FC54: 1 | FD54: 1 | FE54: 1 | FF54: 1 | FG54: 1 | FH54: 1 | FI54: 1 | FJ54: 1 | FK54: =IFERROR(EY54/SUM($AA54,$AQ54,$BG54,$BW54,$CM54,$DC54,$DS54,$EI54,$EY54,$FO54,$GE54,$GU54,$HK54,$IA54,$IQ54,$JG54,$JW54,$KM54,$LC54,$LS54),"") -> 0.035433071 | FL54: =IFERROR((EZ$4*EZ54+FA$4*FA54+FB$4*FB54+FC$4*FC54+FD$4*FD54+FE$4*FE54+FF$4*FF54+FG$4*FG54+FH$4*FH54+FI$4*FI54)*FK54,"") -> 0.035433071 | FM54: Wind Technician | FN54: 1 | FO54: 12 | FP54: 1 | FQ54: 1 | FR54: 1 | FS54: 1 | FT54: 1 | FU54: 1 | FV54: 1 | FW54: 1 | FX54: 1 | FY54: 1 | FZ54: 1 | GA54: =IFERROR(FO54/SUM($AA54,$AQ54,$BG54,$BW54,$CM54,$DC54,$DS54,$EI54,$EY54,$FO54,$GE54,$GU54,$HK54,$IA54,$IQ54,$JG54,$JW54,$KM54,$LC54,$LS54),"") -> 0.047244094 | GB54: =IFERROR((FP$4*FP54+FQ$4*FQ54+FR$4*FR54+FS$4*FS54+FT$4*FT54+FU$4*FU54+FV$4*FV54+FW$4*FW54+FX$4*FX54+FY$4*FY54)*GA54,"") -> 0.047244094
A55: 51 | D55: 21 | E55: ='BVEM Scorecard'!F54 -> Wind
A56: 52 | D56: 55 | E56: ='BVEM Scorecard'!F55 -> Wind
A57: 53 | D57: 22 | E57: ='BVEM Scorecard'!F56 -> Wind
A58: 54 | D58: 29 | E58: ='BVEM Scorecard'!F57 -> Wind
A59: 55 | D59: 77 | E59: ='BVEM Scorecard'!F58 -> Wind | F59: =X59 -> 1 | G59: =W59 -> 1 | H59: =IFERROR(SUM(AN59,BD59,BT59,CJ59,CZ59,DP59,EF59,EV59,FL59,GB59,GR59,HH59,HX59,IN59,JD59,JT59,KJ59,KZ59,LP59,MF59),0) -> 1 | I59: =IFERROR(SUM(AL59,BB59,BR59,CH59,CX59,DN59,ED59,ET59,FJ59,FZ59,GP59,HF59,HV59,IL59,JB59,JR59,KH59,KX59,LN59,MD59)/SUM(Z59,AP59,BF59,BV59,CL59,DB59,DR59,EH59,EX59,FN59,GD59,GT59,HJ59,HZ59,IP59,JF59,JV59,KL59,LB59,LR59),0) -> 1 | J59: 1 | K59: 1 | L59: 1 | M59: 1 | N59: 1 | O59: 1 | P59: 1 | Q59: 1 | R59: 1 | S59: 1 | T59: 1 | U59: 1 | V59: 1 | W59: =AVERAGE(M59:V59) -> 1 | X59: =M$4*M59+N$4*N59+O$4*O59+P$4*P59+Q$4*Q59+R$4*R59+S$4*S59+T$4*T59+U$4*U59+V$4*V59 -> 1 | Y59: Equipment Operators | Z59: 1 | AA59: 24 | AB59: 1 | AC59: 1 | AD59: 1 | AE59: 1 | AF59: 1 | AG59: 1 | AH59: 1 | AI59: 1 | AJ59: 1 | AK59: 1 | AL59: =IFERROR(AVERAGE(AB59:AK59),"") -> 1 | AM59: =IFERROR(AA59/SUM($AA59,$AQ59,$BG59,$BW59,$CM59,$DC59,$DS59,$EI59,$EY59,$FO59,$GE59,$GU59,$HK59,$IA59,$IQ59,$JG59,$JW59,$KM59,$LC59,$LS59),"") -> 0.094488189 | AN59: =IFERROR((AB$4*AB59+AC$4*AC59+AD$4*AD59+AE$4*AE59+AF$4*AF59+AG$4*AG59+AH$4*AH59+AI$4*AI59+AJ$4*AJ59+AK$4*AK59)*AM59,"") -> 0.094488189 | AO59: Crane Operators | AP59: 1 | AQ59: 15 | AR59: 1 | AS59: 1 | AT59: 1 | AU59: 1 | AV59: 1 | AW59: 1 | AX59: 1 | AY59: 1 | AZ59: 1 | BA59: 1 | BB59: =IFERROR(AVERAGE(AR59:BA59),"") -> 1 | BC59: =IFERROR(AQ59/SUM($AA59,$AQ59,$BG59,$BW59,$CM59,$DC59,$DS59,$EI59,$EY59,$FO59,$GE59,$GU59,$HK59,$IA59,$IQ59,$JG59,$JW59,$KM59,$LC59,$LS59),"") -> 0.059055118 | BD59: =IFERROR((AR$4*AR59+AS$4*AS59+AT$4*AT59+AU$4*AU59+AV$4*AV59+AW$4*AW59+AX$4*AX59+AY$4*AY59+AZ$4*AZ59+BA$4*BA59)*BC59,"") -> 0.059055118 | BE59: Turbine Installers | BF59: 1 | BG59: 69 | BH59: 1 | BI59: 1 | BJ59: 1 | BK59: 1 | BL59: 1 | BM59: 1 | BN59: 1 | BO59: 1 | BP59: 1 | BQ59: 1 | BR59: 1 | BS59: =IFERROR(BG59/SUM($AA59,$AQ59,$BG59,$BW59,$CM59,$DC59,$DS59,$EI59,$EY59,$FO59,$GE59,$GU59,$HK59,$IA59,$IQ59,$JG59,$JW59,$KM59,$LC59,$LS59),"") -> 0.27165354 | BT59: =IFERROR((BH$4*BH59+BI$4*BI59+BJ$4*BJ59+BK$4*BK59+BL$4*BL59+BM$4*BM59+BN$4*BN59+BO$4*BO59+BP$4*BP59+BQ$4*BQ59)*BS59,"") -> 0.27165354 | BU59: Turbine Laborer | BV59: 1 | BW59: 69 | BX59: 1 | BY59: 1 | BZ59: 1 | CA59: 1 | CB59: 1 | CC59: 1 | CD59: 1 | CE59: 1 | CF59: 1 | CG59: 1 | CH59: 1 | CI59: =IFERROR(BW59/SUM($AA59,$AQ59,$BG59,$BW59,$CM59,$DC59,$DS59,$EI59,$EY59,$FO59,$GE59,$GU59,$HK59,$IA59,$IQ59,$JG59,$JW59,$KM59,$LC59,$LS59),"") -> 0.27165354 | CJ59: =IFERROR((BX$4*BX59+BY$4*BY59+BZ$4*BZ59+CA$4*CA59+CB$4*CB59+CC$4*CC59+CD$4*CD59+CE$4*CE59+CF$4*CF59+CG$4*CG59)*CI59,"") -> 0.27165354 | CK59: Construction Managers | CL59: 1 | CM59: 21 | CN59: 1 | CO59: 1 | CP59: 1 | CQ59: 1 | CR59: 1 | CS59: 1 | CT59: 1 | CU59: 1 | CV59: 1 | CW59: 1 | CX59: 1 | CY59: =IFERROR(CM59/SUM($AA59,$AQ59,$BG59,$BW59,$CM59,$DC59,$DS59,$EI59,$EY59,$FO59,$GE59,$GU59,$HK59,$IA59,$IQ59,$JG59,$JW59,$KM59,$LC59,$LS59),"") -> 0.082677165 | CZ59: =IFERROR((CN$4*CN59+CO$4*CO59+CP$4*CP59+CQ$4*CQ59+CR$4*CR59+CS$4*CS59+CT$4*CT59+CU$4*CU59+CV$4*CV59+CW$4*CW59)*CY59,"") -> 0.082677165 | DA59: Electricians | DB59: 1 | DC59: 12 | DD59: 1 | DE59: 1 | DF59: 1 | DG59: 1 | DH59: 1 | DI59: 1 | DJ59: 1 | DK59: 1 | DL59: 1 | DM59: 1 | DN59: 1 | DO59: =IFERROR(DC59/SUM($AA59,$AQ59,$BG59,$BW59,$CM59,$DC59,$DS59,$EI59,$EY59,$FO59,$GE59,$GU59,$HK59,$IA59,$IQ59,$JG59,$JW59,$KM59,$LC59,$LS59),"") -> 0.047244094 | DP59: =IFERROR((DD$4*DD59+DE$4*DE59+DF$4*DF59+DG$4*DG59+DH$4*DH59+DI$4*DI59+DJ$4*DJ59+DK$4*DK59+DL$4*DL59+DM$4*DM59)*DO59,"") -> 0.047244094 | DQ59: Apprentice | DR59: 1 | DS59: 14 | DT59: 1 | DU59: 1 | DV59: 1 | DW59: 1 | DX59: 1 | DY59: 1 | DZ59: 1 | EA59: 1 | EB59: 1 | EC59: 1 | ED59: 1 | EE59: =IFERROR(DS59/SUM($AA59,$AQ59,$BG59,$BW59,$CM59,$DC59,$DS59,$EI59,$EY59,$FO59,$GE59,$GU59,$HK59,$IA59,$IQ59,$JG59,$JW59,$KM59,$LC59,$LS59),"") -> 0.05511811 | EF59: =IFERROR((DT$4*DT59+DU$4*DU59+DV$4*DV59+DW$4*DW59+DX$4*DX59+DY$4*DY59+DZ$4*DZ59+EA$4*EA59+EB$4*EB59+EC$4*EC59)*EE59,"") -> 0.05511811 | EG59: Foundation Laborer | EH59: 1 | EI59: 9 | EJ59: 1 | EK59: 1 | EL59: 1 | EM59: 1 | EN59: 1 | EO59: 1 | EP59: 1 | EQ59: 1 | ER59: 1 | ES59: 1 | ET59: 1 | EU59: =IFERROR(EI59/SUM($AA59,$AQ59,$BG59,$BW59,$CM59,$DC59,$DS59,$EI59,$EY59,$FO59,$GE59,$GU59,$HK59,$IA59,$IQ59,$JG59,$JW59,$KM59,$LC59,$LS59),"") -> 0.035433071 | EV59: =IFERROR((EJ$4*EJ59+EK$4*EK59+EL$4*EL59+EM$4*EM59+EN$4*EN59+EO$4*EO59+EP$4*EP59+EQ$4*EQ59+ER$4*ER59+ES$4*ES59)*EU59,"") -> 0.035433071 | EW59: Carpenters | EX59: 1 | EY59: 9 | EZ59: 1 | FA59: 1 | FB59: 1 | FC59: 1 | FD59: 1 | FE59: 1 | FF59: 1 | FG59: 1 | FH59: 1 | FI59: 1 | FJ59: 1 | FK59: =IFERROR(EY59/SUM($AA59,$AQ59,$BG59,$BW59,$CM59,$DC59,$DS59,$EI59,$EY59,$FO59,$GE59,$GU59,$HK59,$IA59,$IQ59,$JG59,$JW59,$KM59,$LC59,$LS59),"") -> 0.035433071 | FL59: =IFERROR((EZ$4*EZ59+FA$4*FA59+FB$4*FB59+FC$4*FC59+FD$4*FD59+FE$4*FE59+FF$4*FF59+FG$4*FG59+FH$4*FH59+FI$4*FI59)*FK59,"") -> 0.035433071 | FM59: Wind Technician | FN59: 1 | FO59: 12 | FP59: 1 | FQ59: 1 | FR59: 1 | FS59: 1 | FT59: 1 | FU59: 1 | FV59: 1 | FW59: 1 | FX59: 1 | FY59: 1 | FZ59: 1 | GA59: =IFERROR(FO59/SUM($AA59,$AQ59,$BG59,$BW59,$CM59,$DC59,$DS59,$EI59,$EY59,$FO59,$GE59,$GU59,$HK59,$IA59,$IQ59,$JG59,$JW59,$KM59,$LC59,$LS59),"") -> 0.047244094 | GB59: =IFERROR((FP$4*FP59+FQ$4*FQ59+FR$4*FR59+FS$4*FS59+FT$4*FT59+FU$4*FU59+FV$4*FV59+FW$4*FW59+FX$4*FX59+FY$4*FY59)*GA59,"") -> 0.047244094
A60: 56 | D60: 78 | E60: ='BVEM Scorecard'!F59 -> Wind | F60: =X60 -> 1 | G60: =W60 -> 1 | H60: =IFERROR(SUM(AN60,BD60,BT60,CJ60,CZ60,DP60,EF60,EV60,FL60,GB60,GR60,HH60,HX60,IN60,JD60,JT60,KJ60,KZ60,LP60,MF60),0) -> 1 | I60: =IFERROR(SUM(AL60,BB60,BR60,CH60,CX60,DN60,ED60,ET60,FJ60,FZ60,GP60,HF60,HV60,IL60,JB60,JR60,KH60,KX60,LN60,MD60)/SUM(Z60,AP60,BF60,BV60,CL60,DB60,DR60,EH60,EX60,FN60,GD60,GT60,HJ60,HZ60,IP60,JF60,JV60,KL60,LB60,LR60),0) -> 1 | J60: 1 | K60: 1 | L60: 1 | M60: 1 | N60: 1 | O60: 1 | P60: 1 | Q60: 1 | R60: 1 | S60: 1 | T60: 1 | U60: 1 | V60: 1 | W60: =AVERAGE(M60:V60) -> 1 | X60: =M$4*M60+N$4*N60+O$4*O60+P$4*P60+Q$4*Q60+R$4*R60+S$4*S60+T$4*T60+U$4*U60+V$4*V60 -> 1 | Y60: Equipment Operators | Z60: 1 | AA60: 24 | AB60: 1 | AC60: 1 | AD60: 1 | AE60: 1 | AF60: 1 | AG60: 1 | AH60: 1 | AI60: 1 | AJ60: 1 | AK60: 1 | AL60: =IFERROR(AVERAGE(AB60:AK60),"") -> 1 | AM60: =IFERROR(AA60/SUM($AA60,$AQ60,$BG60,$BW60,$CM60,$DC60,$DS60,$EI60,$EY60,$FO60,$GE60,$GU60,$HK60,$IA60,$IQ60,$JG60,$JW60,$KM60,$LC60,$LS60),"") -> 0.094488189 | AN60: =IFERROR((AB$4*AB60+AC$4*AC60+AD$4*AD60+AE$4*AE60+AF$4*AF60+AG$4*AG60+AH$4*AH60+AI$4*AI60+AJ$4*AJ60+AK$4*AK60)*AM60,"") -> 0.094488189 | AO60: Crane Operators | AP60: 1 | AQ60: 15 | AR60: 1 | AS60: 1 | AT60: 1 | AU60: 1 | AV60: 1 | AW60: 1 | AX60: 1 | AY60: 1 | AZ60: 1 | BA60: 1 | BB60: =IFERROR(AVERAGE(AR60:BA60),"") -> 1 | BC60: =IFERROR(AQ60/SUM($AA60,$AQ60,$BG60,$BW60,$CM60,$DC60,$DS60,$EI60,$EY60,$FO60,$GE60,$GU60,$HK60,$IA60,$IQ60,$JG60,$JW60,$KM60,$LC60,$LS60),"") -> 0.059055118 | BD60: =IFERROR((AR$4*AR60+AS$4*AS60+AT$4*AT60+AU$4*AU60+AV$4*AV60+AW$4*AW60+AX$4*AX60+AY$4*AY60+AZ$4*AZ60+BA$4*BA60)*BC60,"") -> 0.059055118 | BE60: Turbine Installers | BF60: 1 | BG60: 69 | BH60: 1 | BI60: 1 | BJ60: 1 | BK60: 1 | BL60: 1 | BM60: 1 | BN60: 1 | BO60: 1 | BP60: 1 | BQ60: 1 | BR60: 1 | BS60: =IFERROR(BG60/SUM($AA60,$AQ60,$BG60,$BW60,$CM60,$DC60,$DS60,$EI60,$EY60,$FO60,$GE60,$GU60,$HK60,$IA60,$IQ60,$JG60,$JW60,$KM60,$LC60,$LS60),"") -> 0.27165354 | BT60: =IFERROR((BH$4*BH60+BI$4*BI60+BJ$4*BJ60+BK$4*BK60+BL$4*BL60+BM$4*BM60+BN$4*BN60+BO$4*BO60+BP$4*BP60+BQ$4*BQ60)*BS60,"") -> 0.27165354 | BU60: Turbine Laborer | BV60: 1 | BW60: 69 | BX60: 1 | BY60: 1 | BZ60: 1 | CA60: 1 | CB60: 1 | CC60: 1 | CD60: 1 | CE60: 1 | CF60: 1 | CG60: 1 | CH60: 1 | CI60: =IFERROR(BW60/SUM($AA60,$AQ60,$BG60,$BW60,$CM60,$DC60,$DS60,$EI60,$EY60,$FO60,$GE60,$GU60,$HK60,$IA60,$IQ60,$JG60,$JW60,$KM60,$LC60,$LS60),"") -> 0.27165354 | CJ60: =IFERROR((BX$4*BX60+BY$4*BY60+BZ$4*BZ60+CA$4*CA60+CB$4*CB60+CC$4*CC60+CD$4*CD60+CE$4*CE60+CF$4*CF60+CG$4*CG60)*CI60,"") -> 0.27165354 | CK60: Construction Managers | CL60: 1 | CM60: 21 | CN60: 1 | CO60: 1 | CP60: 1 | CQ60: 1 | CR60: 1 | CS60: 1 | CT60: 1 | CU60: 1 | CV60: 1 | CW60: 1 | CX60: 1 | CY60: =IFERROR(CM60/SUM($AA60,$AQ60,$BG60,$BW60,$CM60,$DC60,$DS60,$EI60,$EY60,$FO60,$GE60,$GU60,$HK60,$IA60,$IQ60,$JG60,$JW60,$KM60,$LC60,$LS60),"") -> 0.082677165 | CZ60: =IFERROR((CN$4*CN60+CO$4*CO60+CP$4*CP60+CQ$4*CQ60+CR$4*CR60+CS$4*CS60+CT$4*CT60+CU$4*CU60+CV$4*CV60+CW$4*CW60)*CY60,"") -> 0.082677165 | DA60: Electricians | DB60: 1 | DC60: 12 | DD60: 1 | DE60: 1 | DF60: 1 | DG60: 1 | DH60: 1 | DI60: 1 | DJ60: 1 | DK60: 1 | DL60: 1 | DM60: 1 | DN60: 1 | DO60: =IFERROR(DC60/SUM($AA60,$AQ60,$BG60,$BW60,$CM60,$DC60,$DS60,$EI60,$EY60,$FO60,$GE60,$GU60,$HK60,$IA60,$IQ60,$JG60,$JW60,$KM60,$LC60,$LS60),"") -> 0.047244094 | DP60: =IFERROR((DD$4*DD60+DE$4*DE60+DF$4*DF60+DG$4*DG60+DH$4*DH60+DI$4*DI60+DJ$4*DJ60+DK$4*DK60+DL$4*DL60+DM$4*DM60)*DO60,"") -> 0.047244094 | DQ60: Apprentice | DR60: 1 | DS60: 14 | DT60: 1 | DU60: 1 | DV60: 1 | DW60: 1 | DX60: 1 | DY60: 1 | DZ60: 1 | EA60: 1 | EB60: 1 | EC60: 1 | ED60: 1 | EE60: =IFERROR(DS60/SUM($AA60,$AQ60,$BG60,$BW60,$CM60,$DC60,$DS60,$EI60,$EY60,$FO60,$GE60,$GU60,$HK60,$IA60,$IQ60,$JG60,$JW60,$KM60,$LC60,$LS60),"") -> 0.05511811 | EF60: =IFERROR((DT$4*DT60+DU$4*DU60+DV$4*DV60+DW$4*DW60+DX$4*DX60+DY$4*DY60+DZ$4*DZ60+EA$4*EA60+EB$4*EB60+EC$4*EC60)*EE60,"") -> 0.05511811 | EG60: Foundation Laborer | EH60: 1 | EI60: 9 | EJ60: 1 | EK60: 1 | EL60: 1 | EM60: 1 | EN60: 1 | EO60: 1 | EP60: 1 | EQ60: 1 | ER60: 1 | ES60: 1 | ET60: 1 | EU60: =IFERROR(EI60/SUM($AA60,$AQ60,$BG60,$BW60,$CM60,$DC60,$DS60,$EI60,$EY60,$FO60,$GE60,$GU60,$HK60,$IA60,$IQ60,$JG60,$JW60,$KM60,$LC60,$LS60),"") -> 0.035433071 | EV60: =IFERROR((EJ$4*EJ60+EK$4*EK60+EL$4*EL60+EM$4*EM60+EN$4*EN60+EO$4*EO60+EP$4*EP60+EQ$4*EQ60+ER$4*ER60+ES$4*ES60)*EU60,"") -> 0.035433071 | EW60: Carpenters | EX60: 1 | EY60: 9 | EZ60: 1 | FA60: 1 | FB60: 1 | FC60: 1 | FD60: 1 | FE60: 1 | FF60: 1 | FG60: 1 | FH60: 1 | FI60: 1 | FJ60: 1 | FK60: =IFERROR(EY60/SUM($AA60,$AQ60,$BG60,$BW60,$CM60,$DC60,$DS60,$EI60,$EY60,$FO60,$GE60,$GU60,$HK60,$IA60,$IQ60,$JG60,$JW60,$KM60,$LC60,$LS60),"") -> 0.035433071 | FL60: =IFERROR((EZ$4*EZ60+FA$4*FA60+FB$4*FB60+FC$4*FC60+FD$4*FD60+FE$4*FE60+FF$4*FF60+FG$4*FG60+FH$4*FH60+FI$4*FI60)*FK60,"") -> 0.035433071 | FM60: Wind Technician | FN60: 1 | FO60: 12 | FP60: 1 | FQ60: 1 | FR60: 1 | FS60: 1 | FT60: 1 | FU60: 1 | FV60: 1 | FW60: 1 | FX60: 1 | FY60: 1 | FZ60: 1 | GA60: =IFERROR(FO60/SUM($AA60,$AQ60,$BG60,$BW60,$CM60,$DC60,$DS60,$EI60,$EY60,$FO60,$GE60,$GU60,$HK60,$IA60,$IQ60,$JG60,$JW60,$KM60,$LC60,$LS60),"") -> 0.047244094 | GB60: =IFERROR((FP$4*FP60+FQ$4*FQ60+FR$4*FR60+FS$4*FS60+FT$4*FT60+FU$4*FU60+FV$4*FV60+FW$4*FW60+FX$4*FX60+FY$4*FY60)*GA60,"") -> 0.047244094
A61: 57 | D61: 25 | E61: ='BVEM Scorecard'!F60 -> Wind
A62: 58 | D62: 56 | E62: ='BVEM Scorecard'!F61 -> Wind
A63: 59 | D63: 26 | E63: ='BVEM Scorecard'!F62 -> Wind
A64: 60 | D64: 42 | E64: ='BVEM Scorecard'!F63 -> Wind
A65: 61 | D65: 75 | E65: ='BVEM Scorecard'!F64 -> Wind
A66: 62 | D66: 244 | E66: ='BVEM Scorecard'!F65 -> Wind
A67: 63 | D67: 76 | E67: ='BVEM Scorecard'!F66 -> Wind
A68: 64 | D68: 79 | E68: ='BVEM Scorecard'!F67 -> Wind
A69: 65 | D69: 119 | E69: ='BVEM Scorecard'!F68 -> Wind
A70: 66 | D70: 123 | E70: ='BVEM Scorecard'!F69 -> Wind
A71: 67 | D71: 60 | E71: ='BVEM Scorecard'!F70 -> Wind
A72: 68 | D72: 245 | E72: ='BVEM Scorecard'!F71 -> Wind
... A92: 88 | D92: 307 | E92: ='BVEM Scorecard'!F91 -> Wind
A93: 89 | D93: 91 | E93: ='BVEM Scorecard'!F92 -> Wind | F93: =X93 -> 1 | G93: =W93 -> 1 | H93: =IFERROR(SUM(AN93,BD93,BT93,CJ93,CZ93,DP93,EF93,EV93,FL93,GB93,GR93,HH93,HX93,IN93,JD93,JT93,KJ93,KZ93,LP93,MF93),0) -> 1 | I93: =IFERROR(SUM(AL93,BB93,BR93,CH93,CX93,DN93,ED93,ET93,FJ93,FZ93,GP93,HF93,HV93,IL93,JB93,JR93,KH93,KX93,LN93,MD93)/SUM(Z93,AP93,BF93,BV93,CL93,DB93,DR93,EH93,EX93,FN93,GD93,GT93,HJ93,HZ93,IP93,JF93,JV93,KL93,LB93,LR93),0) -> 1 | J93: 1 | K93: 1 | L93: 1 | M93: 1 | N93: 1 | O93: 1 | P93: 1 | Q93: 1 | R93: 1 | S93: 1 | T93: 1 | U93: 1 | V93: 1 | W93: =IFERROR(AVERAGE(M93:V93),0) -> 1 | X93: =M$4*M93+N$4*N93+O$4*O93+P$4*P93+Q$4*Q93+R$4*R93+S$4*S93+T$4*T93+U$4*U93+V$4*V93 -> 1 | Y93: Equipment Operators | Z93: 1 | AA93: 24 | AB93: 1 | AC93: 1 | AD93: 1 | AE93: 1 | AF93: 1 | AG93: 1 | AH93: 1 | AI93: 1 | AJ93: 1 | AK93: 1 | AL93: =IFERROR(AVERAGE(AB93:AK93),"") -> 1 | AM93: =IFERROR(AA93/SUM($AA93,$AQ93,$BG93,$BW93,$CM93,$DC93,$DS93,$EI93,$EY93,$FO93,$GE93,$GU93,$HK93,$IA93,$IQ93,$JG93,$JW93,$KM93,$LC93,$LS93),"") -> 0.094488189 | AN93: =IFERROR((AB$4*AB93+AC$4*AC93+AD$4*AD93+AE$4*AE93+AF$4*AF93+AG$4*AG93+AH$4*AH93+AI$4*AI93+AJ$4*AJ93+AK$4*AK93)*AM93,"") -> 0.094488189 | AO93: Crane Operators | AP93: 1 | AQ93: 15 | AR93: 1 | AS93: 1 | AT93: 1 | AU93: 1 | AV93: 1 | AW93: 1 | AX93: 1 | AY93: 1 | AZ93: 1 | BA93: 1 | BB93: =IFERROR(AVERAGE(AR93:BA93),"") -> 1 | BC93: =IFERROR(AQ93/SUM($AA93,$AQ93,$BG93,$BW93,$CM93,$DC93,$DS93,$EI93,$EY93,$FO93,$GE93,$GU93,$HK93,$IA93,$IQ93,$JG93,$JW93,$KM93,$LC93,$LS93),"") -> 0.059055118 | BD93: =IFERROR((AR$4*AR93+AS$4*AS93+AT$4*AT93+AU$4*AU93+AV$4*AV93+AW$4*AW93+AX$4*AX93+AY$4*AY93+AZ$4*AZ93+BA$4*BA93)*BC93,"") -> 0.059055118 | BE93: Turbine Installers | BF93: 1 | BG93: 69 | BH93: 1 | BI93: 1 | BJ93: 1 | BK93: 1 | BL93: 1 | BM93: 1 | BN93: 1 | BO93: 1 | BP93: 1 | BQ93: 1 | BR93: 1 | BS93: =IFERROR(BG93/SUM($AA93,$AQ93,$BG93,$BW93,$CM93,$DC93,$DS93,$EI93,$EY93,$FO93,$GE93,$GU93,$HK93,$IA93,$IQ93,$JG93,$JW93,$KM93,$LC93,$LS93),"") -> 0.27165354 | BT93: =IFERROR((BH$4*BH93+BI$4*BI93+BJ$4*BJ93+BK$4*BK93+BL$4*BL93+BM$4*BM93+BN$4*BN93+BO$4*BO93+BP$4*BP93+BQ$4*BQ93)*BS93,"") -> 0.27165354 | BU93: Turbine Laborer | BV93: 1 | BW93: 69 | BX93: 1 | BY93: 1 | BZ93: 1 | CA93: 1 | CB93: 1 | CC93: 1 | CD93: 1 | CE93: 1 | CF93: 1 | CG93: 1 | CH93: 1 | CI93: =IFERROR(BW93/SUM($AA93,$AQ93,$BG93,$BW93,$CM93,$DC93,$DS93,$EI93,$EY93,$FO93,$GE93,$GU93,$HK93,$IA93,$IQ93,$JG93,$JW93,$KM93,$LC93,$LS93),"") -> 0.27165354 | CJ93: =IFERROR((BX$4*BX93+BY$4*BY93+BZ$4*BZ93+CA$4*CA93+CB$4*CB93+CC$4*CC93+CD$4*CD93+CE$4*CE93+CF$4*CF93+CG$4*CG93)*CI93,"") -> 0.27165354 | CK93: Construction Managers | CL93: 1 | CM93: 21 | CN93: 1 | CO93: 1 | CP93: 1 | CQ93: 1 | CR93: 1 | CS93: 1 | CT93: 1 | CU93: 1 | CV93: 1 | CW93: 1 | CX93: 1 | CY93: =IFERROR(CM93/SUM($AA93,$AQ93,$BG93,$BW93,$CM93,$DC93,$DS93,$EI93,$EY93,$FO93,$GE93,$GU93,$HK93,$IA93,$IQ93,$JG93,$JW93,$KM93,$LC93,$LS93),"") -> 0.082677165 | CZ93: =IFERROR((CN$4*CN93+CO$4*CO93+CP$4*CP93+CQ$4*CQ93+CR$4*CR93+CS$4*CS93+CT$4*CT93+CU$4*CU93+CV$4*CV93+CW$4*CW93)*CY93,"") -> 0.082677165 | DA93: Electricians | DB93: 1 | DC93: 12 | DD93: 1 | DE93: 1 | DF93: 1 | DG93: 1 | DH93: 1 | DI93: 1 | DJ93: 1 | DK93: 1 | DL93: 1 | DM93: 1 | DN93: 1 | DO93: =IFERROR(DC93/SUM($AA93,$AQ93,$BG93,$BW93,$CM93,$DC93,$DS93,$EI93,$EY93,$FO93,$GE93,$GU93,$HK93,$IA93,$IQ93,$JG93,$JW93,$KM93,$LC93,$LS93),"") -> 0.047244094 | DP93: =IFERROR((DD$4*DD93+DE$4*DE93+DF$4*DF93+DG$4*DG93+DH$4*DH93+DI$4*DI93+DJ$4*DJ93+DK$4*DK93+DL$4*DL93+DM$4*DM93)*DO93,"") -> 0.047244094 | DQ93: Apprentice | DR93: 1 | DS93: 14 | DT93: 1 | DU93: 1 | DV93: 1 | DW93: 1 | DX93: 1 | DY93: 1 | DZ93: 1 | EA93: 1 | EB93: 1 | EC93: 1 | ED93: 1 | EE93: =IFERROR(DS93/SUM($AA93,$AQ93,$BG93,$BW93,$CM93,$DC93,$DS93,$EI93,$EY93,$FO93,$GE93,$GU93,$HK93,$IA93,$IQ93,$JG93,$JW93,$KM93,$LC93,$LS93),"") -> 0.05511811 | EF93: =IFERROR((DT$4*DT93+DU$4*DU93+DV$4*DV93+DW$4*DW93+DX$4*DX93+DY$4*DY93+DZ$4*DZ93+EA$4*EA93+EB$4*EB93+EC$4*EC93)*EE93,"") -> 0.05511811 | EG93: Foundation Laborer | EH93: 1 | EI93: 9 | EJ93: 1 | EK93: 1 | EL93: 1 | EM93: 1 | EN93: 1 | EO93: 1 | EP93: 1 | EQ93: 1 | ER93: 1 | ES93: 1 | ET93: 1 | EU93: =IFERROR(EI93/SUM($AA93,$AQ93,$BG93,$BW93,$CM93,$DC93,$DS93,$EI93,$EY93,$FO93,$GE93,$GU93,$HK93,$IA93,$IQ93,$JG93,$JW93,$KM93,$LC93,$LS93),"") -> 0.035433071 | EV93: =IFERROR((EJ$4*EJ93+EK$4*EK93+EL$4*EL93+EM$4*EM93+EN$4*EN93+EO$4*EO93+EP$4*EP93+EQ$4*EQ93+ER$4*ER93+ES$4*ES93)*EU93,"") -> 0.035433071 | EW93: Carpenters | EX93: 1 | EY93: 9 | EZ93: 1 | FA93: 1 | FB93: 1 | FC93: 1 | FD93: 1 | FE93: 1 | FF93: 1 | FG93: 1 | FH93: 1 | FI93: 1 | FJ93: 1 | FK93: =IFERROR(EY93/SUM($AA93,$AQ93,$BG93,$BW93,$CM93,$DC93,$DS93,$EI93,$EY93,$FO93,$GE93,$GU93,$HK93,$IA93,$IQ93,$JG93,$JW93,$KM93,$LC93,$LS93),"") -> 0.035433071 | FL93: =IFERROR((EZ$4*EZ93+FA$4*FA93+FB$4*FB93+FC$4*FC93+FD$4*FD93+FE$4*FE93+FF$4*FF93+FG$4*FG93+FH$4*FH93+FI$4*FI93)*FK93,"") -> 0.035433071 | FM93: Wind Technician | FN93: 1 | FO93: 12 | FP93: 1 | FQ93: 1 | FR93: 1 | FS93: 1 | FT93: 1 | FU93: 1 | FV93: 1 | FW93: 1 | FX93: 1 | FY93: 1 | FZ93: 1 | GA93: =IFERROR(FO93/SUM($AA93,$AQ93,$BG93,$BW93,$CM93,$DC93,$DS93,$EI93,$EY93,$FO93,$GE93,$GU93,$HK93,$IA93,$IQ93,$JG93,$JW93,$KM93,$LC93,$LS93),"") -> 0.047244094 | GB93: =IFERROR((FP$4*FP93+FQ$4*FQ93+FR$4*FR93+FS$4*FS93+FT$4*FT93+FU$4*FU93+FV$4*FV93+FW$4*FW93+FX$4*FX93+FY$4*FY93)*GA93,"") -> 0.047244094
A94: 90 | D94: 94 | E94: ='BVEM Scorecard'!F93 -> Wind | F94: =X94 -> 1 | G94: =W94 -> 1 | H94: =IFERROR(SUM(AN94,BD94,BT94,CJ94,CZ94,DP94,EF94,EV94,FL94,GB94,GR94,HH94,HX94,IN94,JD94,JT94,KJ94,KZ94,LP94,MF94),0) -> 1 | I94: =IFERROR(SUM(AL94,BB94,BR94,CH94,CX94,DN94,ED94,ET94,FJ94,FZ94,GP94,HF94,HV94,IL94,JB94,JR94,KH94,KX94,LN94,MD94)/SUM(Z94,AP94,BF94,BV94,CL94,DB94,DR94,EH94,EX94,FN94,GD94,GT94,HJ94,HZ94,IP94,JF94,JV94,KL94,LB94,LR94),0) -> 1 | J94: 1 | K94: 1 | L94: 1 | M94: 1 | N94: 1 | O94: 1 | P94: 1 | Q94: 1 | R94: 1 | S94: 1 | T94: 1 | U94: 1 | V94: 1 | W94: =IFERROR(AVERAGE(M94:V94),0) -> 1 | X94: =M$4*M94+N$4*N94+O$4*O94+P$4*P94+Q$4*Q94+R$4*R94+S$4*S94+T$4*T94+U$4*U94+V$4*V94 -> 1 | Y94: Equipment Operators | Z94: 1 | AA94: 24 | AB94: 1 | AC94: 1 | AD94: 1 | AE94: 1 | AF94: 1 | AG94: 1 | AH94: 1 | AI94: 1 | AJ94: 1 | AK94: 1 | AL94: =IFERROR(AVERAGE(AB94:AK94),"") -> 1 | AM94: =IFERROR(AA94/SUM($AA94,$AQ94,$BG94,$BW94,$CM94,$DC94,$DS94,$EI94,$EY94,$FO94,$GE94,$GU94,$HK94,$IA94,$IQ94,$JG94,$JW94,$KM94,$LC94,$LS94),"") -> 0.094488189 | AN94: =IFERROR((AB$4*AB94+AC$4*AC94+AD$4*AD94+AE$4*AE94+AF$4*AF94+AG$4*AG94+AH$4*AH94+AI$4*AI94+AJ$4*AJ94+AK$4*AK94)*AM94,"") -> 0.094488189 | AO94: Crane Operators | AP94: 1 | AQ94: 15 | AR94: 1 | AS94: 1 | AT94: 1 | AU94: 1 | AV94: 1 | AW94: 1 | AX94: 1 | AY94: 1 | AZ94: 1 | BA94: 1 | BB94: =IFERROR(AVERAGE(AR94:BA94),"") -> 1 | BC94: =IFERROR(AQ94/SUM($AA94,$AQ94,$BG94,$BW94,$CM94,$DC94,$DS94,$EI94,$EY94,$FO94,$GE94,$GU94,$HK94,$IA94,$IQ94,$JG94,$JW94,$KM94,$LC94,$LS94),"") -> 0.059055118 | BD94: =IFERROR((AR$4*AR94+AS$4*AS94+AT$4*AT94+AU$4*AU94+AV$4*AV94+AW$4*AW94+AX$4*AX94+AY$4*AY94+AZ$4*AZ94+BA$4*BA94)*BC94,"") -> 0.059055118 | BE94: Turbine Installers | BF94: 1 | BG94: 69 | BH94: 1 | BI94: 1 | BJ94: 1 | BK94: 1 | BL94: 1 | BM94: 1 | BN94: 1 | BO94: 1 | BP94: 1 | BQ94: 1 | BR94: 1 | BS94: =IFERROR(BG94/SUM($AA94,$AQ94,$BG94,$BW94,$CM94,$DC94,$DS94,$EI94,$EY94,$FO94,$GE94,$GU94,$HK94,$IA94,$IQ94,$JG94,$JW94,$KM94,$LC94,$LS94),"") -> 0.27165354 | BT94: =IFERROR((BH$4*BH94+BI$4*BI94+BJ$4*BJ94+BK$4*BK94+BL$4*BL94+BM$4*BM94+BN$4*BN94+BO$4*BO94+BP$4*BP94+BQ$4*BQ94)*BS94,"") -> 0.27165354 | BU94: Turbine Laborer | BV94: 1 | BW94: 69 | BX94: 1 | BY94: 1 | BZ94: 1 | CA94: 1 | CB94: 1 | CC94: 1 | CD94: 1 | CE94: 1 | CF94: 1 | CG94: 1 | CH94: 1 | CI94: =IFERROR(BW94/SUM($AA94,$AQ94,$BG94,$BW94,$CM94,$DC94,$DS94,$EI94,$EY94,$FO94,$GE94,$GU94,$HK94,$IA94,$IQ94,$JG94,$JW94,$KM94,$LC94,$LS94),"") -> 0.27165354 | CJ94: =IFERROR((BX$4*BX94+BY$4*BY94+BZ$4*BZ94+CA$4*CA94+CB$4*CB94+CC$4*CC94+CD$4*CD94+CE$4*CE94+CF$4*CF94+CG$4*CG94)*CI94,"") -> 0.27165354 | CK94: Construction Managers | CL94: 1 | CM94: 21 | CN94: 1 | CO94: 1 | CP94: 1 | CQ94: 1 | CR94: 1 | CS94: 1 | CT94: 1 | CU94: 1 | CV94: 1 | CW94: 1 | CX94: 1 | CY94: =IFERROR(CM94/SUM($AA94,$AQ94,$BG94,$BW94,$CM94,$DC94,$DS94,$EI94,$EY94,$FO94,$GE94,$GU94,$HK94,$IA94,$IQ94,$JG94,$JW94,$KM94,$LC94,$LS94),"") -> 0.082677165 | CZ94: =IFERROR((CN$4*CN94+CO$4*CO94+CP$4*CP94+CQ$4*CQ94+CR$4*CR94+CS$4*CS94+CT$4*CT94+CU$4*CU94+CV$4*CV94+CW$4*CW94)*CY94,"") -> 0.082677165 | DA94: Electricians | DB94: 1 | DC94: 12 | DD94: 1 | DE94: 1 | DF94: 1 | DG94: 1 | DH94: 1 | DI94: 1 | DJ94: 1 | DK94: 1 | DL94: 1 | DM94: 1 | DN94: 1 | DO94: =IFERROR(DC94/SUM($AA94,$AQ94,$BG94,$BW94,$CM94,$DC94,$DS94,$EI94,$EY94,$FO94,$GE94,$GU94,$HK94,$IA94,$IQ94,$JG94,$JW94,$KM94,$LC94,$LS94),"") -> 0.047244094 | DP94: =IFERROR((DD$4*DD94+DE$4*DE94+DF$4*DF94+DG$4*DG94+DH$4*DH94+DI$4*DI94+DJ$4*DJ94+DK$4*DK94+DL$4*DL94+DM$4*DM94)*DO94,"") -> 0.047244094 | DQ94: Apprentice | DR94: 1 | DS94: 14 | DT94: 1 | DU94: 1 | DV94: 1 | DW94: 1 | DX94: 1 | DY94: 1 | DZ94: 1 | EA94: 1 | EB94: 1 | EC94: 1 | ED94: 1 | EE94: =IFERROR(DS94/SUM($AA94,$AQ94,$BG94,$BW94,$CM94,$DC94,$DS94,$EI94,$EY94,$FO94,$GE94,$GU94,$HK94,$IA94,$IQ94,$JG94,$JW94,$KM94,$LC94,$LS94),"") -> 0.05511811 | EF94: =IFERROR((DT$4*DT94+DU$4*DU94+DV$4*DV94+DW$4*DW94+DX$4*DX94+DY$4*DY94+DZ$4*DZ94+EA$4*EA94+EB$4*EB94+EC$4*EC94)*EE94,"") -> 0.05511811 | EG94: Foundation Laborer | EH94: 1 | EI94: 9 | EJ94: 1 | EK94: 1 | EL94: 1 | EM94: 1 | EN94: 1 | EO94: 1 | EP94: 1 | EQ94: 1 | ER94: 1 | ES94: 1 | ET94: 1 | EU94: =IFERROR(EI94/SUM($AA94,$AQ94,$BG94,$BW94,$CM94,$DC94,$DS94,$EI94,$EY94,$FO94,$GE94,$GU94,$HK94,$IA94,$IQ94,$JG94,$JW94,$KM94,$LC94,$LS94),"") -> 0.035433071 | EV94: =IFERROR((EJ$4*EJ94+EK$4*EK94+EL$4*EL94+EM$4*EM94+EN$4*EN94+EO$4*EO94+EP$4*EP94+EQ$4*EQ94+ER$4*ER94+ES$4*ES94)*EU94,"") -> 0.035433071 | EW94: Carpenters | EX94: 1 | EY94: 9 | EZ94: 1 | FA94: 1 | FB94: 1 | FC94: 1 | FD94: 1 | FE94: 1 | FF94: 1 | FG94: 1 | FH94: 1 | FI94: 1 | FJ94: 1 | FK94: =IFERROR(EY94/SUM($AA94,$AQ94,$BG94,$BW94,$CM94,$DC94,$DS94,$EI94,$EY94,$FO94,$GE94,$GU94,$HK94,$IA94,$IQ94,$JG94,$JW94,$KM94,$LC94,$LS94),"") -> 0.035433071 | FL94: =IFERROR((EZ$4*EZ94+FA$4*FA94+FB$4*FB94+FC$4*FC94+FD$4*FD94+FE$4*FE94+FF$4*FF94+FG$4*FG94+FH$4*FH94+FI$4*FI94)*FK94,"") -> 0.035433071 | FM94: Wind Technician | FN94: 1 | FO94: 12 | FP94: 1 | FQ94: 1 | FR94: 1 | FS94: 1 | FT94: 1 | FU94: 1 | FV94: 1 | FW94: 1 | FX94: 1 | FY94: 1 | FZ94: 1 | GA94: =IFERROR(FO94/SUM($AA94,$AQ94,$BG94,$BW94,$CM94,$DC94,$DS94,$EI94,$EY94,$FO94,$GE94,$GU94,$HK94,$IA94,$IQ94,$JG94,$JW94,$KM94,$LC94,$LS94),"") -> 0.047244094 | GB94: =IFERROR((FP$4*FP94+FQ$4*FQ94+FR$4*FR94+FS$4*FS94+FT$4*FT94+FU$4*FU94+FV$4*FV94+FW$4*FW94+FX$4*FX94+FY$4*FY94)*GA94,"") -> 0.047244094
A95: 91 | D95: 36 | E95: ='BVEM Scorecard'!F94 -> Wind
A96: 92 | D96: 289 | E96: ='BVEM Scorecard'!F95 -> Wind
A97: 93 | D97: 214 | E97: ='BVEM Scorecard'!F96 -> Wind
A98: 94 | D98: 10 | E98: ='BVEM Scorecard'!F97 -> Wind
A99: 95 | D99: 37 | E99: ='BVEM Scorecard'!F98 -> Wind
A100: 96 | D100: 308 | E100: ='BVEM Scorecard'!F99 -> Wind
A101: 97 | D101: 174 | E101: ='BVEM Scorecard'!F100 -> Wind
A102: 98 | D102: 103 | E102: ='BVEM Scorecard'!F101 -> Wind
A103: 99 | D103: 38 | E103: ='BVEM Scorecard'!F102 -> Wind
A104: 100 | D104: 294 | E104: ='BVEM Scorecard'!F103 -> Wind
A105: 101 | D105: 39 | E105: ='BVEM Scorecard'!F104 -> Wind
A106: 102 | D106: 311 | E106: ='BVEM Scorecard'!F105 -> Wind
A107: 103 | D107: 1171 | E107: ='BVEM Scorecard'!F106 -> Storage | F107: =X107 -> 0 | G107: =W107 -> 0 | H107: =IFERROR(SUM(AN107,BD107,BT107,CJ107,CZ107,DP107,EF107,EV107,FL107,GB107,GR107,HH107,HX107,IN107,JD107,JT107,KJ107,KZ107,LP107,MF107),0) -> 0 | I107: =IFERROR(SUM(AL107,BB107,BR107,CH107,CX107,DN107,ED107,ET107,FJ107,FZ107,GP107,HF107,HV107,IL107,JB107,JR107,KH107,KX107,LN107,MD107)/SUM(Z107,AP107,BF107,BV107,CL107,DB107,DR107,EH107,EX107,FN107,GD107,GT107,HJ107,HZ107,IP107,JF107,JV107,KL107,LB107,LR107),0) -> 0 | J107: 0 | K107: 0 | L107: 0 | M107: 0 | N107: 0 | O107: 0 | P107: 0 | Q107: 0 | R107: 0 | S107: 0 | T107: 0 | U107: 0 | V107: 0 | W107: =IFERROR(AVERAGE(M107:V107),0) -> 0 | X107: =M$4*M107+N$4*N107+O$4*O107+P$4*P107+Q$4*Q107+R$4*R107+S$4*S107+T$4*T107+U$4*U107+V$4*V107 -> 0 | AL107: =IFERROR(AVERAGE(AB107:AK107),"") | AM107: =IFERROR(AA107/SUM($AA107,$AQ107,$BG107,$BW107,$CM107,$DC107,$DS107,$EI107,$EY107,$FO107,$GE107,$GU107,$HK107,$IA107,$IQ107,$JG107,$JW107,$KM107,$LC107,$LS107),"") | AN107: =IFERROR((AB$4*AB107+AC$4*AC107+AD$4*AD107+AE$4*AE107+AF$4*AF107+AG$4*AG107+AH$4*AH107+AI$4*AI107+AJ$4*AJ107+AK$4*AK107)*AM107,"") | BC107: =IFERROR(AQ107/SUM($AA107,$AQ107,$BG107,$BW107,$CM107,$DC107,$DS107,$EI107,$EY107,$FO107,$GE107,$GU107,$HK107,$IA107,$IQ107,$JG107,$JW107,$KM107,$LC107,$LS107),"") | BD107: =IFERROR((AR$4*AR107+AS$4*AS107+AT$4*AT107+AU$4*AU107+AV$4*AV107+AW$4*AW107+AX$4*AX107+AY$4*AY107+AZ$4*AZ107+BA$4*BA107)*BC107,"") | BS107: =IFERROR(BG107/SUM($AA107,$AQ107,$BG107,$BW107,$CM107,$DC107,$DS107,$EI107,$EY107,$FO107,$GE107,$GU107,$HK107,$IA107,$IQ107,$JG107,$JW107,$KM107,$LC107,$LS107),"") | BT107: =IFERROR((BH$4*BH107+BI$4*BI107+BJ$4*BJ107+BK$4*BK107+BL$4*BL107+BM$4*BM107+BN$4*BN107+BO$4*BO107+BP$4*BP107+BQ$4*BQ107)*BS107,"") | CI107: =IFERROR(BW107/SUM($AA107,$AQ107,$BG107,$BW107,$CM107,$DC107,$DS107,$EI107,$EY107,$FO107,$GE107,$GU107,$HK107,$IA107,$IQ107,$JG107,$JW107,$KM107,$LC107,$LS107),"") | CJ107: =IFERROR((BX$4*BX107+BY$4*BY107+BZ$4*BZ107+CA$4*CA107+CB$4*CB107+CC$4*CC107+CD$4*CD107+CE$4*CE107+CF$4*CF107+CG$4*CG107)*CI107,"") | CY107: =IFERROR(CM107/SUM($AA107,$AQ107,$BG107,$BW107,$CM107,$DC107,$DS107,$EI107,$EY107,$FO107,$GE107,$GU107,$HK107,$IA107,$IQ107,$JG107,$JW107,$KM107,$LC107,$LS107),"") | CZ107: =IFERROR((CN$4*CN107+CO$4*CO107+CP$4*CP107+CQ$4*CQ107+CR$4*CR107+CS$4*CS107+CT$4*CT107+CU$4*CU107+CV$4*CV107+CW$4*CW107)*CY107,"") | DO107: =IFERROR(DC107/SUM($AA107,$AQ107,$BG107,$BW107,$CM107,$DC107,$DS107,$EI107,$EY107,$FO107,$GE107,$GU107,$HK107,$IA107,$IQ107,$JG107,$JW107,$KM107,$LC107,$LS107),"") | DP107: =IFERROR((DD$4*DD107+DE$4*DE107+DF$4*DF107+DG$4*DG107+DH$4*DH107+DI$4*DI107+DJ$4*DJ107+DK$4*DK107+DL$4*DL107+DM$4*DM107)*DO107,"") | EE107: =IFERROR(DS107/SUM($AA107,$AQ107,$BG107,$BW107,$CM107,$DC107,$DS107,$EI107,$EY107,$FO107,$GE107,$GU107,$HK107,$IA107,$IQ107,$JG107,$JW107,$KM107,$LC107,$LS107),"") | EF107: =IFERROR((DT$4*DT107+DU$4*DU107+DV$4*DV107+DW$4*DW107+DX$4*DX107+DY$4*DY107+DZ$4*DZ107+EA$4*EA107+EB$4*EB107+EC$4*EC107)*EE107,"") | EU107: =IFERROR(EI107/SUM($AA107,$AQ107,$BG107,$BW107,$CM107,$DC107,$DS107,$EI107,$EY107,$FO107,$GE107,$GU107,$HK107,$IA107,$IQ107,$JG107,$JW107,$KM107,$LC107,$LS107),"") | EV107: =IFERROR((EJ$4*EJ107+EK$4*EK107+EL$4*EL107+EM$4*EM107+EN$4*EN107+EO$4*EO107+EP$4*EP107+EQ$4*EQ107+ER$4*ER107+ES$4*ES107)*EU107,"") | FK107: =IFERROR(EY107/SUM($AA107,$AQ107,$BG107,$BW107,$CM107,$DC107,$DS107,$EI107,$EY107,$FO107,$GE107,$GU107,$HK107,$IA107,$IQ107,$JG107,$JW107,$KM107,$LC107,$LS107),"") | FL107: =IFERROR((EZ$4*EZ107+FA$4*FA107+FB$4*FB107+FC$4*FC107+FD$4*FD107+FE$4*FE107+FF$4*FF107+FG$4*FG107+FH$4*FH107+FI$4*FI107)*FK107,"") | GA107: =IFERROR(FO107/SUM($AA107,$AQ107,$BG107,$BW107,$CM107,$DC107,$DS107,$EI107,$EY107,$FO107,$GE107,$GU107,$HK107,$IA107,$IQ107,$JG107,$JW107,$KM107,$LC107,$LS107),"") | GB107: =IFERROR((FP$4*FP107+FQ$4*FQ107+FR$4*FR107+FS$4*FS107+FT$4*FT107+FU$4*FU107+FV$4*FV107+FW$4*FW107+FX$4*FX107+FY$4*FY107)*GA107,"")
A108: 104 | D108: 145 | E108: ='BVEM Scorecard'!F107 -> Solar + Storage | F108: =X108 -> 0.3 | G108: =W108 -> 0.3 | H108: =IFERROR(SUM(AN108,BD108,BT108,CJ108,CZ108,DP108,EF108,EV108,FL108,GB108,GR108,HH108,HX108,IN108,JD108,JT108,KJ108,KZ108,LP108,MF108),0) -> 0 | I108: =IFERROR(SUM(AL108,BB108,BR108,CH108,CX108,DN108,ED108,ET108,FJ108,FZ108,GP108,HF108,HV108,IL108,JB108,JR108,KH108,KX108,LN108,MD108)/SUM(Z108,AP108,BF108,BV108,CL108,DB108,DR108,EH108,EX108,FN108,GD108,GT108,HJ108,HZ108,IP108,JF108,JV108,KL108,LB108,LR108),0) -> 0 | J108: 1 | K108: 1 | L108: 1 | M108: 1 | N108: 1 | O108: 0 | P108: 1 | Q108: 0 | R108: 0 | S108: 0 | T108: 0 | U108: 0 | V108: 0 | W108: =IFERROR(AVERAGE(M108:V108),0) -> 0.3 | X108: =M$4*M108+N$4*N108+O$4*O108+P$4*P108+Q$4*Q108+R$4*R108+S$4*S108+T$4*T108+U$4*U108+V$4*V108 -> 0.3 | Y108: Electrical Journeyman | AA108: 43 | AL108: =IFERROR(AVERAGE(AB108:AK108),"") | AM108: =IFERROR(AA108/SUM($AA108,$AQ108,$BG108,$BW108,$CM108,$DC108,$DS108,$EI108,$EY108,$FO108,$GE108,$GU108,$HK108,$IA108,$IQ108,$JG108,$JW108,$KM108,$LC108,$LS108),"") -> 0.14333333 | AN108: =IFERROR((AB$4*AB108+AC$4*AC108+AD$4*AD108+AE$4*AE108+AF$4*AF108+AG$4*AG108+AH$4*AH108+AI$4*AI108+AJ$4*AJ108+AK$4*AK108)*AM108,"") -> 0 | AO108: Electrical Foreman | AQ108: 13 | BC108: =IFERROR(AQ108/SUM($AA108,$AQ108,$BG108,$BW108,$CM108,$DC108,$DS108,$EI108,$EY108,$FO108,$GE108,$GU108,$HK108,$IA108,$IQ108,$JG108,$JW108,$KM108,$LC108,$LS108),"") -> 0.043333333 | BD108: =IFERROR((AR$4*AR108+AS$4*AS108+AT$4*AT108+AU$4*AU108+AV$4*AV108+AW$4*AW108+AX$4*AX108+AY$4*AY108+AZ$4*AZ108+BA$4*BA108)*BC108,"") -> 0 | BE108: Ironworker Journeyman | BG108: 25 | BS108: =IFERROR(BG108/SUM($AA108,$AQ108,$BG108,$BW108,$CM108,$DC108,$DS108,$EI108,$EY108,$FO108,$GE108,$GU108,$HK108,$IA108,$IQ108,$JG108,$JW108,$KM108,$LC108,$LS108),"") -> 0.083333333 | BT108: =IFERROR((BH$4*BH108+BI$4*BI108+BJ$4*BJ108+BK$4*BK108+BL$4*BL108+BM$4*BM108+BN$4*BN108+BO$4*BO108+BP$4*BP108+BQ$4*BQ108)*BS108,"") -> 0 | BU108: Ironworker Foreman | BW108: 5 | CI108: =IFERROR(BW108/SUM($AA108,$AQ108,$BG108,$BW108,$CM108,$DC108,$DS108,$EI108,$EY108,$FO108,$GE108,$GU108,$HK108,$IA108,$IQ108,$JG108,$JW108,$KM108,$LC108,$LS108),"") -> 0.016666667 | CJ108: =IFERROR((BX$4*BX108+BY$4*BY108+BZ$4*BZ108+CA$4*CA108+CB$4*CB108+CC$4*CC108+CD$4*CD108+CE$4*CE108+CF$4*CF108+CG$4*CG108)*CI108,"") -> 0 | CK108: Laborer Journeyman | CM108: 133 | CY108: =IFERROR(CM108/SUM($AA108,$AQ108,$BG108,$BW108,$CM108,$DC108,$DS108,$EI108,$EY108,$FO108,$GE108,$GU108,$HK108,$IA108,$IQ108,$JG108,$JW108,$KM108,$LC108,$LS108),"") -> 0.44333333 | CZ108: =IFERROR((CN$4*CN108+CO$4*CO108+CP$4*CP108+CQ$4*CQ108+CR$4*CR108+CS$4*CS108+CT$4*CT108+CU$4*CU108+CV$4*CV108+CW$4*CW108)*CY108,"") -> 0 | DA108: Laborer Foreman | DC108: 16 | DO108: =IFERROR(DC108/SUM($AA108,$AQ108,$BG108,$BW108,$CM108,$DC108,$DS108,$EI108,$EY108,$FO108,$GE108,$GU108,$HK108,$IA108,$IQ108,$JG108,$JW108,$KM108,$LC108,$LS108),"") -> 0.053333333 | DP108: =IFERROR((DD$4*DD108+DE$4*DE108+DF$4*DF108+DG$4*DG108+DH$4*DH108+DI$4*DI108+DJ$4*DJ108+DK$4*DK108+DL$4*DL108+DM$4*DM108)*DO108,"") -> 0 | DQ108: Operator | DS108: 65 | EE108: =IFERROR(DS108/SUM($AA108,$AQ108,$BG108,$BW108,$CM108,$DC108,$DS108,$EI108,$EY108,$FO108,$GE108,$GU108,$HK108,$IA108,$IQ108,$JG108,$JW108,$KM108,$LC108,$LS108),"") -> 0.21666667 | EF108: =IFERROR((DT$4*DT108+DU$4*DU108+DV$4*DV108+DW$4*DW108+DX$4*DX108+DY$4*DY108+DZ$4*DZ108+EA$4*EA108+EB$4*EB108+EC$4*EC108)*EE108,"") -> 0 | EU108: =IFERROR(EI108/SUM($AA108,$AQ108,$BG108,$BW108,$CM108,$DC108,$DS108,$EI108,$EY108,$FO108,$GE108,$GU108,$HK108,$IA108,$IQ108,$JG108,$JW108,$KM108,$LC108,$LS108),"") -> 0 | EV108: =IFERROR((EJ$4*EJ108+EK$4*EK108+EL$4*EL108+EM$4*EM108+EN$4*EN108+EO$4*EO108+EP$4*EP108+EQ$4*EQ108+ER$4*ER108+ES$4*ES108)*EU108,"") -> 0 | FK108: =IFERROR(EY108/SUM($AA108,$AQ108,$BG108,$BW108,$CM108,$DC108,$DS108,$EI108,$EY108,$FO108,$GE108,$GU108,$HK108,$IA108,$IQ108,$JG108,$JW108,$KM108,$LC108,$LS108),"") -> 0 | FL108: =IFERROR((EZ$4*EZ108+FA$4*FA108+FB$4*FB108+FC$4*FC108+FD$4*FD108+FE$4*FE108+FF$4*FF108+FG$4*FG108+FH$4*FH108+FI$4*FI108)*FK108,"") -> 0 | GA108: =IFERROR(FO108/SUM($AA108,$AQ108,$BG108,$BW108,$CM108,$DC108,$DS108,$EI108,$EY108,$FO108,$GE108,$GU108,$HK108,$IA108,$IQ108,$JG108,$JW108,$KM108,$LC108,$LS108),"") -> 0 | GB108: =IFERROR((FP$4*FP108+FQ$4*FQ108+FR$4*FR108+FS$4*FS108+FT$4*FT108+FU$4*FU108+FV$4*FV108+FW$4*FW108+FX$4*FX108+FY$4*FY108)*GA108,"") -> 0
A109: 105 | D109: 149 | E109: ='BVEM Scorecard'!F108 -> Solar + Storage | F109: =X109 -> 0.3 | G109: =W109 -> 0.3 | H109: =IFERROR(SUM(AN109,BD109,BT109,CJ109,CZ109,DP109,EF109,EV109,FL109,GB109,GR109,HH109,HX109,IN109,JD109,JT109,KJ109,KZ109,LP109,MF109),0) -> 0 | I109: =IFERROR(SUM(AL109,BB109,BR109,CH109,CX109,DN109,ED109,ET109,FJ109,FZ109,GP109,HF109,HV109,IL109,JB109,JR109,KH109,KX109,LN109,MD109)/SUM(Z109,AP109,BF109,BV109,CL109,DB109,DR109,EH109,EX109,FN109,GD109,GT109,HJ109,HZ109,IP109,JF109,JV109,KL109,LB109,LR109),0) -> 0 | J109: 1 | K109: 1 | L109: 1 | M109: 1 | N109: 1 | O109: 0 | P109: 1 | Q109: 0 | R109: 0 | S109: 0 | T109: 0 | U109: 0 | V109: 0 | W109: =IFERROR(AVERAGE(M109:V109),0) -> 0.3 | X109: =M$4*M109+N$4*N109+O$4*O109+P$4*P109+Q$4*Q109+R$4*R109+S$4*S109+T$4*T109+U$4*U109+V$4*V109 -> 0.3 | Y109: Electrical Journeyman | AA109: 43 | AL109: =IFERROR(AVERAGE(AB109:AK109),"") | AM109: =IFERROR(AA109/SUM($AA109,$AQ109,$BG109,$BW109,$CM109,$DC109,$DS109,$EI109,$EY109,$FO109,$GE109,$GU109,$HK109,$IA109,$IQ109,$JG109,$JW109,$KM109,$LC109,$LS109),"") -> 0.14333333 | AN109: =IFERROR((AB$4*AB109+AC$4*AC109+AD$4*AD109+AE$4*AE109+AF$4*AF109+AG$4*AG109+AH$4*AH109+AI$4*AI109+AJ$4*AJ109+AK$4*AK109)*AM109,"") -> 0 | AO109: Electrical Foreman | AQ109: 13 | BC109: =IFERROR(AQ109/SUM($AA109,$AQ109,$BG109,$BW109,$CM109,$DC109,$DS109,$EI109,$EY109,$FO109,$GE109,$GU109,$HK109,$IA109,$IQ109,$JG109,$JW109,$KM109,$LC109,$LS109),"") -> 0.043333333 | BD109: =IFERROR((AR$4*AR109+AS$4*AS109+AT$4*AT109+AU$4*AU109+AV$4*AV109+AW$4*AW109+AX$4*AX109+AY$4*AY109+AZ$4*AZ109+BA$4*BA109)*BC109,"") -> 0 | BE109: Ironworker Journeyman | BG109: 25 | BS109: =IFERROR(BG109/SUM($AA109,$AQ109,$BG109,$BW109,$CM109,$DC109,$DS109,$EI109,$EY109,$FO109,$GE109,$GU109,$HK109,$IA109,$IQ109,$JG109,$JW109,$KM109,$LC109,$LS109),"") -> 0.083333333 | BT109: =IFERROR((BH$4*BH109+BI$4*BI109+BJ$4*BJ109+BK$4*BK109+BL$4*BL109+BM$4*BM109+BN$4*BN109+BO$4*BO109+BP$4*BP109+BQ$4*BQ109)*BS109,"") -> 0 | BU109: Ironworker Foreman | BW109: 5 | CI109: =IFERROR(BW109/SUM($AA109,$AQ109,$BG109,$BW109,$CM109,$DC109,$DS109,$EI109,$EY109,$FO109,$GE109,$GU109,$HK109,$IA109,$IQ109,$JG109,$JW109,$KM109,$LC109,$LS109),"") -> 0.016666667 | CJ109: =IFERROR((BX$4*BX109+BY$4*BY109+BZ$4*BZ109+CA$4*CA109+CB$4*CB109+CC$4*CC109+CD$4*CD109+CE$4*CE109+CF$4*CF109+CG$4*CG109)*CI109,"") -> 0 | CK109: Laborer Journeyman | CM109: 133 | CY109: =IFERROR(CM109/SUM($AA109,$AQ109,$BG109,$BW109,$CM109,$DC109,$DS109,$EI109,$EY109,$FO109,$GE109,$GU109,$HK109,$IA109,$IQ109,$JG109,$JW109,$KM109,$LC109,$LS109),"") -> 0.44333333 | CZ109: =IFERROR((CN$4*CN109+CO$4*CO109+CP$4*CP109+CQ$4*CQ109+CR$4*CR109+CS$4*CS109+CT$4*CT109+CU$4*CU109+CV$4*CV109+CW$4*CW109)*CY109,"") -> 0 | DA109: Laborer Foreman | DC109: 16 | DO109: =IFERROR(DC109/SUM($AA109,$AQ109,$BG109,$BW109,$CM109,$DC109,$DS109,$EI109,$EY109,$FO109,$GE109,$GU109,$HK109,$IA109,$IQ109,$JG109,$JW109,$KM109,$LC109,$LS109),"") -> 0.053333333 | DP109: =IFERROR((DD$4*DD109+DE$4*DE109+DF$4*DF109+DG$4*DG109+DH$4*DH109+DI$4*DI109+DJ$4*DJ109+DK$4*DK109+DL$4*DL109+DM$4*DM109)*DO109,"") -> 0 | DQ109: Operator | DS109: 65 | EE109: =IFERROR(DS109/SUM($AA109,$AQ109,$BG109,$BW109,$CM109,$DC109,$DS109,$EI109,$EY109,$FO109,$GE109,$GU109,$HK109,$IA109,$IQ109,$JG109,$JW109,$KM109,$LC109,$LS109),"") -> 0.21666667 | EF109: =IFERROR((DT$4*DT109+DU$4*DU109+DV$4*DV109+DW$4*DW109+DX$4*DX109+DY$4*DY109+DZ$4*DZ109+EA$4*EA109+EB$4*EB109+EC$4*EC109)*EE109,"") -> 0 | EU109: =IFERROR(EI109/SUM($AA109,$AQ109,$BG109,$BW109,$CM109,$DC109,$DS109,$EI109,$EY109,$FO109,$GE109,$GU109,$HK109,$IA109,$IQ109,$JG109,$JW109,$KM109,$LC109,$LS109),"") -> 0 | EV109: =IFERROR((EJ$4*EJ109+EK$4*EK109+EL$4*EL109+EM$4*EM109+EN$4*EN109+EO$4*EO109+EP$4*EP109+EQ$4*EQ109+ER$4*ER109+ES$4*ES109)*EU109,"") -> 0 | FK109: =IFERROR(EY109/SUM($AA109,$AQ109,$BG109,$BW109,$CM109,$DC109,$DS109,$EI109,$EY109,$FO109,$GE109,$GU109,$HK109,$IA109,$IQ109,$JG109,$JW109,$KM109,$LC109,$LS109),"") -> 0 | FL109: =IFERROR((EZ$4*EZ109+FA$4*FA109+FB$4*FB109+FC$4*FC109+FD$4*FD109+FE$4*FE109+FF$4*FF109+FG$4*FG109+FH$4*FH109+FI$4*FI109)*FK109,"") -> 0 | GA109: =IFERROR(FO109/SUM($AA109,$AQ109,$BG109,$BW109,$CM109,$DC109,$DS109,$EI109,$EY109,$FO109,$GE109,$GU109,$HK109,$IA109,$IQ109,$JG109,$JW109,$KM109,$LC109,$LS109),"") -> 0 | GB109: =IFERROR((FP$4*FP109+FQ$4*FQ109+FR$4*FR109+FS$4*FS109+FT$4*FT109+FU$4*FU109+FV$4*FV109+FW$4*FW109+FX$4*FX109+FY$4*FY109)*GA109,"") -> 0
A110: 106 | D110: 150 | E110: ='BVEM Scorecard'!F109 -> Wind | F110: =X110 -> 0.8 | G110: =W110 -> 0.8 | H110: =IFERROR(SUM(AN110,BD110,BT110,CJ110,CZ110,DP110,EF110,EV110,FL110,GB110,GR110,HH110,HX110,IN110,JD110,JT110,KJ110,KZ110,LP110,MF110),0) -> 0 | I110: =IFERROR(SUM(AL110,BB110,BR110,CH110,CX110,DN110,ED110,ET110,FJ110,FZ110,GP110,HF110,HV110,IL110,JB110,JR110,KH110,KX110,LN110,MD110)/SUM(Z110,AP110,BF110,BV110,CL110,DB110,DR110,EH110,EX110,FN110,GD110,GT110,HJ110,HZ110,IP110,JF110,JV110,KL110,LB110,LR110),0) -> 0 | J110: 0 | K110: 1 | L110: 1 | M110: 1 | N110: 1 | O110: 0 | P110: 1 | Q110: 1 | R110: 1 | S110: 1 | T110: 1 | U110: 0 | V110: 1 | W110: =IFERROR(AVERAGE(M110:V110),0) -> 0.8 | X110: =M$4*M110+N$4*N110+O$4*O110+P$4*P110+Q$4*Q110+R$4*R110+S$4*S110+T$4*T110+U$4*U110+V$4*V110 -> 0.8 | AL110: =IFERROR(AVERAGE(AB110:AK110),"") | AM110: =IFERROR(AA110/SUM($AA110,$AQ110,$BG110,$BW110,$CM110,$DC110,$DS110,$EI110,$EY110,$FO110,$GE110,$GU110,$HK110,$IA110,$IQ110,$JG110,$JW110,$KM110,$LC110,$LS110),"") | AN110: =IFERROR((AB$4*AB110+AC$4*AC110+AD$4*AD110+AE$4*AE110+AF$4*AF110+AG$4*AG110+AH$4*AH110+AI$4*AI110+AJ$4*AJ110+AK$4*AK110)*AM110,"") | BC110: =IFERROR(AQ110/SUM($AA110,$AQ110,$BG110,$BW110,$CM110,$DC110,$DS110,$EI110,$EY110,$FO110,$GE110,$GU110,$HK110,$IA110,$IQ110,$JG110,$JW110,$KM110,$LC110,$LS110),"") | BD110: =IFERROR((AR$4*AR110+AS$4*AS110+AT$4*AT110+AU$4*AU110+AV$4*AV110+AW$4*AW110+AX$4*AX110+AY$4*AY110+AZ$4*AZ110+BA$4*BA110)*BC110,"") | BS110: =IFERROR(BG110/SUM($AA110,$AQ110,$BG110,$BW110,$CM110,$DC110,$DS110,$EI110,$EY110,$FO110,$GE110,$GU110,$HK110,$IA110,$IQ110,$JG110,$JW110,$KM110,$LC110,$LS110),"") | BT110: =IFERROR((BH$4*BH110+BI$4*BI110+BJ$4*BJ110+BK$4*BK110+BL$4*BL110+BM$4*BM110+BN$4*BN110+BO$4*BO110+BP$4*BP110+BQ$4*BQ110)*BS110,"") | CI110: =IFERROR(BW110/SUM($AA110,$AQ110,$BG110,$BW110,$CM110,$DC110,$DS110,$EI110,$EY110,$FO110,$GE110,$GU110,$HK110,$IA110,$IQ110,$JG110,$JW110,$KM110,$LC110,$LS110),"") | CJ110: =IFERROR((BX$4*BX110+BY$4*BY110+BZ$4*BZ110+CA$4*CA110+CB$4*CB110+CC$4*CC110+CD$4*CD110+CE$4*CE110+CF$4*CF110+CG$4*CG110)*CI110,"") | CY110: =IFERROR(CM110/SUM($AA110,$AQ110,$BG110,$BW110,$CM110,$DC110,$DS110,$EI110,$EY110,$FO110,$GE110,$GU110,$HK110,$IA110,$IQ110,$JG110,$JW110,$KM110,$LC110,$LS110),"") | CZ110: =IFERROR((CN$4*CN110+CO$4*CO110+CP$4*CP110+CQ$4*CQ110+CR$4*CR110+CS$4*CS110+CT$4*CT110+CU$4*CU110+CV$4*CV110+CW$4*CW110)*CY110,"") | DO110: =IFERROR(DC110/SUM($AA110,$AQ110,$BG110,$BW110,$CM110,$DC110,$DS110,$EI110,$EY110,$FO110,$GE110,$GU110,$HK110,$IA110,$IQ110,$JG110,$JW110,$KM110,$LC110,$LS110),"") | DP110: =IFERROR((DD$4*DD110+DE$4*DE110+DF$4*DF110+DG$4*DG110+DH$4*DH110+DI$4*DI110+DJ$4*DJ110+DK$4*DK110+DL$4*DL110+DM$4*DM110)*DO110,"") | EE110: =IFERROR(DS110/SUM($AA110,$AQ110,$BG110,$BW110,$CM110,$DC110,$DS110,$EI110,$EY110,$FO110,$GE110,$GU110,$HK110,$IA110,$IQ110,$JG110,$JW110,$KM110,$LC110,$LS110),"") | EF110: =IFERROR((DT$4*DT110+DU$4*DU110+DV$4*DV110+DW$4*DW110+DX$4*DX110+DY$4*DY110+DZ$4*DZ110+EA$4*EA110+EB$4*EB110+EC$4*EC110)*EE110,"") | EU110: =IFERROR(EI110/SUM($AA110,$AQ110,$BG110,$BW110,$CM110,$DC110,$DS110,$EI110,$EY110,$FO110,$GE110,$GU110,$HK110,$IA110,$IQ110,$JG110,$JW110,$KM110,$LC110,$LS110),"") | EV110: =IFERROR((EJ$4*EJ110+EK$4*EK110+EL$4*EL110+EM$4*EM110+EN$4*EN110+EO$4*EO110+EP$4*EP110+EQ$4*EQ110+ER$4*ER110+ES$4*ES110)*EU110,"") | FK110: =IFERROR(EY110/SUM($AA110,$AQ110,$BG110,$BW110,$CM110,$DC110,$DS110,$EI110,$EY110,$FO110,$GE110,$GU110,$HK110,$IA110,$IQ110,$JG110,$JW110,$KM110,$LC110,$LS110),"") | FL110: =IFERROR((EZ$4*EZ110+FA$4*FA110+FB$4*FB110+FC$4*FC110+FD$4*FD110+FE$4*FE110+FF$4*FF110+FG$4*FG110+FH$4*FH110+FI$4*FI110)*FK110,"") | GA110: =IFERROR(FO110/SUM($AA110,$AQ110,$BG110,$BW110,$CM110,$DC110,$DS110,$EI110,$EY110,$FO110,$GE110,$GU110,$HK110,$IA110,$IQ110,$JG110,$JW110,$KM110,$LC110,$LS110),"") | GB110: =IFERROR((FP$4*FP110+FQ$4*FQ110+FR$4*FR110+FS$4*FS110+FT$4*FT110+FU$4*FU110+FV$4*FV110+FW$4*FW110+FX$4*FX110+FY$4*FY110)*GA110,"")
A111: 107 | D111: 151 | E111: ='BVEM Scorecard'!F110 -> Solar | F111: =X111 -> 0.8 | G111: =W111 -> 0.8 | H111: =IFERROR(SUM(AN111,BD111,BT111,CJ111,CZ111,DP111,EF111,EV111,FL111,GB111,GR111,HH111,HX111,IN111,JD111,JT111,KJ111,KZ111,LP111,MF111),0) -> 0 | I111: =IFERROR(SUM(AL111,BB111,BR111,CH111,CX111,DN111,ED111,ET111,FJ111,FZ111,GP111,HF111,HV111,IL111,JB111,JR111,KH111,KX111,LN111,MD111)/SUM(Z111,AP111,BF111,BV111,CL111,DB111,DR111,EH111,EX111,FN111,GD111,GT111,HJ111,HZ111,IP111,JF111,JV111,KL111,LB111,LR111),0) -> 0 | J111: 0 | K111: 1 | L111: 1 | M111: 1 | N111: 1 | O111: 0 | P111: 1 | Q111: 1 | R111: 1 | S111: 1 | T111: 1 | U111: 0 | V111: 1 | W111: =IFERROR(AVERAGE(M111:V111),0) -> 0.8 | X111: =M$4*M111+N$4*N111+O$4*O111+P$4*P111+Q$4*Q111+R$4*R111+S$4*S111+T$4*T111+U$4*U111+V$4*V111 -> 0.8 | AL111: =IFERROR(AVERAGE(AB111:AK111),"") | AM111: =IFERROR(AA111/SUM($AA111,$AQ111,$BG111,$BW111,$CM111,$DC111,$DS111,$EI111,$EY111,$FO111,$GE111,$GU111,$HK111,$IA111,$IQ111,$JG111,$JW111,$KM111,$LC111,$LS111),"") | AN111: =IFERROR((AB$4*AB111+AC$4*AC111+AD$4*AD111+AE$4*AE111+AF$4*AF111+AG$4*AG111+AH$4*AH111+AI$4*AI111+AJ$4*AJ111+AK$4*AK111)*AM111,"") | BC111: =IFERROR(AQ111/SUM($AA111,$AQ111,$BG111,$BW111,$CM111,$DC111,$DS111,$EI111,$EY111,$FO111,$GE111,$GU111,$HK111,$IA111,$IQ111,$JG111,$JW111,$KM111,$LC111,$LS111),"") | BD111: =IFERROR((AR$4*AR111+AS$4*AS111+AT$4*AT111+AU$4*AU111+AV$4*AV111+AW$4*AW111+AX$4*AX111+AY$4*AY111+AZ$4*AZ111+BA$4*BA111)*BC111,"") | BS111: =IFERROR(BG111/SUM($AA111,$AQ111,$BG111,$BW111,$CM111,$DC111,$DS111,$EI111,$EY111,$FO111,$GE111,$GU111,$HK111,$IA111,$IQ111,$JG111,$JW111,$KM111,$LC111,$LS111),"") | BT111: =IFERROR((BH$4*BH111+BI$4*BI111+BJ$4*BJ111+BK$4*BK111+BL$4*BL111+BM$4*BM111+BN$4*BN111+BO$4*BO111+BP$4*BP111+BQ$4*BQ111)*BS111,"") | CI111: =IFERROR(BW111/SUM($AA111,$AQ111,$BG111,$BW111,$CM111,$DC111,$DS111,$EI111,$EY111,$FO111,$GE111,$GU111,$HK111,$IA111,$IQ111,$JG111,$JW111,$KM111,$LC111,$LS111),"") | CJ111: =IFERROR((BX$4*BX111+BY$4*BY111+BZ$4*BZ111+CA$4*CA111+CB$4*CB111+CC$4*CC111+CD$4*CD111+CE$4*CE111+CF$4*CF111+CG$4*CG111)*CI111,"") | CY111: =IFERROR(CM111/SUM($AA111,$AQ111,$BG111,$BW111,$CM111,$DC111,$DS111,$EI111,$EY111,$FO111,$GE111,$GU111,$HK111,$IA111,$IQ111,$JG111,$JW111,$KM111,$LC111,$LS111),"") | CZ111: =IFERROR((CN$4*CN111+CO$4*CO111+CP$4*CP111+CQ$4*CQ111+CR$4*CR111+CS$4*CS111+CT$4*CT111+CU$4*CU111+CV$4*CV111+CW$4*CW111)*CY111,"") | DO111: =IFERROR(DC111/SUM($AA111,$AQ111,$BG111,$BW111,$CM111,$DC111,$DS111,$EI111,$EY111,$FO111,$GE111,$GU111,$HK111,$IA111,$IQ111,$JG111,$JW111,$KM111,$LC111,$LS111),"") | DP111: =IFERROR((DD$4*DD111+DE$4*DE111+DF$4*DF111+DG$4*DG111+DH$4*DH111+DI$4*DI111+DJ$4*DJ111+DK$4*DK111+DL$4*DL111+DM$4*DM111)*DO111,"") | EE111: =IFERROR(DS111/SUM($AA111,$AQ111,$BG111,$BW111,$CM111,$DC111,$DS111,$EI111,$EY111,$FO111,$GE111,$GU111,$HK111,$IA111,$IQ111,$JG111,$JW111,$KM111,$LC111,$LS111),"") | EF111: =IFERROR((DT$4*DT111+DU$4*DU111+DV$4*DV111+DW$4*DW111+DX$4*DX111+DY$4*DY111+DZ$4*DZ111+EA$4*EA111+EB$4*EB111+EC$4*EC111)*EE111,"") | EU111: =IFERROR(EI111/SUM($AA111,$AQ111,$BG111,$BW111,$CM111,$DC111,$DS111,$EI111,$EY111,$FO111,$GE111,$GU111,$HK111,$IA111,$IQ111,$JG111,$JW111,$KM111,$LC111,$LS111),"") | EV111: =IFERROR((EJ$4*EJ111+EK$4*EK111+EL$4*EL111+EM$4*EM111+EN$4*EN111+EO$4*EO111+EP$4*EP111+EQ$4*EQ111+ER$4*ER111+ES$4*ES111)*EU111,"") | FK111: =IFERROR(EY111/SUM($AA111,$AQ111,$BG111,$BW111,$CM111,$DC111,$DS111,$EI111,$EY111,$FO111,$GE111,$GU111,$HK111,$IA111,$IQ111,$JG111,$JW111,$KM111,$LC111,$LS111),"") | FL111: =IFERROR((EZ$4*EZ111+FA$4*FA111+FB$4*FB111+FC$4*FC111+FD$4*FD111+FE$4*FE111+FF$4*FF111+FG$4*FG111+FH$4*FH111+FI$4*FI111)*FK111,"") | GA111: =IFERROR(FO111/SUM($AA111,$AQ111,$BG111,$BW111,$CM111,$DC111,$DS111,$EI111,$EY111,$FO111,$GE111,$GU111,$HK111,$IA111,$IQ111,$JG111,$JW111,$KM111,$LC111,$LS111),"") | GB111: =IFERROR((FP$4*FP111+FQ$4*FQ111+FR$4*FR111+FS$4*FS111+FT$4*FT111+FU$4*FU111+FV$4*FV111+FW$4*FW111+FX$4*FX111+FY$4*FY111)*GA111,"")
A112: 108 | D112: 162 | E112: ='BVEM Scorecard'!F111 -> Wind | F112: =X112 -> 0 | G112: =W112 -> 0 | H112: =IFERROR(SUM(AN112,BD112,BT112,CJ112,CZ112,DP112,EF112,EV112,FL112,GB112,GR112,HH112,HX112,IN112,JD112,JT112,KJ112,KZ112,LP112,MF112),0) -> 0 | I112: =IFERROR(SUM(AL112,BB112,BR112,CH112,CX112,DN112,ED112,ET112,FJ112,FZ112,GP112,HF112,HV112,IL112,JB112,JR112,KH112,KX112,LN112,MD112)/SUM(Z112,AP112,BF112,BV112,CL112,DB112,DR112,EH112,EX112,FN112,GD112,GT112,HJ112,HZ112,IP112,JF112,JV112,KL112,LB112,LR112),0) -> 0 | J112: 0 | K112: 0 | L112: 0 | M112: 0 | N112: 0 | O112: 0 | P112: 0 | Q112: 0 | R112: 0 | S112: 0 | T112: 0 | U112: 0 | V112: 0 | W112: =IFERROR(AVERAGE(M112:V112),0) -> 0 | X112: =M$4*M112+N$4*N112+O$4*O112+P$4*P112+Q$4*Q112+R$4*R112+S$4*S112+T$4*T112+U$4*U112+V$4*V112 -> 0 | AL112: =IFERROR(AVERAGE(AB112:AK112),"") | AM112: =IFERROR(AA112/SUM($AA112,$AQ112,$BG112,$BW112,$CM112,$DC112,$DS112,$EI112,$EY112,$FO112,$GE112,$GU112,$HK112,$IA112,$IQ112,$JG112,$JW112,$KM112,$LC112,$LS112),"") | AN112: =IFERROR((AB$4*AB112+AC$4*AC112+AD$4*AD112+AE$4*AE112+AF$4*AF112+AG$4*AG112+AH$4*AH112+AI$4*AI112+AJ$4*AJ112+AK$4*AK112)*AM112,"") | BC112: =IFERROR(AQ112/SUM($AA112,$AQ112,$BG112,$BW112,$CM112,$DC112,$DS112,$EI112,$EY112,$FO112,$GE112,$GU112,$HK112,$IA112,$IQ112,$JG112,$JW112,$KM112,$LC112,$LS112),"") | BD112: =IFERROR((AR$4*AR112+AS$4*AS112+AT$4*AT112+AU$4*AU112+AV$4*AV112+AW$4*AW112+AX$4*AX112+AY$4*AY112+AZ$4*AZ112+BA$4*BA112)*BC112,"") | BS112: =IFERROR(BG112/SUM($AA112,$AQ112,$BG112,$BW112,$CM112,$DC112,$DS112,$EI112,$EY112,$FO112,$GE112,$GU112,$HK112,$IA112,$IQ112,$JG112,$JW112,$KM112,$LC112,$LS112),"") | BT112: =IFERROR((BH$4*BH112+BI$4*BI112+BJ$4*BJ112+BK$4*BK112+BL$4*BL112+BM$4*BM112+BN$4*BN112+BO$4*BO112+BP$4*BP112+BQ$4*BQ112)*BS112,"") | CI112: =IFERROR(BW112/SUM($AA112,$AQ112,$BG112,$BW112,$CM112,$DC112,$DS112,$EI112,$EY112,$FO112,$GE112,$GU112,$HK112,$IA112,$IQ112,$JG112,$JW112,$KM112,$LC112,$LS112),"") | CJ112: =IFERROR((BX$4*BX112+BY$4*BY112+BZ$4*BZ112+CA$4*CA112+CB$4*CB112+CC$4*CC112+CD$4*CD112+CE$4*CE112+CF$4*CF112+CG$4*CG112)*CI112,"") | CY112: =IFERROR(CM112/SUM($AA112,$AQ112,$BG112,$BW112,$CM112,$DC112,$DS112,$EI112,$EY112,$FO112,$GE112,$GU112,$HK112,$IA112,$IQ112,$JG112,$JW112,$KM112,$LC112,$LS112),"") | CZ112: =IFERROR((CN$4*CN112+CO$4*CO112+CP$4*CP112+CQ$4*CQ112+CR$4*CR112+CS$4*CS112+CT$4*CT112+CU$4*CU112+CV$4*CV112+CW$4*CW112)*CY112,"") | DO112: =IFERROR(DC112/SUM($AA112,$AQ112,$BG112,$BW112,$CM112,$DC112,$DS112,$EI112,$EY112,$FO112,$GE112,$GU112,$HK112,$IA112,$IQ112,$JG112,$JW112,$KM112,$LC112,$LS112),"") | DP112: =IFERROR((DD$4*DD112+DE$4*DE112+DF$4*DF112+DG$4*DG112+DH$4*DH112+DI$4*DI112+DJ$4*DJ112+DK$4*DK112+DL$4*DL112+DM$4*DM112)*DO112,"") | EE112: =IFERROR(DS112/SUM($AA112,$AQ112,$BG112,$BW112,$CM112,$DC112,$DS112,$EI112,$EY112,$FO112,$GE112,$GU112,$HK112,$IA112,$IQ112,$JG112,$JW112,$KM112,$LC112,$LS112),"") | EF112: =IFERROR((DT$4*DT112+DU$4*DU112+DV$4*DV112+DW$4*DW112+DX$4*DX112+DY$4*DY112+DZ$4*DZ112+EA$4*EA112+EB$4*EB112+EC$4*EC112)*EE112,"") | EU112: =IFERROR(EI112/SUM($AA112,$AQ112,$BG112,$BW112,$CM112,$DC112,$DS112,$EI112,$EY112,$FO112,$GE112,$GU112,$HK112,$IA112,$IQ112,$JG112,$JW112,$KM112,$LC112,$LS112),"") | EV112: =IFERROR((EJ$4*EJ112+EK$4*EK112+EL$4*EL112+EM$4*EM112+EN$4*EN112+EO$4*EO112+EP$4*EP112+EQ$4*EQ112+ER$4*ER112+ES$4*ES112)*EU112,"") | FK112: =IFERROR(EY112/SUM($AA112,$AQ112,$BG112,$BW112,$CM112,$DC112,$DS112,$EI112,$EY112,$FO112,$GE112,$GU112,$HK112,$IA112,$IQ112,$JG112,$JW112,$KM112,$LC112,$LS112),"") | FL112: =IFERROR((EZ$4*EZ112+FA$4*FA112+FB$4*FB112+FC$4*FC112+FD$4*FD112+FE$4*FE112+FF$4*FF112+FG$4*FG112+FH$4*FH112+FI$4*FI112)*FK112,"") | GA112: =IFERROR(FO112/SUM($AA112,$AQ112,$BG112,$BW112,$CM112,$DC112,$DS112,$EI112,$EY112,$FO112,$GE112,$GU112,$HK112,$IA112,$IQ112,$JG112,$JW112,$KM112,$LC112,$LS112),"") | GB112: =IFERROR((FP$4*FP112+FQ$4*FQ112+FR$4*FR112+FS$4*FS112+FT$4*FT112+FU$4*FU112+FV$4*FV112+FW$4*FW112+FX$4*FX112+FY$4*FY112)*GA112,"")
A113: 109 | D113: 182 | E113: ='BVEM Scorecard'!F112 -> Wind + Storage | F113: =X113 -> 0.2 | G113: =W113 -> 0.2 | H113: =IFERROR(SUM(AN113,BD113,BT113,CJ113,CZ113,DP113,EF113,EV113,FL113,GB113,GR113,HH113,HX113,IN113,JD113,JT113,KJ113,KZ113,LP113,MF113),0) -> 0.2 | I113: =IFERROR(SUM(AL113,BB113,BR113,CH113,CX113,DN113,ED113,ET113,FJ113,FZ113,GP113,HF113,HV113,IL113,JB113,JR113,KH113,KX113,LN113,MD113)/SUM(Z113,AP113,BF113,BV113,CL113,DB113,DR113,EH113,EX113,FN113,GD113,GT113,HJ113,HZ113,IP113,JF113,JV113,KL113,LB113,LR113),0) -> 0.2 | J113: 1 | K113: 1 | L113: 1 | M113: 1 | N113: 0 | O113: 0 | P113: 0 | Q113: 0 | R113: 0 | S113: 0 | T113: 0 | U113: 0 | V113: 1 | W113: =IFERROR(AVERAGE(M113:V113),0) -> 0.2 | X113: =M$4*M113+N$4*N113+O$4*O113+P$4*P113+Q$4*Q113+R$4*R113+S$4*S113+T$4*T113+U$4*U113+V$4*V113 -> 0.2 | Y113: Temporary construction | Z113: 1 | AA113: 350 | AB113: 1 | AC113: 0 | AD113: 0 | AE113: 0 | AF113: 0 | AG113: 0 | AH113: 0 | AI113: 0 | AJ113: 0 | AK113: 1 | AL113: =IFERROR(AVERAGE(AB113:AK113),"") -> 0.2 | AM113: =IFERROR(AA113/SUM($AA113,$AQ113,$BG113,$BW113,$CM113,$DC113,$DS113,$EI113,$EY113,$FO113,$GE113,$GU113,$HK113,$IA113,$IQ113,$JG113,$JW113,$KM113,$LC113,$LS113),"") -> 0.99009901 | AN113: =IFERROR((AB$4*AB113+AC$4*AC113+AD$4*AD113+AE$4*AE113+AF$4*AF113+AG$4*AG113+AH$4*AH113+AI$4*AI113+AJ$4*AJ113+AK$4*AK113)*AM113,"") -> 0.1980198 | AO113: Long term workers | AP113: 1 | AQ113: 3.5 | AR113: 1 | AS113: 0 | AT113: 0 | AU113: 0 | AV113: 0 | AW113: 0 | AX113: 0 | AY113: 0 | AZ113: 0 | BA113: 1 | BB113: =IFERROR(AVERAGE(AR113:BA113),"") -> 0.2 | BC113: =IFERROR(AQ113/SUM($AA113,$AQ113,$BG113,$BW113,$CM113,$DC113,$DS113,$EI113,$EY113,$FO113,$GE113,$GU113,$HK113,$IA113,$IQ113,$JG113,$JW113,$KM113,$LC113,$LS113),"") -> 0.0099009901 | BD113: =IFERROR((AR$4*AR113+AS$4*AS113+AT$4*AT113+AU$4*AU113+AV$4*AV113+AW$4*AW113+AX$4*AX113+AY$4*AY113+AZ$4*AZ113+BA$4*BA113)*BC113,"") -> 0.001980198
A114: 110 | D114: 184 | E114: ='BVEM Scorecard'!F113 -> Wind + Storage | F114: =X114 -> 0.2 | G114: =W114 -> 0.2 | H114: =IFERROR(SUM(AN114,BD114,BT114,CJ114,CZ114,DP114,EF114,EV114,FL114,GB114,GR114,HH114,HX114,IN114,JD114,JT114,KJ114,KZ114,LP114,MF114),0) -> 0.2 | I114: =IFERROR(SUM(AL114,BB114,BR114,CH114,CX114,DN114,ED114,ET114,FJ114,FZ114,GP114,HF114,HV114,IL114,JB114,JR114,KH114,KX114,LN114,MD114)/SUM(Z114,AP114,BF114,BV114,CL114,DB114,DR114,EH114,EX114,FN114,GD114,GT114,HJ114,HZ114,IP114,JF114,JV114,KL114,LB114,LR114),0) -> 0.2 | J114: 1 | K114: 1 | L114: 1 | M114: 1 | N114: 0 | O114: 0 | P114: 0 | Q114: 0 | R114: 0 | S114: 0 | T114: 0 | U114: 0 | V114: 1 | W114: =IFERROR(AVERAGE(M114:V114),0) -> 0.2 | X114: =M$4*M114+N$4*N114+O$4*O114+P$4*P114+Q$4*Q114+R$4*R114+S$4*S114+T$4*T114+U$4*U114+V$4*V114 -> 0.2 | Y114: Temporary construction | Z114: 1 | AA114: 275 | AB114: 1 | AC114: 0 | AD114: 0 | AE114: 0 | AF114: 0 | AG114: 0 | AH114: 0 | AI114: 0 | AJ114: 0 | AK114: 1 | AL114: =IFERROR(AVERAGE(AB114:AK114),"") -> 0.2 | AM114: =IFERROR(AA114/SUM($AA114,$AQ114,$BG114,$BW114,$CM114,$DC114,$DS114,$EI114,$EY114,$FO114,$GE114,$GU114,$HK114,$IA114,$IQ114,$JG114,$JW114,$KM114,$LC114,$LS114),"") -> 0.97345133 | AN114: =IFERROR((AB$4*AB114+AC$4*AC114+AD$4*AD114+AE$4*AE114+AF$4*AF114+AG$4*AG114+AH$4*AH114+AI$4*AI114+AJ$4*AJ114+AK$4*AK114)*AM114,"") -> 0.19469027 | AO114: Long term workers | AP114: 1 | AQ114: 7.5 | AR114: 1 | AS114: 0 | AT114: 0 | AU114: 0 | AV114: 0 | AW114: 0 | AX114: 0 | AY114: 0 | AZ114: 0 | BA114: 1 | BB114: =IFERROR(AVERAGE(AR114:BA114),"") -> 0.2 | BC114: =IFERROR(AQ114/SUM($AA114,$AQ114,$BG114,$BW114,$CM114,$DC114,$DS114,$EI114,$EY114,$FO114,$GE114,$GU114,$HK114,$IA114,$IQ114,$JG114,$JW114,$KM114,$LC114,$LS114),"") -> 0.026548673 | BD114: =IFERROR((AR$4*AR114+AS$4*AS114+AT$4*AT114+AU$4*AU114+AV$4*AV114+AW$4*AW114+AX$4*AX114+AY$4*AY114+AZ$4*AZ114+BA$4*BA114)*BC114,"") -> 0.0053097345
A115: 111 | D115: 191 | E115: ='BVEM Scorecard'!F114 -> Wind + Solar + Storage | F115: =X115 -> 0.2 | G115: =W115 -> 0.2 | H115: =IFERROR(SUM(AN115,BD115,BT115,CJ115,CZ115,DP115,EF115,EV115,FL115,GB115,GR115,HH115,HX115,IN115,JD115,JT115,KJ115,KZ115,LP115,MF115),0) -> 0.2 | I115: =IFERROR(SUM(AL115,BB115,BR115,CH115,CX115,DN115,ED115,ET115,FJ115,FZ115,GP115,HF115,HV115,IL115,JB115,JR115,KH115,KX115,LN115,MD115)/SUM(Z115,AP115,BF115,BV115,CL115,DB115,DR115,EH115,EX115,FN115,GD115,GT115,HJ115,HZ115,IP115,JF115,JV115,KL115,LB115,LR115),0) -> 0.2 | J115: 1 | K115: 1 | L115: 1 | M115: 1 | N115: 0 | O115: 0 | P115: 0 | Q115: 0 | R115: 0 | S115: 0 | T115: 0 | U115: 0 | V115: 1 | W115: =IFERROR(AVERAGE(M115:V115),0) -> 0.2 | X115: =M$4*M115+N$4*N115+O$4*O115+P$4*P115+Q$4*Q115+R$4*R115+S$4*S115+T$4*T115+U$4*U115+V$4*V115 -> 0.2 | Y115: Temporary construction | Z115: 1 | AA115: 275 | AB115: 1 | AC115: 0 | AD115: 0 | AE115: 0 | AF115: 0 | AG115: 0 | AH115: 0 | AI115: 0 | AJ115: 0 | AK115: 1 | AL115: =IFERROR(AVERAGE(AB115:AK115),"") -> 0.2 | AM115: =IFERROR(AA115/SUM($AA115,$AQ115,$BG115,$BW115,$CM115,$DC115,$DS115,$EI115,$EY115,$FO115,$GE115,$GU115,$HK115,$IA115,$IQ115,$JG115,$JW115,$KM115,$LC115,$LS115),"") -> 0.97345133 | AN115: =IFERROR((AB$4*AB115+AC$4*AC115+AD$4*AD115+AE$4*AE115+AF$4*AF115+AG$4*AG115+AH$4*AH115+AI$4*AI115+AJ$4*AJ115+AK$4*AK115)*AM115,"") -> 0.19469027 | AO115: Long term workers | AP115: 1 | AQ115: 7.5 | AR115: 1 | AS115: 0 | AT115: 0 | AU115: 0 | AV115: 0 | AW115: 0 | AX115: 0 | AY115: 0 | AZ115: 0 | BA115: 1 | BB115: =IFERROR(AVERAGE(AR115:BA115),"") -> 0.2 | BC115: =IFERROR(AQ115/SUM($AA115,$AQ115,$BG115,$BW115,$CM115,$DC115,$DS115,$EI115,$EY115,$FO115,$GE115,$GU115,$HK115,$IA115,$IQ115,$JG115,$JW115,$KM115,$LC115,$LS115),"") -> 0.026548673 | BD115: =IFERROR((AR$4*AR115+AS$4*AS115+AT$4*AT115+AU$4*AU115+AV$4*AV115+AW$4*AW115+AX$4*AX115+AY$4*AY115+AZ$4*AZ115+BA$4*BA115)*BC115,"") -> 0.0053097345
A116: 112 | D116: 196 | E116: ='BVEM Scorecard'!F115 -> Wind + Storage | F116: =X116 -> 0.2 | G116: =W116 -> 0.2 | H116: =IFERROR(SUM(AN116,BD116,BT116,CJ116,CZ116,DP116,EF116,EV116,FL116,GB116,GR116,HH116,HX116,IN116,JD116,JT116,KJ116,KZ116,LP116,MF116),0) -> 0.2 | I116: =IFERROR(SUM(AL116,BB116,BR116,CH116,CX116,DN116,ED116,ET116,FJ116,FZ116,GP116,HF116,HV116,IL116,JB116,JR116,KH116,KX116,LN116,MD116)/SUM(Z116,AP116,BF116,BV116,CL116,DB116,DR116,EH116,EX116,FN116,GD116,GT116,HJ116,HZ116,IP116,JF116,JV116,KL116,LB116,LR116),0) -> 0.2 | J116: 1 | K116: 1 | L116: 1 | M116: 1 | N116: 0 | O116: 0 | P116: 0 | Q116: 0 | R116: 0 | S116: 0 | T116: 0 | U116: 0 | V116: 1 | W116: =IFERROR(AVERAGE(M116:V116),0) -> 0.2 | X116: =M$4*M116+N$4*N116+O$4*O116+P$4*P116+Q$4*Q116+R$4*R116+S$4*S116+T$4*T116+U$4*U116+V$4*V116 -> 0.2 | Y116: Temporary construction | Z116: 1 | AA116: 275 | AB116: 1 | AC116: 0 | AD116: 0 | AE116: 0 | AF116: 0 | AG116: 0 | AH116: 0 | AI116: 0 | AJ116: 0 | AK116: 1 | AL116: =IFERROR(AVERAGE(AB116:AK116),"") -> 0.2 | AM116: =IFERROR(AA116/SUM($AA116,$AQ116,$BG116,$BW116,$CM116,$DC116,$DS116,$EI116,$EY116,$FO116,$GE116,$GU116,$HK116,$IA116,$IQ116,$JG116,$JW116,$KM116,$LC116,$LS116),"") -> 0.97345133 | AN116: =IFERROR((AB$4*AB116+AC$4*AC116+AD$4*AD116+AE$4*AE116+AF$4*AF116+AG$4*AG116+AH$4*AH116+AI$4*AI116+AJ$4*AJ116+AK$4*AK116)*AM116,"") -> 0.19469027 | AO116: Long term workers | AP116: 1 | AQ116: 7.5 | AR116: 1 | AS116: 0 | AT116: 0 | AU116: 0 | AV116: 0 | AW116: 0 | AX116: 0 | AY116: 0 | AZ116: 0 | BA116: 1 | BB116: =IFERROR(AVERAGE(AR116:BA116),"") -> 0.2 | BC116: =IFERROR(AQ116/SUM($AA116,$AQ116,$BG116,$BW116,$CM116,$DC116,$DS116,$EI116,$EY116,$FO116,$GE116,$GU116,$HK116,$IA116,$IQ116,$JG116,$JW116,$KM116,$LC116,$LS116),"") -> 0.026548673 | BD116: =IFERROR((AR$4*AR116+AS$4*AS116+AT$4*AT116+AU$4*AU116+AV$4*AV116+AW$4*AW116+AX$4*AX116+AY$4*AY116+AZ$4*AZ116+BA$4*BA116)*BC116,"") -> 0.0053097345
A117: 113 | D117: 204 | E117: ='BVEM Scorecard'!F116 -> Wind + Solar + Storage | F117: =X117 -> 0.2 | G117: =W117 -> 0.2 | H117: =IFERROR(SUM(AN117,BD117,BT117,CJ117,CZ117,DP117,EF117,EV117,FL117,GB117,GR117,HH117,HX117,IN117,JD117,JT117,KJ117,KZ117,LP117,MF117),0) -> 0.2 | I117: =IFERROR(SUM(AL117,BB117,BR117,CH117,CX117,DN117,ED117,ET117,FJ117,FZ117,GP117,HF117,HV117,IL117,JB117,JR117,KH117,KX117,LN117,MD117)/SUM(Z117,AP117,BF117,BV117,CL117,DB117,DR117,EH117,EX117,FN117,GD117,GT117,HJ117,HZ117,IP117,JF117,JV117,KL117,LB117,LR117),0) -> 0.2 | J117: 1 | K117: 1 | L117: 1 | M117: 1 | N117: 0 | O117: 0 | P117: 0 | Q117: 0 | R117: 0 | S117: 0 | T117: 0 | U117: 0 | V117: 1 | W117: =IFERROR(AVERAGE(M117:V117),0) -> 0.2 | X117: =M$4*M117+N$4*N117+O$4*O117+P$4*P117+Q$4*Q117+R$4*R117+S$4*S117+T$4*T117+U$4*U117+V$4*V117 -> 0.2 | Y117: Temporary construction | Z117: 1 | AA117: 275 | AB117: 1 | AC117: 0 | AD117: 0 | AE117: 0 | AF117: 0 | AG117: 0 | AH117: 0 | AI117: 0 | AJ117: 0 | AK117: 1 | AL117: =IFERROR(AVERAGE(AB117:AK117),"") -> 0.2 | AM117: =IFERROR(AA117/SUM($AA117,$AQ117,$BG117,$BW117,$CM117,$DC117,$DS117,$EI117,$EY117,$FO117,$GE117,$GU117,$HK117,$IA117,$IQ117,$JG117,$JW117,$KM117,$LC117,$LS117),"") -> 0.97345133 | AN117: =IFERROR((AB$4*AB117+AC$4*AC117+AD$4*AD117+AE$4*AE117+AF$4*AF117+AG$4*AG117+AH$4*AH117+AI$4*AI117+AJ$4*AJ117+AK$4*AK117)*AM117,"") -> 0.19469027 | AO117: Long term workers | AP117: 1 | AQ117: 7.5 | AR117: 1 | AS117: 0 | AT117: 0 | AU117: 0 | AV117: 0 | AW117: 0 | AX117: 0 | AY117: 0 | AZ117: 0 | BA117: 1 | BB117: =IFERROR(AVERAGE(AR117:BA117),"") -> 0.2 | BC117: =IFERROR(AQ117/SUM($AA117,$AQ117,$BG117,$BW117,$CM117,$DC117,$DS117,$EI117,$EY117,$FO117,$GE117,$GU117,$HK117,$IA117,$IQ117,$JG117,$JW117,$KM117,$LC117,$LS117),"") -> 0.026548673 | BD117: =IFERROR((AR$4*AR117+AS$4*AS117+AT$4*AT117+AU$4*AU117+AV$4*AV117+AW$4*AW117+AX$4*AX117+AY$4*AY117+AZ$4*AZ117+BA$4*BA117)*BC117,"") -> 0.0053097345
A118: 114 | D118: 217 | E118: ='BVEM Scorecard'!F117 -> Solar + Storage | F118: =X118 -> 0.1 | G118: =W118 -> 0.1 | H118: =IFERROR(SUM(AN118,BD118,BT118,CJ118,CZ118,DP118,EF118,EV118,FL118,GB118,GR118,HH118,HX118,IN118,JD118,JT118,KJ118,KZ118,LP118,MF118),0) -> 0 | I118: =IFERROR(SUM(AL118,BB118,BR118,CH118,CX118,DN118,ED118,ET118,FJ118,FZ118,GP118,HF118,HV118,IL118,JB118,JR118,KH118,KX118,LN118,MD118)/SUM(Z118,AP118,BF118,BV118,CL118,DB118,DR118,EH118,EX118,FN118,GD118,GT118,HJ118,HZ118,IP118,JF118,JV118,KL118,LB118,LR118),0) -> 0 | J118: 0 | K118: 1 | L118: 0 | M118: 0 | N118: 0 | O118: 0 | P118: 0 | Q118: 0 | R118: 0 | S118: 0 | T118: 0 | U118: 0 | V118: 1 | W118: =IFERROR(AVERAGE(M118:V118),0) -> 0.1 | X118: =M$4*M118+N$4*N118+O$4*O118+P$4*P118+Q$4*Q118+R$4*R118+S$4*S118+T$4*T118+U$4*U118+V$4*V118 -> 0.1 | AL118: =IFERROR(AVERAGE(AB118:AK118),"") | AM118: =IFERROR(AA118/SUM($AA118,$AQ118,$BG118,$BW118,$CM118,$DC118,$DS118,$EI118,$EY118,$FO118,$GE118,$GU118,$HK118,$IA118,$IQ118,$JG118,$JW118,$KM118,$LC118,$LS118),"") | AN118: =IFERROR((AB$4*AB118+AC$4*AC118+AD$4*AD118+AE$4*AE118+AF$4*AF118+AG$4*AG118+AH$4*AH118+AI$4*AI118+AJ$4*AJ118+AK$4*AK118)*AM118,"") | BC118: =IFERROR(AQ118/SUM($AA118,$AQ118,$BG118,$BW118,$CM118,$DC118,$DS118,$EI118,$EY118,$FO118,$GE118,$GU118,$HK118,$IA118,$IQ118,$JG118,$JW118,$KM118,$LC118,$LS118),"") | BD118: =IFERROR((AR$4*AR118+AS$4*AS118+AT$4*AT118+AU$4*AU118+AV$4*AV118+AW$4*AW118+AX$4*AX118+AY$4*AY118+AZ$4*AZ118+BA$4*BA118)*BC118,"")
